BEGIN:VCALENDAR
VERSION:2.0
PRODID:-//DRV1880 - ECPv6.15.20//NONSGML v1.0//EN
CALSCALE:GREGORIAN
METHOD:PUBLISH
X-WR-CALNAME:DRV1880
X-ORIGINAL-URL:https://drv1880.de
X-WR-CALDESC:Veranstaltungen für DRV1880
REFRESH-INTERVAL;VALUE=DURATION:PT1H
X-Robots-Tag:noindex
X-PUBLISHED-TTL:PT1H
BEGIN:VTIMEZONE
TZID:Europe/Berlin
BEGIN:DAYLIGHT
TZOFFSETFROM:+0100
TZOFFSETTO:+0200
TZNAME:CEST
DTSTART:20230326T010000
END:DAYLIGHT
BEGIN:STANDARD
TZOFFSETFROM:+0200
TZOFFSETTO:+0100
TZNAME:CET
DTSTART:20231029T010000
END:STANDARD
BEGIN:DAYLIGHT
TZOFFSETFROM:+0100
TZOFFSETTO:+0200
TZNAME:CEST
DTSTART:20240331T010000
END:DAYLIGHT
BEGIN:STANDARD
TZOFFSETFROM:+0200
TZOFFSETTO:+0100
TZNAME:CET
DTSTART:20241027T010000
END:STANDARD
BEGIN:DAYLIGHT
TZOFFSETFROM:+0100
TZOFFSETTO:+0200
TZNAME:CEST
DTSTART:20250330T010000
END:DAYLIGHT
BEGIN:STANDARD
TZOFFSETFROM:+0200
TZOFFSETTO:+0100
TZNAME:CET
DTSTART:20251026T010000
END:STANDARD
END:VTIMEZONE
BEGIN:VEVENT
DTSTART;VALUE=DATE:20240426
DTEND;VALUE=DATE:20240429
DTSTAMP:20260424T211246
CREATED:20240305T161014Z
LAST-MODIFIED:20240305T161642Z
UID:105761-1714089600-1714348799@drv1880.de
SUMMARY:Jugend Kick-Off-Kurs in Dorsten
DESCRIPTION:Am Wochenende vom 26.04.-28.04.24 wollen wir mit euch einen Kick-off Kurs\, Ruderausbildung beim Ruderverein Dorsten veranstalten\,\ninkl. 2 Übernachtungen mit Isomatte und Schlafsack. \n\nSammeln von Rudererfahrung\nGemeinsames Grillen\nSpiele zum Kennlernen\nSpaß\n\nVoraussichtlicher Unkostenbeitrag für das Wochenende in Dorsten 50 €. \nAnmeldung und weitere Informationen: HIER
URL:https://drv1880.de/event/jugen-kick-off-kurs-in-dorsten/
CATEGORIES:Event,Jugend
END:VEVENT
END:VCALENDAR