BEGIN:VCALENDAR
VERSION:2.0
PRODID:-//DRV1880 - ECPv6.15.20//NONSGML v1.0//EN
CALSCALE:GREGORIAN
METHOD:PUBLISH
X-WR-CALNAME:DRV1880
X-ORIGINAL-URL:https://drv1880.de
X-WR-CALDESC:Veranstaltungen für DRV1880
REFRESH-INTERVAL;VALUE=DURATION:PT1H
X-Robots-Tag:noindex
X-PUBLISHED-TTL:PT1H
BEGIN:VTIMEZONE
TZID:Europe/Berlin
BEGIN:DAYLIGHT
TZOFFSETFROM:+0100
TZOFFSETTO:+0200
TZNAME:CEST
DTSTART:20230326T010000
END:DAYLIGHT
BEGIN:STANDARD
TZOFFSETFROM:+0200
TZOFFSETTO:+0100
TZNAME:CET
DTSTART:20231029T010000
END:STANDARD
BEGIN:DAYLIGHT
TZOFFSETFROM:+0100
TZOFFSETTO:+0200
TZNAME:CEST
DTSTART:20240331T010000
END:DAYLIGHT
BEGIN:STANDARD
TZOFFSETFROM:+0200
TZOFFSETTO:+0100
TZNAME:CET
DTSTART:20241027T010000
END:STANDARD
BEGIN:DAYLIGHT
TZOFFSETFROM:+0100
TZOFFSETTO:+0200
TZNAME:CEST
DTSTART:20250330T010000
END:DAYLIGHT
BEGIN:STANDARD
TZOFFSETFROM:+0200
TZOFFSETTO:+0100
TZNAME:CET
DTSTART:20251026T010000
END:STANDARD
END:VTIMEZONE
BEGIN:VEVENT
DTSTART;TZID=Europe/Berlin:20240420T140000
DTEND;TZID=Europe/Berlin:20240420T160000
DTSTAMP:20260424T211347
CREATED:20240305T162145Z
LAST-MODIFIED:20240305T162145Z
UID:105769-1713621600-1713628800@drv1880.de
SUMMARY:Jugend-Kennenlernnachmittag im DRV1880
DESCRIPTION:Wir laden interessierte Jugendliche ab 12 Jahren und deren Eltern zu einem Kennenlernnachmittag in den Düsseldorfer Ruderverein 1880 e.V. ein.\nAm 20.04.24  um 14 Uhr\, Fährstr. 253b in 40221 Düsseldorf-Hamm. \n\nVorstellung des Teams\nRundgang durch das Vereinshaus und kleine Bootskunde\nTrockenübungen auf dem Ergometer
URL:https://drv1880.de/event/jugend-kennenlernnachmittag-im-drv1880/
CATEGORIES:Jugend
END:VEVENT
END:VCALENDAR