BEGIN:VCALENDAR
VERSION:2.0
PRODID:-//DRV1880 - ECPv6.15.20//NONSGML v1.0//EN
CALSCALE:GREGORIAN
METHOD:PUBLISH
X-WR-CALNAME:DRV1880
X-ORIGINAL-URL:https://drv1880.de
X-WR-CALDESC:Veranstaltungen für DRV1880
REFRESH-INTERVAL;VALUE=DURATION:PT1H
X-Robots-Tag:noindex
X-PUBLISHED-TTL:PT1H
BEGIN:VTIMEZONE
TZID:Europe/Berlin
BEGIN:DAYLIGHT
TZOFFSETFROM:+0100
TZOFFSETTO:+0200
TZNAME:CEST
DTSTART:20230326T010000
END:DAYLIGHT
BEGIN:STANDARD
TZOFFSETFROM:+0200
TZOFFSETTO:+0100
TZNAME:CET
DTSTART:20231029T010000
END:STANDARD
BEGIN:DAYLIGHT
TZOFFSETFROM:+0100
TZOFFSETTO:+0200
TZNAME:CEST
DTSTART:20240331T010000
END:DAYLIGHT
BEGIN:STANDARD
TZOFFSETFROM:+0200
TZOFFSETTO:+0100
TZNAME:CET
DTSTART:20241027T010000
END:STANDARD
BEGIN:DAYLIGHT
TZOFFSETFROM:+0100
TZOFFSETTO:+0200
TZNAME:CEST
DTSTART:20250330T010000
END:DAYLIGHT
BEGIN:STANDARD
TZOFFSETFROM:+0200
TZOFFSETTO:+0100
TZNAME:CET
DTSTART:20251026T010000
END:STANDARD
END:VTIMEZONE
BEGIN:VEVENT
DTSTART;TZID=Europe/Berlin:20240425T190000
DTEND;TZID=Europe/Berlin:20240425T220000
DTSTAMP:20260424T210958
CREATED:20240119T201654Z
LAST-MODIFIED:20240407T192305Z
UID:101628-1714071600-1714082400@drv1880.de
SUMMARY:Sundownerstag
DESCRIPTION:An diesem Donnerstag werfen wir das erste Mal den Grill an. Wie gewohnt wird um 18 Uhr gerudert und ab ca. 20 Uhr gibt es Würstchen & Co. \nBitte meldet euch wie gewohnt bis drei Tage vorher bei Christiane unter gastro@drv1880.de an! \nGrillwurst im knusprigen Brötchen 3\,50€\nGrillkäse im knusprigen Brötchen 3\,50€\nGemüsepäckchen mit Paprika\, Zwiebel\, Feta\, Knoblauch und Olivenöl 3\,50€\nSalat vom großen bunten Salatbuffet 5\,00€\n( ital. Nudelsalat\, Kartoffelsalat mit und ohne Speck\, thailändischer Möhrensalat mit Sesam und\nCashew\, Krautsalat\, Bauernsalat\, Tzatziki)\nMarshmallows
URL:https://drv1880.de/event/sundownerstag/
LOCATION:Ökonomie DRV
CATEGORIES:Event,Vereinsabend
END:VEVENT
END:VCALENDAR