BEGIN:VCALENDAR
VERSION:2.0
PRODID:-//DRV1880 - ECPv6.15.20//NONSGML v1.0//EN
CALSCALE:GREGORIAN
METHOD:PUBLISH
X-WR-CALNAME:DRV1880
X-ORIGINAL-URL:https://drv1880.de
X-WR-CALDESC:Veranstaltungen für DRV1880
REFRESH-INTERVAL;VALUE=DURATION:PT1H
X-Robots-Tag:noindex
X-PUBLISHED-TTL:PT1H
BEGIN:VTIMEZONE
TZID:Europe/Berlin
BEGIN:DAYLIGHT
TZOFFSETFROM:+0100
TZOFFSETTO:+0200
TZNAME:CEST
DTSTART:20230326T010000
END:DAYLIGHT
BEGIN:STANDARD
TZOFFSETFROM:+0200
TZOFFSETTO:+0100
TZNAME:CET
DTSTART:20231029T010000
END:STANDARD
BEGIN:DAYLIGHT
TZOFFSETFROM:+0100
TZOFFSETTO:+0200
TZNAME:CEST
DTSTART:20240331T010000
END:DAYLIGHT
BEGIN:STANDARD
TZOFFSETFROM:+0200
TZOFFSETTO:+0100
TZNAME:CET
DTSTART:20241027T010000
END:STANDARD
BEGIN:DAYLIGHT
TZOFFSETFROM:+0100
TZOFFSETTO:+0200
TZNAME:CEST
DTSTART:20250330T010000
END:DAYLIGHT
BEGIN:STANDARD
TZOFFSETFROM:+0200
TZOFFSETTO:+0100
TZNAME:CET
DTSTART:20251026T010000
END:STANDARD
END:VTIMEZONE
BEGIN:VEVENT
DTSTART;TZID=Europe/Berlin:20240430T190000
DTEND;TZID=Europe/Berlin:20240430T190000
DTSTAMP:20260424T211049
CREATED:20240308T114515Z
LAST-MODIFIED:20240407T191611Z
UID:106342-1714503600-1714503600@drv1880.de
SUMMARY:Tanz in den Mai - Vereinsabend
DESCRIPTION:Am letzten Dienstag im April möchten wir mit Euch aus dem April rudern und in den Mai tanzen. Deswegen wirft Christiane wieder den Grill für uns an. Wir rudern wie gewohnt um 17 Uhr ab Bootshof und treffen uns anschließend auf der schönsten Terrasse am Rhein. Speichert Eure Mai-Playlists – wir holen die „Boombox“ hoch.\nGrillwurst im knusprigen Brötchen 3\,50 €\nGrillkäse im knusprigen Brötchen 3\,50 €\nGemüsepäckchen mit Paprika\, Zwiebel\, Feta\, Knoblauch und Olivenöl 3\,50 €\nSalat vom grossen bunten Salatbuffet 5\,00 €\n( ital. Nudelsalat\, Kartoffelsalat mit und ohne Speck\, thailändischer Möhrensalat mit Sesam und Cashew\, Krautsalat\, Bauernsalat\, Tzatziki)\nMarshmallows\nAnmeldungen unter: gastro@drv1880.de
URL:https://drv1880.de/event/vereinsabend-51/
CATEGORIES:Vereinsabend
END:VEVENT
END:VCALENDAR