BEGIN:VCALENDAR
VERSION:2.0
PRODID:-//DRV1880 - ECPv6.15.20//NONSGML v1.0//EN
CALSCALE:GREGORIAN
METHOD:PUBLISH
X-ORIGINAL-URL:https://drv1880.de
X-WR-CALDESC:Veranstaltungen für DRV1880
REFRESH-INTERVAL;VALUE=DURATION:PT1H
X-Robots-Tag:noindex
X-PUBLISHED-TTL:PT1H
BEGIN:VTIMEZONE
TZID:Europe/Berlin
BEGIN:DAYLIGHT
TZOFFSETFROM:+0100
TZOFFSETTO:+0200
TZNAME:CEST
DTSTART:20230326T010000
END:DAYLIGHT
BEGIN:STANDARD
TZOFFSETFROM:+0200
TZOFFSETTO:+0100
TZNAME:CET
DTSTART:20231029T010000
END:STANDARD
BEGIN:DAYLIGHT
TZOFFSETFROM:+0100
TZOFFSETTO:+0200
TZNAME:CEST
DTSTART:20240331T010000
END:DAYLIGHT
BEGIN:STANDARD
TZOFFSETFROM:+0200
TZOFFSETTO:+0100
TZNAME:CET
DTSTART:20241027T010000
END:STANDARD
BEGIN:DAYLIGHT
TZOFFSETFROM:+0100
TZOFFSETTO:+0200
TZNAME:CEST
DTSTART:20250330T010000
END:DAYLIGHT
BEGIN:STANDARD
TZOFFSETFROM:+0200
TZOFFSETTO:+0100
TZNAME:CET
DTSTART:20251026T010000
END:STANDARD
END:VTIMEZONE
BEGIN:VEVENT
DTSTART;VALUE=DATE:20240305
DTEND;VALUE=DATE:20240317
DTSTAMP:20260425T143150
CREATED:20240305T165836Z
LAST-MODIFIED:20240305T171831Z
UID:105789-1709596800-1710633599@drv1880.de
SUMMARY:Werkstatt: Dino
DESCRIPTION:
URL:https://drv1880.de/event/werkstatt/
CATEGORIES:DINO
END:VEVENT
BEGIN:VEVENT
DTSTART;VALUE=DATE:20240306
DTEND;VALUE=DATE:20240317
DTSTAMP:20260425T143150
CREATED:20240305T165910Z
LAST-MODIFIED:20240305T172057Z
UID:105791-1709683200-1710633599@drv1880.de
SUMMARY:Werkstatt
DESCRIPTION:
URL:https://drv1880.de/event/werkstatt-2/
CATEGORIES:großer Anhänger
END:VEVENT
BEGIN:VEVENT
DTSTART;TZID=Europe/Berlin:20240316T140000
DTEND;TZID=Europe/Berlin:20240316T190000
DTSTAMP:20260425T143150
CREATED:20240125T203454Z
LAST-MODIFIED:20240315T150712Z
UID:101653-1710597600-1710615600@drv1880.de
SUMMARY:Angrillen auf der schönsten Terrasse am Rhein
DESCRIPTION:
URL:https://drv1880.de/event/angrillen-auf-der-schoensten-terrasse-am-rhein/
LOCATION:Ökonomie DRV
CATEGORIES:Event,Rudern
END:VEVENT
END:VCALENDAR