BEGIN:VCALENDAR
VERSION:2.0
PRODID:-//DRV1880 - ECPv6.15.20//NONSGML v1.0//EN
CALSCALE:GREGORIAN
METHOD:PUBLISH
X-ORIGINAL-URL:https://drv1880.de
X-WR-CALDESC:Veranstaltungen für DRV1880
REFRESH-INTERVAL;VALUE=DURATION:PT1H
X-Robots-Tag:noindex
X-PUBLISHED-TTL:PT1H
BEGIN:VTIMEZONE
TZID:Europe/Berlin
BEGIN:DAYLIGHT
TZOFFSETFROM:+0100
TZOFFSETTO:+0200
TZNAME:CEST
DTSTART:20230326T010000
END:DAYLIGHT
BEGIN:STANDARD
TZOFFSETFROM:+0200
TZOFFSETTO:+0100
TZNAME:CET
DTSTART:20231029T010000
END:STANDARD
BEGIN:DAYLIGHT
TZOFFSETFROM:+0100
TZOFFSETTO:+0200
TZNAME:CEST
DTSTART:20240331T010000
END:DAYLIGHT
BEGIN:STANDARD
TZOFFSETFROM:+0200
TZOFFSETTO:+0100
TZNAME:CET
DTSTART:20241027T010000
END:STANDARD
BEGIN:DAYLIGHT
TZOFFSETFROM:+0100
TZOFFSETTO:+0200
TZNAME:CEST
DTSTART:20250330T010000
END:DAYLIGHT
BEGIN:STANDARD
TZOFFSETFROM:+0200
TZOFFSETTO:+0100
TZNAME:CET
DTSTART:20251026T010000
END:STANDARD
END:VTIMEZONE
BEGIN:VEVENT
DTSTART;VALUE=DATE:20240527
DTEND;VALUE=DATE:20240602
DTSTAMP:20260425T062314
CREATED:20240527T075457Z
LAST-MODIFIED:20250113T082346Z
UID:107460-1716768000-1717286399@drv1880.de
SUMMARY:Friesland\, Weissmann
DESCRIPTION:
URL:https://drv1880.de/event/friesland-weissmann-6/
CATEGORIES:Fuhrpark,kleiner Anhänger
END:VEVENT
BEGIN:VEVENT
DTSTART;VALUE=DATE:20240528
DTEND;VALUE=DATE:20240603
DTSTAMP:20260425T062314
CREATED:20240305T170915Z
LAST-MODIFIED:20240305T170915Z
UID:105819-1716854400-1717372799@drv1880.de
SUMMARY:JMO
DESCRIPTION:
URL:https://drv1880.de/event/jmo/
CATEGORIES:DINO
END:VEVENT
BEGIN:VEVENT
DTSTART;VALUE=DATE:20240528
DTEND;VALUE=DATE:20240603
DTSTAMP:20260425T062314
CREATED:20240305T170940Z
LAST-MODIFIED:20240305T170940Z
UID:105821-1716854400-1717372799@drv1880.de
SUMMARY:JMO
DESCRIPTION:
URL:https://drv1880.de/event/jmo-2/
CATEGORIES:großer Anhänger
END:VEVENT
BEGIN:VEVENT
DTSTART;TZID=Europe/Berlin:20240528T180000
DTEND;TZID=Europe/Berlin:20240528T210000
DTSTAMP:20260425T062314
CREATED:20240308T114529Z
LAST-MODIFIED:20240505T185212Z
UID:106346-1716919200-1716930000@drv1880.de
SUMMARY:Vereinsabend
DESCRIPTION:Gemütliches Beisammensein mit wöchentlich wechselndem Speisenangebot. \nDienstag\, den 28.Mai:\nsüßer gefüllter Pfannkuchen mit Quark\, Äpfeln und Rosinen 9\,50€\nherzhaft gefüllter Pfannkuchen mit Pilzrahm\, Thymian und Speck 12\,50€\nSalat:\ngem. Salat klein 4\,50€\ngem. Salat gross 11\,50€\nGebratene Puten- oder Hähnchenbrust 4\,50€\nBrot und Sourcream Dip 4\,50€\nAnmeldung unter gastro@drv1880.de bis zum 25. Mai \n  \n  \n  \n 
URL:https://drv1880.de/event/vereinsabend-55/
CATEGORIES:Vereinsabend
END:VEVENT
END:VCALENDAR