BEGIN:VCALENDAR
VERSION:2.0
PRODID:-//DRV1880 - ECPv6.15.20//NONSGML v1.0//EN
CALSCALE:GREGORIAN
METHOD:PUBLISH
X-ORIGINAL-URL:https://drv1880.de
X-WR-CALDESC:Veranstaltungen für DRV1880
REFRESH-INTERVAL;VALUE=DURATION:PT1H
X-Robots-Tag:noindex
X-PUBLISHED-TTL:PT1H
BEGIN:VTIMEZONE
TZID:Europe/Berlin
BEGIN:DAYLIGHT
TZOFFSETFROM:+0100
TZOFFSETTO:+0200
TZNAME:CEST
DTSTART:20230326T010000
END:DAYLIGHT
BEGIN:STANDARD
TZOFFSETFROM:+0200
TZOFFSETTO:+0100
TZNAME:CET
DTSTART:20231029T010000
END:STANDARD
BEGIN:DAYLIGHT
TZOFFSETFROM:+0100
TZOFFSETTO:+0200
TZNAME:CEST
DTSTART:20240331T010000
END:DAYLIGHT
BEGIN:STANDARD
TZOFFSETFROM:+0200
TZOFFSETTO:+0100
TZNAME:CET
DTSTART:20241027T010000
END:STANDARD
BEGIN:DAYLIGHT
TZOFFSETFROM:+0100
TZOFFSETTO:+0200
TZNAME:CEST
DTSTART:20250330T010000
END:DAYLIGHT
BEGIN:STANDARD
TZOFFSETFROM:+0200
TZOFFSETTO:+0100
TZNAME:CET
DTSTART:20251026T010000
END:STANDARD
END:VTIMEZONE
BEGIN:VEVENT
DTSTART;VALUE=DATE:20240921
DTEND;VALUE=DATE:20240922
DTSTAMP:20260424T222131
CREATED:20240320T201925Z
LAST-MODIFIED:20240320T201925Z
UID:107069-1726876800-1726963199@drv1880.de
SUMMARY:Wanderrudertreffen in Regensburg
DESCRIPTION:
URL:https://drv1880.de/event/wanderrudertreffen-in-regensburg/
CATEGORIES:Event extern
END:VEVENT
BEGIN:VEVENT
DTSTART;VALUE=DATE:20240921
DTEND;VALUE=DATE:20240923
DTSTAMP:20260424T222131
CREATED:20240818T104027Z
LAST-MODIFIED:20240818T104027Z
UID:107574-1726876800-1727049599@drv1880.de
SUMMARY:Osterloh
DESCRIPTION:
URL:https://drv1880.de/event/osterloh/
CATEGORIES:kleiner Anhänger
END:VEVENT
BEGIN:VEVENT
DTSTART;TZID=Europe/Berlin:20240921T100000
DTEND;TZID=Europe/Berlin:20240921T150000
DTSTAMP:20260424T222131
CREATED:20240320T201810Z
LAST-MODIFIED:20240320T201810Z
UID:107066-1726912800-1726930800@drv1880.de
SUMMARY:Hausputz
DESCRIPTION:
URL:https://drv1880.de/event/hausputz-3/
LOCATION:Bootshaus\, Düsseldorf\, 40239
CATEGORIES:Sonstiges
END:VEVENT
END:VCALENDAR