BEGIN:VCALENDAR
VERSION:2.0
PRODID:-//DRV1880 - ECPv6.15.20//NONSGML v1.0//EN
CALSCALE:GREGORIAN
METHOD:PUBLISH
X-ORIGINAL-URL:https://drv1880.de
X-WR-CALDESC:Veranstaltungen für DRV1880
REFRESH-INTERVAL;VALUE=DURATION:PT1H
X-Robots-Tag:noindex
X-PUBLISHED-TTL:PT1H
BEGIN:VTIMEZONE
TZID:Europe/Berlin
BEGIN:DAYLIGHT
TZOFFSETFROM:+0100
TZOFFSETTO:+0200
TZNAME:CEST
DTSTART:20230326T010000
END:DAYLIGHT
BEGIN:STANDARD
TZOFFSETFROM:+0200
TZOFFSETTO:+0100
TZNAME:CET
DTSTART:20231029T010000
END:STANDARD
BEGIN:DAYLIGHT
TZOFFSETFROM:+0100
TZOFFSETTO:+0200
TZNAME:CEST
DTSTART:20240331T010000
END:DAYLIGHT
BEGIN:STANDARD
TZOFFSETFROM:+0200
TZOFFSETTO:+0100
TZNAME:CET
DTSTART:20241027T010000
END:STANDARD
BEGIN:DAYLIGHT
TZOFFSETFROM:+0100
TZOFFSETTO:+0200
TZNAME:CEST
DTSTART:20250330T010000
END:DAYLIGHT
BEGIN:STANDARD
TZOFFSETFROM:+0200
TZOFFSETTO:+0100
TZNAME:CET
DTSTART:20251026T010000
END:STANDARD
END:VTIMEZONE
BEGIN:VEVENT
DTSTART;TZID=Europe/Berlin:20241108T180000
DTEND;TZID=Europe/Berlin:20241108T233000
DTSTAMP:20260424T192017
CREATED:20241103T192411Z
LAST-MODIFIED:20241103T192412Z
UID:107713-1731088800-1731108600@drv1880.de
SUMMARY:Damenabend im DRV 2.0
DESCRIPTION:Beginn: ab 18:00 Gastronomie\, 19:30 Uhr Essen \nSpeisenauswahl: \nLachs mit Pistazienkruste und Zitronenrisotto – 16\,50 € \nRisotto mit buntem Gemüse\, Parmesanhobel und Balsamico – 9\,50 € \nOchsenbäckchen\, Spätzle und Rotwein- Rotkohl – 16\,50 € \nDessert: Mousse au Chocolat – 4\,50 € \nAnmeldung noch möglich mit Essensauswahl an: sonja.oebbeke@hotmail.d
URL:https://drv1880.de/event/damenabend-im-drv-2-0/
LOCATION:Ökonomie DRV
CATEGORIES:Event
END:VEVENT
END:VCALENDAR