BEGIN:VCALENDAR
VERSION:2.0
PRODID:-//DRV1880 - ECPv6.15.20//NONSGML v1.0//EN
CALSCALE:GREGORIAN
METHOD:PUBLISH
X-ORIGINAL-URL:https://drv1880.de
X-WR-CALDESC:Veranstaltungen für DRV1880
REFRESH-INTERVAL;VALUE=DURATION:PT1H
X-Robots-Tag:noindex
X-PUBLISHED-TTL:PT1H
BEGIN:VTIMEZONE
TZID:Europe/Berlin
BEGIN:DAYLIGHT
TZOFFSETFROM:+0100
TZOFFSETTO:+0200
TZNAME:CEST
DTSTART:20230326T010000
END:DAYLIGHT
BEGIN:STANDARD
TZOFFSETFROM:+0200
TZOFFSETTO:+0100
TZNAME:CET
DTSTART:20231029T010000
END:STANDARD
BEGIN:DAYLIGHT
TZOFFSETFROM:+0100
TZOFFSETTO:+0200
TZNAME:CEST
DTSTART:20240331T010000
END:DAYLIGHT
BEGIN:STANDARD
TZOFFSETFROM:+0200
TZOFFSETTO:+0100
TZNAME:CET
DTSTART:20241027T010000
END:STANDARD
BEGIN:DAYLIGHT
TZOFFSETFROM:+0100
TZOFFSETTO:+0200
TZNAME:CEST
DTSTART:20250330T010000
END:DAYLIGHT
BEGIN:STANDARD
TZOFFSETFROM:+0200
TZOFFSETTO:+0100
TZNAME:CET
DTSTART:20251026T010000
END:STANDARD
END:VTIMEZONE
BEGIN:VEVENT
DTSTART;TZID=Europe/Berlin:20241225T120000
DTEND;TZID=Europe/Berlin:20241225T170000
DTSTAMP:20260424T173745
CREATED:20241103T194304Z
LAST-MODIFIED:20241103T194304Z
UID:107727-1735128000-1735146000@drv1880.de
SUMMARY:Weihnachtsessen in der Ökonomie
DESCRIPTION:Wer keine Lust hat zu Kochen\, ist bei uns in der Ökonomie genau richtig. Hier wird lecker gekocht und nett geplauscht in weihnachtlicher Umgebung. \nEssen gibt es allerdings nur unter Vorbestellung unter gastro@drv1880.de
URL:https://drv1880.de/event/weihnachtsessen-in-der-oekonomie/
LOCATION:Ökonomie DRV
CATEGORIES:Event
END:VEVENT
END:VCALENDAR