BEGIN:VCALENDAR
VERSION:2.0
PRODID:-//DRV1880 - ECPv6.15.20//NONSGML v1.0//EN
CALSCALE:GREGORIAN
METHOD:PUBLISH
X-ORIGINAL-URL:https://drv1880.de
X-WR-CALDESC:Veranstaltungen für DRV1880
REFRESH-INTERVAL;VALUE=DURATION:PT1H
X-Robots-Tag:noindex
X-PUBLISHED-TTL:PT1H
BEGIN:VTIMEZONE
TZID:Europe/Berlin
BEGIN:DAYLIGHT
TZOFFSETFROM:+0100
TZOFFSETTO:+0200
TZNAME:CEST
DTSTART:20240331T010000
END:DAYLIGHT
BEGIN:STANDARD
TZOFFSETFROM:+0200
TZOFFSETTO:+0100
TZNAME:CET
DTSTART:20241027T010000
END:STANDARD
BEGIN:DAYLIGHT
TZOFFSETFROM:+0100
TZOFFSETTO:+0200
TZNAME:CEST
DTSTART:20250330T010000
END:DAYLIGHT
BEGIN:STANDARD
TZOFFSETFROM:+0200
TZOFFSETTO:+0100
TZNAME:CET
DTSTART:20251026T010000
END:STANDARD
BEGIN:DAYLIGHT
TZOFFSETFROM:+0100
TZOFFSETTO:+0200
TZNAME:CEST
DTSTART:20260329T010000
END:DAYLIGHT
BEGIN:STANDARD
TZOFFSETFROM:+0200
TZOFFSETTO:+0100
TZNAME:CET
DTSTART:20261025T010000
END:STANDARD
END:VTIMEZONE
BEGIN:VEVENT
DTSTART;TZID=Europe/Berlin:20250330T080000
DTEND;TZID=Europe/Berlin:20250330T170000
DTSTAMP:20260422T122617
CREATED:20250112T121721Z
LAST-MODIFIED:20250112T121721Z
UID:107887-1743321600-1743354000@drv1880.de
SUMMARY:Anrudern
DESCRIPTION:von Leverkusen nach Düsseldorf \nVerladen der Boote findet am Samstag\, den 29.03 statt
URL:https://drv1880.de/event/anrudern-2/
LOCATION:Bootshaus\, Düsseldorf\, 40239
CATEGORIES:Wanderfahrt
END:VEVENT
END:VCALENDAR