BEGIN:VCALENDAR
VERSION:2.0
PRODID:-//DRV1880 - ECPv6.15.20//NONSGML v1.0//EN
CALSCALE:GREGORIAN
METHOD:PUBLISH
X-WR-CALNAME:DRV1880
X-ORIGINAL-URL:https://drv1880.de
X-WR-CALDESC:Veranstaltungen für DRV1880
REFRESH-INTERVAL;VALUE=DURATION:PT1H
X-Robots-Tag:noindex
X-PUBLISHED-TTL:PT1H
BEGIN:VTIMEZONE
TZID:Europe/Berlin
BEGIN:DAYLIGHT
TZOFFSETFROM:+0100
TZOFFSETTO:+0200
TZNAME:CEST
DTSTART:20240331T010000
END:DAYLIGHT
BEGIN:STANDARD
TZOFFSETFROM:+0200
TZOFFSETTO:+0100
TZNAME:CET
DTSTART:20241027T010000
END:STANDARD
BEGIN:DAYLIGHT
TZOFFSETFROM:+0100
TZOFFSETTO:+0200
TZNAME:CEST
DTSTART:20250330T010000
END:DAYLIGHT
BEGIN:STANDARD
TZOFFSETFROM:+0200
TZOFFSETTO:+0100
TZNAME:CET
DTSTART:20251026T010000
END:STANDARD
BEGIN:DAYLIGHT
TZOFFSETFROM:+0100
TZOFFSETTO:+0200
TZNAME:CEST
DTSTART:20260329T010000
END:DAYLIGHT
BEGIN:STANDARD
TZOFFSETFROM:+0200
TZOFFSETTO:+0100
TZNAME:CET
DTSTART:20261025T010000
END:STANDARD
END:VTIMEZONE
BEGIN:VEVENT
DTSTART;VALUE=DATE:20250509
DTEND;VALUE=DATE:20250512
DTSTAMP:20260422T073803
CREATED:20250105T095042Z
LAST-MODIFIED:20250204T170413Z
UID:107787-1746748800-1747007999@drv1880.de
SUMMARY:Ruderkurs 2/2025
DESCRIPTION:Mi\n07.05.2025\n18:00 Uhr\nKennen­lern­abend im Vereinsheim des DRV 1880 e.V.\n\n\nFr\n09.05.2025\n17:30 Uhr\n1. Aus­bildungs­termin im Neusser In­dustrie­hafen\n\n\nSa\n10.05.2025\n16:00 Uhr\n2. Aus­bildungs­termin im Neusser In­dustrie­hafen\n\n\nSo\n11.05.2025\n13:00 Uhr\n3. Aus­bildungs­termin im Neusser In­dustrie­hafen\n\n\nDo\n15.05.2025\n18:00 Uhr\nAus­bildung im DRV 1880 e.V.\n\n\nDo\n22.05.2025\n18:00 Uhr\nAus­bildung im DRV 1880 e.V.\n\n\nDo\n29.05.2025\n\nFeiertag – keine Ausbildung\n\n\nDo\n05.06.2025\n18:00 Uhr\nAus­bildung im DRV 1880 e.V.\n\n\nDo\n12.06.2025\n18:00 Uhr\nAus­bildung im DRV 1880 e.V.\n\n\n\nAnmeldung zu diesem Ruderkurs bis spätestens 18.04.2025.
URL:https://drv1880.de/event/ruderkurs-2-2025/
LOCATION:Neusser Hafen
CATEGORIES:Ruderkurs
END:VEVENT
BEGIN:VEVENT
DTSTART;VALUE=DATE:20250509
DTEND;VALUE=DATE:20250512
DTSTAMP:20260422T073803
CREATED:20250112T130303Z
LAST-MODIFIED:20250112T130303Z
UID:107968-1746748800-1747007999@drv1880.de
SUMMARY:Jugend-Ruder-Schnupperkurs
DESCRIPTION:für Jugendliche ab 14 Jahren
URL:https://drv1880.de/event/jugend-ruder-schnupperkurs/
LOCATION:Bootshaus\, Düsseldorf\, 40239
CATEGORIES:Ausbildung
END:VEVENT
BEGIN:VEVENT
DTSTART;VALUE=DATE:20250509
DTEND;VALUE=DATE:20250512
DTSTAMP:20260422T073803
CREATED:20250312T144746Z
LAST-MODIFIED:20250312T144746Z
UID:108137-1746748800-1747007999@drv1880.de
SUMMARY:Jugendfahrt Dorsten
DESCRIPTION:
URL:https://drv1880.de/event/jugendfahrt-dorsten/
CATEGORIES:DINO,Fuhrpark
END:VEVENT
END:VCALENDAR