BEGIN:VCALENDAR
VERSION:2.0
PRODID:-//DRV1880 - ECPv6.15.20//NONSGML v1.0//EN
CALSCALE:GREGORIAN
METHOD:PUBLISH
X-ORIGINAL-URL:https://drv1880.de
X-WR-CALDESC:Veranstaltungen für DRV1880
REFRESH-INTERVAL;VALUE=DURATION:PT1H
X-Robots-Tag:noindex
X-PUBLISHED-TTL:PT1H
BEGIN:VTIMEZONE
TZID:Europe/Berlin
BEGIN:DAYLIGHT
TZOFFSETFROM:+0100
TZOFFSETTO:+0200
TZNAME:CEST
DTSTART:20240331T010000
END:DAYLIGHT
BEGIN:STANDARD
TZOFFSETFROM:+0200
TZOFFSETTO:+0100
TZNAME:CET
DTSTART:20241027T010000
END:STANDARD
BEGIN:DAYLIGHT
TZOFFSETFROM:+0100
TZOFFSETTO:+0200
TZNAME:CEST
DTSTART:20250330T010000
END:DAYLIGHT
BEGIN:STANDARD
TZOFFSETFROM:+0200
TZOFFSETTO:+0100
TZNAME:CET
DTSTART:20251026T010000
END:STANDARD
BEGIN:DAYLIGHT
TZOFFSETFROM:+0100
TZOFFSETTO:+0200
TZNAME:CEST
DTSTART:20260329T010000
END:DAYLIGHT
BEGIN:STANDARD
TZOFFSETFROM:+0200
TZOFFSETTO:+0100
TZNAME:CET
DTSTART:20261025T010000
END:STANDARD
END:VTIMEZONE
BEGIN:VEVENT
DTSTART;VALUE=DATE:20250627
DTEND;VALUE=DATE:20250630
DTSTAMP:20260422T024311
CREATED:20250105T095139Z
LAST-MODIFIED:20250504T084908Z
UID:107789-1750982400-1751241599@drv1880.de
SUMMARY:Ruderkurs 3/2025
DESCRIPTION:Mi\n25.06.2025\n18:00 Uhr\nKennen­lern­abend im Vereinsheim des DRV 1880 e.V.\n\n\nFr\n27.06.2025\n17:30 Uhr\n1. Aus­bildungs­termin im Neusser In­dustrie­hafen\n\n\nSa\n28.06.2025\n16:00 Uhr\n2. Aus­bildungs­termin im Neusser In­dustrie­hafen\n\n\nSo\n29.06.2025\n13:00 Uhr\n3. Aus­bildungs­termin im Neusser In­dustrie­hafen\n\n\nDo\n03.07.2025\n18:00 Uhr\nAus­bildung im DRV 1880 e.V.\n\n\nDo\n10.07.2025\n18:00 Uhr\nAus­bildung im DRV 1880 e.V.\n\n\nDo\n17.07.2025\n18:00 Uhr\nAus­bildung im DRV 1880 e.V.\n\n\nDo\n24.07.2025\n18:00 Uhr\nAus­bildung im DRV 1880 e.V.\n\n\n\nAnmeldung zu diesem Ruderkurs bis spätestens 06.06.2025.
URL:https://drv1880.de/event/ruderkurs-3-2025/
LOCATION:Neusser Hafen
CATEGORIES:Ruderkurs
END:VEVENT
BEGIN:VEVENT
DTSTART;VALUE=DATE:20250628
DTEND;VALUE=DATE:20250630
DTSTAMP:20260422T024311
CREATED:20250112T131038Z
LAST-MODIFIED:20250112T134105Z
UID:107979-1751068800-1751241599@drv1880.de
SUMMARY:Wanderfahrt von Düsseldorf nach Dorsten
DESCRIPTION:Wanderruderfahrt Düsseldorf – Dorsten 28.-29. Juni 2025
URL:https://drv1880.de/event/wanderfahrt-von-duesseldorf-nach-dorsten-2/
CATEGORIES:Wanderfahrt
END:VEVENT
BEGIN:VEVENT
DTSTART;VALUE=DATE:20250628
DTEND;VALUE=DATE:20250630
DTSTAMP:20260422T024311
CREATED:20250120T135004Z
LAST-MODIFIED:20250120T135004Z
UID:108041-1751068800-1751241599@drv1880.de
SUMMARY:Düsseldorf - Dorsten
DESCRIPTION:
URL:https://drv1880.de/event/duesseldorf-dorsten-2/
CATEGORIES:DINO,Fuhrpark
END:VEVENT
END:VCALENDAR