BEGIN:VCALENDAR
VERSION:2.0
PRODID:-//DRV1880 - ECPv6.15.20//NONSGML v1.0//EN
CALSCALE:GREGORIAN
METHOD:PUBLISH
X-WR-CALNAME:DRV1880
X-ORIGINAL-URL:https://drv1880.de
X-WR-CALDESC:Veranstaltungen für DRV1880
REFRESH-INTERVAL;VALUE=DURATION:PT1H
X-Robots-Tag:noindex
X-PUBLISHED-TTL:PT1H
BEGIN:VTIMEZONE
TZID:Europe/Berlin
BEGIN:DAYLIGHT
TZOFFSETFROM:+0100
TZOFFSETTO:+0200
TZNAME:CEST
DTSTART:20240331T010000
END:DAYLIGHT
BEGIN:STANDARD
TZOFFSETFROM:+0200
TZOFFSETTO:+0100
TZNAME:CET
DTSTART:20241027T010000
END:STANDARD
BEGIN:DAYLIGHT
TZOFFSETFROM:+0100
TZOFFSETTO:+0200
TZNAME:CEST
DTSTART:20250330T010000
END:DAYLIGHT
BEGIN:STANDARD
TZOFFSETFROM:+0200
TZOFFSETTO:+0100
TZNAME:CET
DTSTART:20251026T010000
END:STANDARD
BEGIN:DAYLIGHT
TZOFFSETFROM:+0100
TZOFFSETTO:+0200
TZNAME:CEST
DTSTART:20260329T010000
END:DAYLIGHT
BEGIN:STANDARD
TZOFFSETFROM:+0200
TZOFFSETTO:+0100
TZNAME:CET
DTSTART:20261025T010000
END:STANDARD
END:VTIMEZONE
BEGIN:VEVENT
DTSTART;TZID=Europe/Berlin:20250705T170000
DTEND;TZID=Europe/Berlin:20250705T233000
DTSTAMP:20260422T010634
CREATED:20250112T131209Z
LAST-MODIFIED:20250618T171444Z
UID:107981-1751734800-1751758200@drv1880.de
SUMMARY:Sommerfest
DESCRIPTION:LASST UNS GEMEINSAM DEN SOMMER UND CHRISTIANES GEBURTSTAG FEIERN! \nUm 17:00 Uhr geht es los! \nFeiert mit den DJ`s “De Huusmeester” und tanzt mit Franks Sambatruppe “Sambadeira” durch die Nacht!\nFür`s leibliche Wohl sorgt selbstverständlich die “Rheinperle im DRV”!\nKommt vorbei\, bringt eure Freunde und Familie mit und genießt einen geselligen Tag auf der schönsten Terrasse am Rhein! \nVorab kann um 14:00 Uhr gerudert werden. \nUm Anmeldung für das Fest wird gebeten über gastro@drv1880.de \nFür das Rudern ist keine Anmeldung notwendig.
URL:https://drv1880.de/event/sommerfest/
LOCATION:Ökonomie DRV
CATEGORIES:Event
END:VEVENT
END:VCALENDAR