BEGIN:VCALENDAR
VERSION:2.0
PRODID:-//DRV1880 - ECPv6.15.20//NONSGML v1.0//EN
CALSCALE:GREGORIAN
METHOD:PUBLISH
X-ORIGINAL-URL:https://drv1880.de
X-WR-CALDESC:Veranstaltungen für DRV1880
REFRESH-INTERVAL;VALUE=DURATION:PT1H
X-Robots-Tag:noindex
X-PUBLISHED-TTL:PT1H
BEGIN:VTIMEZONE
TZID:Europe/Berlin
BEGIN:DAYLIGHT
TZOFFSETFROM:+0100
TZOFFSETTO:+0200
TZNAME:CEST
DTSTART:20240331T010000
END:DAYLIGHT
BEGIN:STANDARD
TZOFFSETFROM:+0200
TZOFFSETTO:+0100
TZNAME:CET
DTSTART:20241027T010000
END:STANDARD
BEGIN:DAYLIGHT
TZOFFSETFROM:+0100
TZOFFSETTO:+0200
TZNAME:CEST
DTSTART:20250330T010000
END:DAYLIGHT
BEGIN:STANDARD
TZOFFSETFROM:+0200
TZOFFSETTO:+0100
TZNAME:CET
DTSTART:20251026T010000
END:STANDARD
BEGIN:DAYLIGHT
TZOFFSETFROM:+0100
TZOFFSETTO:+0200
TZNAME:CEST
DTSTART:20260329T010000
END:DAYLIGHT
BEGIN:STANDARD
TZOFFSETFROM:+0200
TZOFFSETTO:+0100
TZNAME:CET
DTSTART:20261025T010000
END:STANDARD
END:VTIMEZONE
BEGIN:VEVENT
DTSTART;VALUE=DATE:20250726
DTEND;VALUE=DATE:20250727
DTSTAMP:20260422T010935
CREATED:20241011T075711Z
LAST-MODIFIED:20241011T075711Z
UID:107680-1753488000-1753574399@drv1880.de
SUMMARY:DRV-Homberg\, Boehle
DESCRIPTION:
URL:https://drv1880.de/event/drv-homberg-boehle/
CATEGORIES:DINO,Fuhrpark
END:VEVENT
BEGIN:VEVENT
DTSTART;VALUE=DATE:20250726
DTEND;VALUE=DATE:20250727
DTSTAMP:20260422T010935
CREATED:20241011T075851Z
LAST-MODIFIED:20241011T075851Z
UID:107682-1753488000-1753574399@drv1880.de
SUMMARY:DRV-Homberg\, Boehle
DESCRIPTION:
URL:https://drv1880.de/event/drv-homberg-boehle-2/
CATEGORIES:Fuhrpark,großer Anhänger
END:VEVENT
BEGIN:VEVENT
DTSTART;VALUE=DATE:20250726
DTEND;VALUE=DATE:20250727
DTSTAMP:20260422T010935
CREATED:20241011T075940Z
LAST-MODIFIED:20241011T075940Z
UID:107684-1753488000-1753574399@drv1880.de
SUMMARY:DRV-Homberg\, Boehle
DESCRIPTION:
URL:https://drv1880.de/event/drv-homberg-boehle-3/
CATEGORIES:Fuhrpark,kleiner Anhänger
END:VEVENT
BEGIN:VEVENT
DTSTART;VALUE=DATE:20250726
DTEND;VALUE=DATE:20250727
DTSTAMP:20260422T010935
CREATED:20250112T131338Z
LAST-MODIFIED:20250604T200548Z
UID:107983-1753488000-1753574399@drv1880.de
SUMMARY:Wanderfahrt nach Duisburg-Homberg
DESCRIPTION:Infos folgen
URL:https://drv1880.de/event/wanderfahrt-nach-duisburg-homberg/
CATEGORIES:Wanderfahrt
END:VEVENT
END:VCALENDAR