BEGIN:VCALENDAR
VERSION:2.0
PRODID:-//DRV1880 - ECPv6.15.20//NONSGML v1.0//EN
CALSCALE:GREGORIAN
METHOD:PUBLISH
X-ORIGINAL-URL:https://drv1880.de
X-WR-CALDESC:Veranstaltungen für DRV1880
REFRESH-INTERVAL;VALUE=DURATION:PT1H
X-Robots-Tag:noindex
X-PUBLISHED-TTL:PT1H
BEGIN:VTIMEZONE
TZID:Europe/Berlin
BEGIN:DAYLIGHT
TZOFFSETFROM:+0100
TZOFFSETTO:+0200
TZNAME:CEST
DTSTART:20240331T010000
END:DAYLIGHT
BEGIN:STANDARD
TZOFFSETFROM:+0200
TZOFFSETTO:+0100
TZNAME:CET
DTSTART:20241027T010000
END:STANDARD
BEGIN:DAYLIGHT
TZOFFSETFROM:+0100
TZOFFSETTO:+0200
TZNAME:CEST
DTSTART:20250330T010000
END:DAYLIGHT
BEGIN:STANDARD
TZOFFSETFROM:+0200
TZOFFSETTO:+0100
TZNAME:CET
DTSTART:20251026T010000
END:STANDARD
BEGIN:DAYLIGHT
TZOFFSETFROM:+0100
TZOFFSETTO:+0200
TZNAME:CEST
DTSTART:20260329T010000
END:DAYLIGHT
BEGIN:STANDARD
TZOFFSETFROM:+0200
TZOFFSETTO:+0100
TZNAME:CET
DTSTART:20261025T010000
END:STANDARD
BEGIN:DAYLIGHT
TZOFFSETFROM:+0100
TZOFFSETTO:+0200
TZNAME:CEST
DTSTART:20270328T010000
END:DAYLIGHT
BEGIN:STANDARD
TZOFFSETFROM:+0200
TZOFFSETTO:+0100
TZNAME:CET
DTSTART:20271031T010000
END:STANDARD
END:VTIMEZONE
BEGIN:VEVENT
DTSTART;TZID=Europe/Berlin:20251027T180000
DTEND;TZID=Europe/Berlin:20260308T190000
DTSTAMP:20260421T181111
CREATED:20250112T133031Z
LAST-MODIFIED:20250112T133031Z
UID:108011-1761588000-1772996400@drv1880.de
SUMMARY:Wintertraining: Ergo und Hallentraining
DESCRIPTION:Montag\, Dienstag und Donnerstag Ergo im Verein \nMittwochs Hallentraining
URL:https://drv1880.de/event/wintertraining-ergo-und-hallentraining/
CATEGORIES:Training
END:VEVENT
BEGIN:VEVENT
DTSTART;VALUE=DATE:20251206
DTEND;VALUE=DATE:20251208
DTSTAMP:20260421T181111
CREATED:20251112T101757Z
LAST-MODIFIED:20251112T101757Z
UID:108438-1764979200-1765151999@drv1880.de
SUMMARY:JM / Boehle
DESCRIPTION:
URL:https://drv1880.de/event/jm-boehle/
CATEGORIES:DINO,Fuhrpark
END:VEVENT
BEGIN:VEVENT
DTSTART;VALUE=DATE:20251206
DTEND;VALUE=DATE:20251208
DTSTAMP:20260421T181111
CREATED:20251112T101838Z
LAST-MODIFIED:20251112T101838Z
UID:108440-1764979200-1765151999@drv1880.de
SUMMARY:JM / Boehle
DESCRIPTION:
URL:https://drv1880.de/event/jm-boehle-2/
CATEGORIES:Fuhrpark,kleiner Anhänger
END:VEVENT
BEGIN:VEVENT
DTSTART;TZID=Europe/Berlin:20251206T140000
DTEND;TZID=Europe/Berlin:20251206T210000
DTSTAMP:20260421T181111
CREATED:20250112T133655Z
LAST-MODIFIED:20251003T081850Z
UID:108025-1765029600-1765054800@drv1880.de
SUMMARY:Glühweinrudern
DESCRIPTION:
URL:https://drv1880.de/event/gluehweinrudern-mit-weihnachtsbasar/
CATEGORIES:Rudern
END:VEVENT
END:VCALENDAR