BEGIN:VCALENDAR
VERSION:2.0
PRODID:-//DRV1880 - ECPv6.15.20//NONSGML v1.0//EN
CALSCALE:GREGORIAN
METHOD:PUBLISH
X-ORIGINAL-URL:https://drv1880.de
X-WR-CALDESC:Veranstaltungen für DRV1880
REFRESH-INTERVAL;VALUE=DURATION:PT1H
X-Robots-Tag:noindex
X-PUBLISHED-TTL:PT1H
BEGIN:VTIMEZONE
TZID:Europe/Berlin
BEGIN:DAYLIGHT
TZOFFSETFROM:+0100
TZOFFSETTO:+0200
TZNAME:CEST
DTSTART:20240331T010000
END:DAYLIGHT
BEGIN:STANDARD
TZOFFSETFROM:+0200
TZOFFSETTO:+0100
TZNAME:CET
DTSTART:20241027T010000
END:STANDARD
BEGIN:DAYLIGHT
TZOFFSETFROM:+0100
TZOFFSETTO:+0200
TZNAME:CEST
DTSTART:20250330T010000
END:DAYLIGHT
BEGIN:STANDARD
TZOFFSETFROM:+0200
TZOFFSETTO:+0100
TZNAME:CET
DTSTART:20251026T010000
END:STANDARD
BEGIN:DAYLIGHT
TZOFFSETFROM:+0100
TZOFFSETTO:+0200
TZNAME:CEST
DTSTART:20260329T010000
END:DAYLIGHT
BEGIN:STANDARD
TZOFFSETFROM:+0200
TZOFFSETTO:+0100
TZNAME:CET
DTSTART:20261025T010000
END:STANDARD
BEGIN:DAYLIGHT
TZOFFSETFROM:+0100
TZOFFSETTO:+0200
TZNAME:CEST
DTSTART:20270328T010000
END:DAYLIGHT
BEGIN:STANDARD
TZOFFSETFROM:+0200
TZOFFSETTO:+0100
TZNAME:CET
DTSTART:20271031T010000
END:STANDARD
END:VTIMEZONE
BEGIN:VEVENT
DTSTART;VALUE=DATE:20260417
DTEND;VALUE=DATE:20260420
DTSTAMP:20260421T045203
CREATED:20260110T125930Z
LAST-MODIFIED:20260113T184602Z
UID:108581-1776384000-1776643199@drv1880.de
SUMMARY:Jugend-Ruderwochenende Dorsten
DESCRIPTION:
URL:https://drv1880.de/event/jugend-ruderwochenende-dorsten/
CATEGORIES:Jugend,Wanderfahrt
END:VEVENT
BEGIN:VEVENT
DTSTART;VALUE=DATE:20260417
DTEND;VALUE=DATE:20260420
DTSTAMP:20260421T045203
CREATED:20251125T083030Z
LAST-MODIFIED:20251125T083030Z
UID:108461-1776384000-1776643199@drv1880.de
SUMMARY:Jugendwochenende\, JM
DESCRIPTION:
URL:https://drv1880.de/event/jugendwochenende-jm/
CATEGORIES:DINO,Fuhrpark
END:VEVENT
BEGIN:VEVENT
DTSTART;TZID=Europe/Berlin:20260414T180000
DTEND;TZID=Europe/Berlin:20260414T220000
DTSTAMP:20260421T045203
CREATED:20260110T125832Z
LAST-MODIFIED:20260113T184658Z
UID:108579-1776189600-1776204000@drv1880.de
SUMMARY:Jahreshauptversammlung
DESCRIPTION:
URL:https://drv1880.de/event/jahreshauptversammlung-3/
LOCATION:Ökonomie DRV
CATEGORIES:Event
END:VEVENT
BEGIN:VEVENT
DTSTART;TZID=Europe/Berlin:20260414T180000
DTEND;TZID=Europe/Berlin:20260414T210000
DTSTAMP:20260421T045203
CREATED:20260113T195809Z
LAST-MODIFIED:20260113T195809Z
UID:108658-1776189600-1776200400@drv1880.de
SUMMARY:Vereinsabend
DESCRIPTION:Gemütliches Beisammensein mit wöchentlich wechselndem Speisenangebot.
URL:https://drv1880.de/event/vereinsabend-141/
CATEGORIES:Vereinsabend
END:VEVENT
BEGIN:VEVENT
DTSTART;VALUE=DATE:20260411
DTEND;VALUE=DATE:20260412
DTSTAMP:20260421T045203
CREATED:20260110T125743Z
LAST-MODIFIED:20260113T184728Z
UID:108576-1775865600-1775951999@drv1880.de
SUMMARY:Schnupper-Kennenlerntag Jugend
DESCRIPTION:
URL:https://drv1880.de/event/schnupper-kennenlerntag-jugend/
LOCATION:Bootshaus\, Düsseldorf\, 40239
CATEGORIES:Event,Jugend
END:VEVENT
BEGIN:VEVENT
DTSTART;VALUE=DATE:20260410
DTEND;VALUE=DATE:20260413
DTSTAMP:20260421T045203
CREATED:20260110T125654Z
LAST-MODIFIED:20260113T184626Z
UID:108574-1775779200-1776038399@drv1880.de
SUMMARY:Ruderkurs I
DESCRIPTION:
URL:https://drv1880.de/event/ruderkurs-i-2/
LOCATION:Neusser Hafen
CATEGORIES:Ausbildung,Ruderkurs
END:VEVENT
BEGIN:VEVENT
DTSTART;TZID=Europe/Berlin:20260407T180000
DTEND;TZID=Europe/Berlin:20260407T210000
DTSTAMP:20260421T045203
CREATED:20260113T195759Z
LAST-MODIFIED:20260113T195759Z
UID:108657-1775584800-1775595600@drv1880.de
SUMMARY:Vereinsabend
DESCRIPTION:Gemütliches Beisammensein mit wöchentlich wechselndem Speisenangebot.
URL:https://drv1880.de/event/vereinsabend-140/
CATEGORIES:Vereinsabend
END:VEVENT
BEGIN:VEVENT
DTSTART;VALUE=DATE:20260402
DTEND;VALUE=DATE:20260407
DTSTAMP:20260421T045203
CREATED:20260110T125554Z
LAST-MODIFIED:20260113T201931Z
UID:108572-1775088000-1775519999@drv1880.de
SUMMARY:Osterwanderfahrt Wiesbaden-Düsseldorf
DESCRIPTION:
URL:https://drv1880.de/event/osterwanderfahrt-wiesbaden-duesseldorf-2/
CATEGORIES:Wanderfahrt
END:VEVENT
BEGIN:VEVENT
DTSTART;VALUE=DATE:20260401
DTEND;VALUE=DATE:20260407
DTSTAMP:20260421T045203
CREATED:20251112T102124Z
LAST-MODIFIED:20251112T102124Z
UID:108444-1775001600-1775519999@drv1880.de
SUMMARY:Wiesbaden-Düsseldorf\, Weissmann
DESCRIPTION:
URL:https://drv1880.de/event/wiesbaden-duesseldorf-weissmann-2/
CATEGORIES:DINO,Fuhrpark
END:VEVENT
BEGIN:VEVENT
DTSTART;VALUE=DATE:20260401
DTEND;VALUE=DATE:20260407
DTSTAMP:20260421T045203
CREATED:20251112T102010Z
LAST-MODIFIED:20251112T102010Z
UID:108442-1775001600-1775519999@drv1880.de
SUMMARY:Wiesbaden-Düsseldorf\, Weissmann
DESCRIPTION:
URL:https://drv1880.de/event/wiesbaden-duesseldorf-weissmann/
CATEGORIES:DINO,Fuhrpark,großer Anhänger
END:VEVENT
BEGIN:VEVENT
DTSTART;TZID=Europe/Berlin:20260331T180000
DTEND;TZID=Europe/Berlin:20260331T210000
DTSTAMP:20260421T045203
CREATED:20260113T195758Z
LAST-MODIFIED:20260113T195758Z
UID:108656-1774980000-1774990800@drv1880.de
SUMMARY:Vereinsabend
DESCRIPTION:Gemütliches Beisammensein mit wöchentlich wechselndem Speisenangebot.
URL:https://drv1880.de/event/vereinsabend-139/
CATEGORIES:Vereinsabend
END:VEVENT
BEGIN:VEVENT
DTSTART;VALUE=DATE:20260329
DTEND;VALUE=DATE:20260330
DTSTAMP:20260421T045203
CREATED:20260110T125328Z
LAST-MODIFIED:20260113T201909Z
UID:108569-1774742400-1774828799@drv1880.de
SUMMARY:Anrudern
DESCRIPTION:Anrudern mit Angrillen \nInfos folgen
URL:https://drv1880.de/event/anrudern-3/
LOCATION:Bootshaus\, Düsseldorf\, 40239
CATEGORIES:Event,Rudern
END:VEVENT
BEGIN:VEVENT
DTSTART;TZID=Europe/Berlin:20260324T180000
DTEND;TZID=Europe/Berlin:20260324T210000
DTSTAMP:20260421T045203
CREATED:20260113T195756Z
LAST-MODIFIED:20260113T195756Z
UID:108655-1774375200-1774386000@drv1880.de
SUMMARY:Vereinsabend
DESCRIPTION:Gemütliches Beisammensein mit wöchentlich wechselndem Speisenangebot.
URL:https://drv1880.de/event/vereinsabend-138/
CATEGORIES:Vereinsabend
END:VEVENT
BEGIN:VEVENT
DTSTART;VALUE=DATE:20260321
DTEND;VALUE=DATE:20260322
DTSTAMP:20260421T045203
CREATED:20260110T125233Z
LAST-MODIFIED:20260113T201852Z
UID:108567-1774051200-1774137599@drv1880.de
SUMMARY:Hausputz
DESCRIPTION:
URL:https://drv1880.de/event/hausputz-6/
LOCATION:Bootshaus\, Düsseldorf\, 40239
CATEGORIES:Event
END:VEVENT
BEGIN:VEVENT
DTSTART;TZID=Europe/Berlin:20260317T180000
DTEND;TZID=Europe/Berlin:20260317T210000
DTSTAMP:20260421T045203
CREATED:20260113T195754Z
LAST-MODIFIED:20260113T195755Z
UID:108654-1773770400-1773781200@drv1880.de
SUMMARY:Vereinsabend
DESCRIPTION:Gemütliches Beisammensein mit wöchentlich wechselndem Speisenangebot.
URL:https://drv1880.de/event/vereinsabend-137/
CATEGORIES:Vereinsabend
END:VEVENT
BEGIN:VEVENT
DTSTART;TZID=Europe/Berlin:20260310T180000
DTEND;TZID=Europe/Berlin:20260310T210000
DTSTAMP:20260421T045203
CREATED:20260113T195753Z
LAST-MODIFIED:20260113T195753Z
UID:108653-1773165600-1773176400@drv1880.de
SUMMARY:Vereinsabend
DESCRIPTION:Gemütliches Beisammensein mit wöchentlich wechselndem Speisenangebot.
URL:https://drv1880.de/event/vereinsabend-136/
CATEGORIES:Vereinsabend
END:VEVENT
BEGIN:VEVENT
DTSTART;TZID=Europe/Berlin:20260303T180000
DTEND;TZID=Europe/Berlin:20260303T210000
DTSTAMP:20260421T045203
CREATED:20260113T195749Z
LAST-MODIFIED:20260113T195749Z
UID:108652-1772560800-1772571600@drv1880.de
SUMMARY:Vereinsabend
DESCRIPTION:Gemütliches Beisammensein mit wöchentlich wechselndem Speisenangebot.
URL:https://drv1880.de/event/vereinsabend-135/
CATEGORIES:Vereinsabend
END:VEVENT
BEGIN:VEVENT
DTSTART;TZID=Europe/Berlin:20260224T180000
DTEND;TZID=Europe/Berlin:20260224T210000
DTSTAMP:20260421T045203
CREATED:20260113T195747Z
LAST-MODIFIED:20260113T195747Z
UID:108651-1771956000-1771966800@drv1880.de
SUMMARY:Vereinsabend
DESCRIPTION:Gemütliches Beisammensein mit wöchentlich wechselndem Speisenangebot.
URL:https://drv1880.de/event/vereinsabend-134/
CATEGORIES:Vereinsabend
END:VEVENT
BEGIN:VEVENT
DTSTART;VALUE=DATE:20260221
DTEND;VALUE=DATE:20260222
DTSTAMP:20260421T045203
CREATED:20260110T124959Z
LAST-MODIFIED:20260113T201759Z
UID:108563-1771632000-1771718399@drv1880.de
SUMMARY:Grünkohl-Rudern
DESCRIPTION:
URL:https://drv1880.de/event/gruenkohl-rudern/
LOCATION:Bootshaus\, Düsseldorf\, 40239
CATEGORIES:Event,Rudern
END:VEVENT
BEGIN:VEVENT
DTSTART;TZID=Europe/Berlin:20260218T180000
DTEND;TZID=Europe/Berlin:20260218T220000
DTSTAMP:20260421T045203
CREATED:20260110T124847Z
LAST-MODIFIED:20260113T201716Z
UID:108560-1771437600-1771452000@drv1880.de
SUMMARY:Fischessen am Aschermittwoch
DESCRIPTION:
URL:https://drv1880.de/event/fischessen-am-aschermittwoch/
LOCATION:Ökonomie DRV
CATEGORIES:Event
END:VEVENT
BEGIN:VEVENT
DTSTART;TZID=Europe/Berlin:20260217T180000
DTEND;TZID=Europe/Berlin:20260217T210000
DTSTAMP:20260421T045203
CREATED:20260113T195745Z
LAST-MODIFIED:20260113T195746Z
UID:108650-1771351200-1771362000@drv1880.de
SUMMARY:Vereinsabend
DESCRIPTION:Gemütliches Beisammensein mit wöchentlich wechselndem Speisenangebot.
URL:https://drv1880.de/event/vereinsabend-133/
CATEGORIES:Vereinsabend
END:VEVENT
BEGIN:VEVENT
DTSTART;VALUE=DATE:20260215
DTEND;VALUE=DATE:20260216
DTSTAMP:20260421T045203
CREATED:20260110T124741Z
LAST-MODIFIED:20260113T201628Z
UID:108558-1771113600-1771199999@drv1880.de
SUMMARY:Kö-Treiben
DESCRIPTION:Am Samstag davor wird der Wagen geschmückt. Am Sonntag ziehen wir vom Vereinshaus bis zur Kö und wieder zurück. \nInfos folgen
URL:https://drv1880.de/event/koe-treiben-3/
CATEGORIES:Event
END:VEVENT
BEGIN:VEVENT
DTSTART;TZID=Europe/Berlin:20260210T180000
DTEND;TZID=Europe/Berlin:20260210T210000
DTSTAMP:20260421T045203
CREATED:20260113T195744Z
LAST-MODIFIED:20260113T195744Z
UID:108649-1770746400-1770757200@drv1880.de
SUMMARY:Vereinsabend
DESCRIPTION:Gemütliches Beisammensein mit wöchentlich wechselndem Speisenangebot.
URL:https://drv1880.de/event/vereinsabend-132/
CATEGORIES:Vereinsabend
END:VEVENT
BEGIN:VEVENT
DTSTART;TZID=Europe/Berlin:20260208T120000
DTEND;TZID=Europe/Berlin:20260208T160000
DTSTAMP:20260421T045203
CREATED:20260110T124254Z
LAST-MODIFIED:20260113T201513Z
UID:108555-1770552000-1770566400@drv1880.de
SUMMARY:Neujahrsempfang
DESCRIPTION:
URL:https://drv1880.de/event/neujahrsempfang-3/
LOCATION:Ökonomie DRV
CATEGORIES:Event
END:VEVENT
BEGIN:VEVENT
DTSTART;TZID=Europe/Berlin:20260203T180000
DTEND;TZID=Europe/Berlin:20260203T210000
DTSTAMP:20260421T045203
CREATED:20260113T195742Z
LAST-MODIFIED:20260113T195742Z
UID:108648-1770141600-1770152400@drv1880.de
SUMMARY:Vereinsabend
DESCRIPTION:Gemütliches Beisammensein mit wöchentlich wechselndem Speisenangebot.
URL:https://drv1880.de/event/vereinsabend-131/
CATEGORIES:Vereinsabend
END:VEVENT
BEGIN:VEVENT
DTSTART;VALUE=DATE:20260117
DTEND;VALUE=DATE:20260126
DTSTAMP:20260421T045203
CREATED:20260109T134126Z
LAST-MODIFIED:20260109T134126Z
UID:108551-1768608000-1769385599@drv1880.de
SUMMARY:Elsen
DESCRIPTION:
URL:https://drv1880.de/event/elsen/
CATEGORIES:DINO,Fuhrpark
END:VEVENT
BEGIN:VEVENT
DTSTART;VALUE=DATE:20251231
DTEND;VALUE=DATE:20260101
DTSTAMP:20260421T045203
CREATED:20250113T082055Z
LAST-MODIFIED:20250113T082208Z
UID:108032-1767139200-1767225599@drv1880.de
SUMMARY:Test
DESCRIPTION:Test
URL:https://drv1880.de/event/test/
CATEGORIES:DINO,Fuhrpark
END:VEVENT
BEGIN:VEVENT
DTSTART;TZID=Europe/Berlin:20251216T180000
DTEND;TZID=Europe/Berlin:20251216T210000
DTSTAMP:20260421T045203
CREATED:20250112T125314Z
LAST-MODIFIED:20250112T125314Z
UID:107958-1765908000-1765918800@drv1880.de
SUMMARY:Vereinsabend
DESCRIPTION:Gemütliches Beisammensein mit wöchentlich wechselndem Speisenangebot.
URL:https://drv1880.de/event/vereinsabend-128/
CATEGORIES:Vereinsabend
END:VEVENT
BEGIN:VEVENT
DTSTART;TZID=Europe/Berlin:20251209T180000
DTEND;TZID=Europe/Berlin:20251209T210000
DTSTAMP:20260421T045203
CREATED:20250112T125243Z
LAST-MODIFIED:20250112T133742Z
UID:107956-1765303200-1765314000@drv1880.de
SUMMARY:Vereinsabend Mit Schrottwichteln
DESCRIPTION:Gemütliches Beisammensein mit wöchentlich wechselndem Speisenangebot.
URL:https://drv1880.de/event/vereinsabend-127/
CATEGORIES:Vereinsabend
END:VEVENT
BEGIN:VEVENT
DTSTART;TZID=Europe/Berlin:20251206T140000
DTEND;TZID=Europe/Berlin:20251206T210000
DTSTAMP:20260421T045203
CREATED:20250112T133655Z
LAST-MODIFIED:20251003T081850Z
UID:108025-1765029600-1765054800@drv1880.de
SUMMARY:Glühweinrudern
DESCRIPTION:
URL:https://drv1880.de/event/gluehweinrudern-mit-weihnachtsbasar/
CATEGORIES:Rudern
END:VEVENT
END:VCALENDAR