BEGIN:VCALENDAR
VERSION:2.0
PRODID:-//DRV1880 - ECPv6.15.20//NONSGML v1.0//EN
CALSCALE:GREGORIAN
METHOD:PUBLISH
X-ORIGINAL-URL:https://drv1880.de
X-WR-CALDESC:Veranstaltungen für DRV1880
REFRESH-INTERVAL;VALUE=DURATION:PT1H
X-Robots-Tag:noindex
X-PUBLISHED-TTL:PT1H
BEGIN:VTIMEZONE
TZID:Europe/Berlin
BEGIN:DAYLIGHT
TZOFFSETFROM:+0100
TZOFFSETTO:+0200
TZNAME:CEST
DTSTART:20250330T010000
END:DAYLIGHT
BEGIN:STANDARD
TZOFFSETFROM:+0200
TZOFFSETTO:+0100
TZNAME:CET
DTSTART:20251026T010000
END:STANDARD
BEGIN:DAYLIGHT
TZOFFSETFROM:+0100
TZOFFSETTO:+0200
TZNAME:CEST
DTSTART:20260329T010000
END:DAYLIGHT
BEGIN:STANDARD
TZOFFSETFROM:+0200
TZOFFSETTO:+0100
TZNAME:CET
DTSTART:20261025T010000
END:STANDARD
BEGIN:DAYLIGHT
TZOFFSETFROM:+0100
TZOFFSETTO:+0200
TZNAME:CEST
DTSTART:20270328T010000
END:DAYLIGHT
BEGIN:STANDARD
TZOFFSETFROM:+0200
TZOFFSETTO:+0100
TZNAME:CET
DTSTART:20271031T010000
END:STANDARD
END:VTIMEZONE
BEGIN:VEVENT
DTSTART;VALUE=DATE:20260511
DTEND;VALUE=DATE:20260519
DTSTAMP:20260421T044221
CREATED:20251112T102357Z
LAST-MODIFIED:20251112T102357Z
UID:108450-1778457600-1779148799@drv1880.de
SUMMARY:Frieslandwanderfahrt\, Weissmann
DESCRIPTION:
URL:https://drv1880.de/event/frieslandwanderfahrt-weissmann-3/
CATEGORIES:Fuhrpark,kleiner Anhänger
END:VEVENT
BEGIN:VEVENT
DTSTART;TZID=Europe/Berlin:20260512T180000
DTEND;TZID=Europe/Berlin:20260512T210000
DTSTAMP:20260421T044221
CREATED:20260113T195815Z
LAST-MODIFIED:20260113T195816Z
UID:108662-1778608800-1778619600@drv1880.de
SUMMARY:Vereinsabend
DESCRIPTION:Gemütliches Beisammensein mit wöchentlich wechselndem Speisenangebot.
URL:https://drv1880.de/event/vereinsabend-145/
CATEGORIES:Vereinsabend
END:VEVENT
BEGIN:VEVENT
DTSTART;VALUE=DATE:20260513
DTEND;VALUE=DATE:20260518
DTSTAMP:20260421T044221
CREATED:20260110T130211Z
LAST-MODIFIED:20260113T184422Z
UID:108588-1778630400-1779062399@drv1880.de
SUMMARY:Wanderfahrt Friesland
DESCRIPTION:
URL:https://drv1880.de/event/pfingstwanderfahrt-friesland/
CATEGORIES:Wanderfahrt
END:VEVENT
BEGIN:VEVENT
DTSTART;TZID=Europe/Berlin:20260519T180000
DTEND;TZID=Europe/Berlin:20260519T210000
DTSTAMP:20260421T044221
CREATED:20260113T195910Z
LAST-MODIFIED:20260113T195910Z
UID:108663-1779213600-1779224400@drv1880.de
SUMMARY:Vereinsabend
DESCRIPTION:Gemütliches Beisammensein mit wöchentlich wechselndem Speisenangebot.
URL:https://drv1880.de/event/vereinsabend-146/
CATEGORIES:Vereinsabend
END:VEVENT
BEGIN:VEVENT
DTSTART;VALUE=DATE:20260520
DTEND;VALUE=DATE:20260526
DTSTAMP:20260421T044221
CREATED:20251216T102450Z
LAST-MODIFIED:20251216T102450Z
UID:108491-1779235200-1779753599@drv1880.de
SUMMARY:Pfingsten M.M.
DESCRIPTION:
URL:https://drv1880.de/event/pfingsten-m-m-2/
CATEGORIES:Fuhrpark,großer Anhänger
END:VEVENT
BEGIN:VEVENT
DTSTART;VALUE=DATE:20260520
DTEND;VALUE=DATE:20260526
DTSTAMP:20260421T044221
CREATED:20251216T102528Z
LAST-MODIFIED:20251216T102528Z
UID:108493-1779235200-1779753599@drv1880.de
SUMMARY:Pfingsten M.M.
DESCRIPTION:
URL:https://drv1880.de/event/pfingsten-m-m-3/
CATEGORIES:Fuhrpark,kleiner Anhänger
END:VEVENT
BEGIN:VEVENT
DTSTART;VALUE=DATE:20260522
DTEND;VALUE=DATE:20260526
DTSTAMP:20260421T044221
CREATED:20251216T102346Z
LAST-MODIFIED:20251216T102346Z
UID:108489-1779408000-1779753599@drv1880.de
SUMMARY:Pfingsten M.M.
DESCRIPTION:
URL:https://drv1880.de/event/pfingsten-m-m/
CATEGORIES:DINO,Fuhrpark
END:VEVENT
BEGIN:VEVENT
DTSTART;VALUE=DATE:20260522
DTEND;VALUE=DATE:20260526
DTSTAMP:20260421T044221
CREATED:20260110T130330Z
LAST-MODIFIED:20260113T184343Z
UID:108592-1779408000-1779753599@drv1880.de
SUMMARY:Pfingstwanderfahrt Mainz-Düsseldorf
DESCRIPTION:
URL:https://drv1880.de/event/pfingstwanderfahrt-mainz-duesseldorf/
CATEGORIES:Wanderfahrt
END:VEVENT
BEGIN:VEVENT
DTSTART;TZID=Europe/Berlin:20260526T180000
DTEND;TZID=Europe/Berlin:20260526T210000
DTSTAMP:20260421T044221
CREATED:20260113T195912Z
LAST-MODIFIED:20260113T195912Z
UID:108664-1779818400-1779829200@drv1880.de
SUMMARY:Vereinsabend
DESCRIPTION:Gemütliches Beisammensein mit wöchentlich wechselndem Speisenangebot.
URL:https://drv1880.de/event/vereinsabend-147/
CATEGORIES:Vereinsabend
END:VEVENT
BEGIN:VEVENT
DTSTART;VALUE=DATE:20260529
DTEND;VALUE=DATE:20260601
DTSTAMP:20260421T044221
CREATED:20260303T081629Z
LAST-MODIFIED:20260303T081629Z
UID:108719-1780012800-1780271999@drv1880.de
SUMMARY:Boehle
DESCRIPTION:
URL:https://drv1880.de/event/boehle-18/
CATEGORIES:DINO,Fuhrpark
END:VEVENT
BEGIN:VEVENT
DTSTART;VALUE=DATE:20260529
DTEND;VALUE=DATE:20260601
DTSTAMP:20260421T044221
CREATED:20260303T081705Z
LAST-MODIFIED:20260303T081705Z
UID:108721-1780012800-1780271999@drv1880.de
SUMMARY:Boehle
DESCRIPTION:
URL:https://drv1880.de/event/boehle-19/
CATEGORIES:Fuhrpark,großer Anhänger
END:VEVENT
BEGIN:VEVENT
DTSTART;TZID=Europe/Berlin:20260602T180000
DTEND;TZID=Europe/Berlin:20260602T210000
DTSTAMP:20260421T044221
CREATED:20260113T195913Z
LAST-MODIFIED:20260113T195913Z
UID:108665-1780423200-1780434000@drv1880.de
SUMMARY:Vereinsabend
DESCRIPTION:Gemütliches Beisammensein mit wöchentlich wechselndem Speisenangebot.
URL:https://drv1880.de/event/vereinsabend-148/
CATEGORIES:Vereinsabend
END:VEVENT
BEGIN:VEVENT
DTSTART;VALUE=DATE:20260603
DTEND;VALUE=DATE:20260608
DTSTAMP:20260421T044221
CREATED:20251127T094330Z
LAST-MODIFIED:20251127T094330Z
UID:108470-1780444800-1780876799@drv1880.de
SUMMARY:Boehle
DESCRIPTION:
URL:https://drv1880.de/event/boehle-8/
CATEGORIES:DINO,Fuhrpark
END:VEVENT
BEGIN:VEVENT
DTSTART;VALUE=DATE:20260603
DTEND;VALUE=DATE:20260608
DTSTAMP:20260421T044221
CREATED:20251127T094414Z
LAST-MODIFIED:20251127T094414Z
UID:108472-1780444800-1780876799@drv1880.de
SUMMARY:Boehle
DESCRIPTION:
URL:https://drv1880.de/event/boehle-9/
CATEGORIES:Fuhrpark,kleiner Anhänger
END:VEVENT
BEGIN:VEVENT
DTSTART;VALUE=DATE:20260604
DTEND;VALUE=DATE:20260608
DTSTAMP:20260421T044221
CREATED:20260110T130431Z
LAST-MODIFIED:20260113T184314Z
UID:108594-1780531200-1780876799@drv1880.de
SUMMARY:Wanderfahrt Lahn-Rhein
DESCRIPTION:
URL:https://drv1880.de/event/wanderfahrt-lahn-rhein/
CATEGORIES:Wanderfahrt
END:VEVENT
BEGIN:VEVENT
DTSTART;TZID=Europe/Berlin:20260609T180000
DTEND;TZID=Europe/Berlin:20260609T210000
DTSTAMP:20260421T044221
CREATED:20260113T195915Z
LAST-MODIFIED:20260113T195915Z
UID:108666-1781028000-1781038800@drv1880.de
SUMMARY:Vereinsabend
DESCRIPTION:Gemütliches Beisammensein mit wöchentlich wechselndem Speisenangebot.
URL:https://drv1880.de/event/vereinsabend-149/
CATEGORIES:Vereinsabend
END:VEVENT
BEGIN:VEVENT
DTSTART;TZID=Europe/Berlin:20260616T180000
DTEND;TZID=Europe/Berlin:20260616T210000
DTSTAMP:20260421T044221
CREATED:20260113T195916Z
LAST-MODIFIED:20260113T195917Z
UID:108667-1781632800-1781643600@drv1880.de
SUMMARY:Vereinsabend
DESCRIPTION:Gemütliches Beisammensein mit wöchentlich wechselndem Speisenangebot.
URL:https://drv1880.de/event/vereinsabend-150/
CATEGORIES:Vereinsabend
END:VEVENT
BEGIN:VEVENT
DTSTART;VALUE=DATE:20260622
DTEND;VALUE=DATE:20260627
DTSTAMP:20260421T044221
CREATED:20260207T114413Z
LAST-MODIFIED:20260207T114413Z
UID:108702-1782086400-1782518399@drv1880.de
SUMMARY:Senioren Mosel
DESCRIPTION:
URL:https://drv1880.de/event/senioren-mosel-3/
CATEGORIES:DINO,Fuhrpark
END:VEVENT
BEGIN:VEVENT
DTSTART;VALUE=DATE:20260622
DTEND;VALUE=DATE:20260627
DTSTAMP:20260421T044221
CREATED:20260207T114455Z
LAST-MODIFIED:20260207T114455Z
UID:108704-1782086400-1782518399@drv1880.de
SUMMARY:Senioren Mosel
DESCRIPTION:
URL:https://drv1880.de/event/senioren-mosel-4/
CATEGORIES:Fuhrpark,kleiner Anhänger
END:VEVENT
BEGIN:VEVENT
DTSTART;TZID=Europe/Berlin:20260623T180000
DTEND;TZID=Europe/Berlin:20260623T210000
DTSTAMP:20260421T044221
CREATED:20260113T200031Z
LAST-MODIFIED:20260113T200031Z
UID:108668-1782237600-1782248400@drv1880.de
SUMMARY:Vereinsabend
DESCRIPTION:Gemütliches Beisammensein mit wöchentlich wechselndem Speisenangebot.
URL:https://drv1880.de/event/vereinsabend-151/
CATEGORIES:Vereinsabend
END:VEVENT
BEGIN:VEVENT
DTSTART;VALUE=DATE:20260627
DTEND;VALUE=DATE:20260629
DTSTAMP:20260421T044221
CREATED:20260110T130527Z
LAST-MODIFIED:20260113T184251Z
UID:108596-1782518400-1782691199@drv1880.de
SUMMARY:Wanderfahrt Düsseldorf-Dorsten
DESCRIPTION:
URL:https://drv1880.de/event/wanderfahrt-duesseldorf-dorsten/
CATEGORIES:Wanderfahrt
END:VEVENT
BEGIN:VEVENT
DTSTART;VALUE=DATE:20260627
DTEND;VALUE=DATE:20260629
DTSTAMP:20260421T044221
CREATED:20260308T204749Z
LAST-MODIFIED:20260308T204749Z
UID:108755-1782518400-1782691199@drv1880.de
SUMMARY:Düsseldorf-Dorsten\, Schneppe
DESCRIPTION:
URL:https://drv1880.de/event/duesseldorf-dorsten-schneppe/
CATEGORIES:DINO,Fuhrpark
END:VEVENT
BEGIN:VEVENT
DTSTART;TZID=Europe/Berlin:20260630T180000
DTEND;TZID=Europe/Berlin:20260630T210000
DTSTAMP:20260421T044221
CREATED:20260113T200033Z
LAST-MODIFIED:20260113T200033Z
UID:108669-1782842400-1782853200@drv1880.de
SUMMARY:Vereinsabend
DESCRIPTION:Gemütliches Beisammensein mit wöchentlich wechselndem Speisenangebot.
URL:https://drv1880.de/event/vereinsabend-152/
CATEGORIES:Vereinsabend
END:VEVENT
BEGIN:VEVENT
DTSTART;VALUE=DATE:20260702
DTEND;VALUE=DATE:20260706
DTSTAMP:20260421T044221
CREATED:20251127T094510Z
LAST-MODIFIED:20251127T094510Z
UID:108475-1782950400-1783295999@drv1880.de
SUMMARY:Boehle
DESCRIPTION:
URL:https://drv1880.de/event/boehle-10/
CATEGORIES:DINO,Fuhrpark
END:VEVENT
BEGIN:VEVENT
DTSTART;VALUE=DATE:20260702
DTEND;VALUE=DATE:20260706
DTSTAMP:20260421T044221
CREATED:20260110T130615Z
LAST-MODIFIED:20260113T184230Z
UID:108599-1782950400-1783295999@drv1880.de
SUMMARY:Wanderfahrt rund um Emden
DESCRIPTION:
URL:https://drv1880.de/event/wanderfahrt-rund-um-emden-3/
CATEGORIES:Wanderfahrt
END:VEVENT
BEGIN:VEVENT
DTSTART;TZID=Europe/Berlin:20260707T180000
DTEND;TZID=Europe/Berlin:20260707T210000
DTSTAMP:20260421T044221
CREATED:20260113T200034Z
LAST-MODIFIED:20260113T200034Z
UID:108670-1783447200-1783458000@drv1880.de
SUMMARY:Vereinsabend
DESCRIPTION:Gemütliches Beisammensein mit wöchentlich wechselndem Speisenangebot.
URL:https://drv1880.de/event/vereinsabend-153/
CATEGORIES:Vereinsabend
END:VEVENT
BEGIN:VEVENT
DTSTART;VALUE=DATE:20260710
DTEND;VALUE=DATE:20260713
DTSTAMP:20260421T044221
CREATED:20260110T130655Z
LAST-MODIFIED:20260113T184209Z
UID:108602-1783641600-1783900799@drv1880.de
SUMMARY:Ruderkurs III
DESCRIPTION:
URL:https://drv1880.de/event/ruderkurs-iii/
LOCATION:Neusser Hafen
CATEGORIES:Ausbildung,Ruderkurs
END:VEVENT
BEGIN:VEVENT
DTSTART;TZID=Europe/Berlin:20260714T180000
DTEND;TZID=Europe/Berlin:20260714T210000
DTSTAMP:20260421T044221
CREATED:20260113T200036Z
LAST-MODIFIED:20260113T200036Z
UID:108671-1784052000-1784062800@drv1880.de
SUMMARY:Vereinsabend
DESCRIPTION:Gemütliches Beisammensein mit wöchentlich wechselndem Speisenangebot.
URL:https://drv1880.de/event/vereinsabend-154/
CATEGORIES:Vereinsabend
END:VEVENT
BEGIN:VEVENT
DTSTART;VALUE=DATE:20260717
DTEND;VALUE=DATE:20260723
DTSTAMP:20260421T044221
CREATED:20260110T130801Z
LAST-MODIFIED:20260113T202550Z
UID:108604-1784246400-1784764799@drv1880.de
SUMMARY:Sorpesee
DESCRIPTION:
URL:https://drv1880.de/event/sorpesee-4/
CATEGORIES:Ausbildung,Jugend,Wanderfahrt
END:VEVENT
BEGIN:VEVENT
DTSTART;VALUE=DATE:20260717
DTEND;VALUE=DATE:20260726
DTSTAMP:20260421T044221
CREATED:20250901T125817Z
LAST-MODIFIED:20251112T121017Z
UID:108228-1784246400-1785023999@drv1880.de
SUMMARY:Sorpesee Richard Elsen
DESCRIPTION:
URL:https://drv1880.de/event/sorpesee-richard-elsen/
CATEGORIES:DINO,Fuhrpark
END:VEVENT
END:VCALENDAR