BEGIN:VCALENDAR
VERSION:2.0
PRODID:-//DRV1880 - ECPv6.15.20//NONSGML v1.0//EN
CALSCALE:GREGORIAN
METHOD:PUBLISH
X-WR-CALNAME:DRV1880
X-ORIGINAL-URL:https://drv1880.de
X-WR-CALDESC:Veranstaltungen für DRV1880
REFRESH-INTERVAL;VALUE=DURATION:PT1H
X-Robots-Tag:noindex
X-PUBLISHED-TTL:PT1H
BEGIN:VTIMEZONE
TZID:Europe/Berlin
BEGIN:DAYLIGHT
TZOFFSETFROM:+0100
TZOFFSETTO:+0200
TZNAME:CEST
DTSTART:20220327T010000
END:DAYLIGHT
BEGIN:STANDARD
TZOFFSETFROM:+0200
TZOFFSETTO:+0100
TZNAME:CET
DTSTART:20221030T010000
END:STANDARD
BEGIN:DAYLIGHT
TZOFFSETFROM:+0100
TZOFFSETTO:+0200
TZNAME:CEST
DTSTART:20230326T010000
END:DAYLIGHT
BEGIN:STANDARD
TZOFFSETFROM:+0200
TZOFFSETTO:+0100
TZNAME:CET
DTSTART:20231029T010000
END:STANDARD
BEGIN:DAYLIGHT
TZOFFSETFROM:+0100
TZOFFSETTO:+0200
TZNAME:CEST
DTSTART:20240331T010000
END:DAYLIGHT
BEGIN:STANDARD
TZOFFSETFROM:+0200
TZOFFSETTO:+0100
TZNAME:CET
DTSTART:20241027T010000
END:STANDARD
END:VTIMEZONE
BEGIN:VEVENT
DTSTART;TZID=Europe/Berlin:20231114T170000
DTEND;TZID=Europe/Berlin:20231114T190000
DTSTAMP:20260425T180654
CREATED:20231109T163732Z
LAST-MODIFIED:20231109T165113Z
UID:101495-1699981200-1699988400@drv1880.de
SUMMARY:Techniktraining Crew Class Detlev (*)
DESCRIPTION:
URL:https://drv1880.de/event/techniktraining-crew-class-detlev/
CATEGORIES:Training
END:VEVENT
BEGIN:VEVENT
DTSTART;TZID=Europe/Berlin:20231114T180000
DTEND;TZID=Europe/Berlin:20231114T200000
DTSTAMP:20260425T180654
CREATED:20231109T164030Z
LAST-MODIFIED:20231109T165149Z
UID:101499-1699984800-1699992000@drv1880.de
SUMMARY:Crew Class Patrick (**)
DESCRIPTION:
URL:https://drv1880.de/event/crew-class-patrick/
CATEGORIES:Training
END:VEVENT
BEGIN:VEVENT
DTSTART;TZID=Europe/Berlin:20231114T190000
DTEND;TZID=Europe/Berlin:20231114T210000
DTSTAMP:20260425T180654
CREATED:20231109T164124Z
LAST-MODIFIED:20240216T182035Z
UID:101502-1699988400-1699995600@drv1880.de
SUMMARY:Vereinsabend
DESCRIPTION:
URL:https://drv1880.de/event/vereinsabend/
CATEGORIES:Vereinsabend
END:VEVENT
BEGIN:VEVENT
DTSTART;TZID=Europe/Berlin:20231115T180000
DTEND;TZID=Europe/Berlin:20231115T200000
DTSTAMP:20260425T180654
CREATED:20231109T164238Z
LAST-MODIFIED:20231109T165308Z
UID:101505-1700071200-1700078400@drv1880.de
SUMMARY:Konditionstraining
DESCRIPTION:
URL:https://drv1880.de/event/konditionstraining/
LOCATION:Hulda-Pankok-Gesamtschule\, Brinckmannstraße 16\, 40225 Düsseldorf
CATEGORIES:Training
END:VEVENT
BEGIN:VEVENT
DTSTART;TZID=Europe/Berlin:20231115T190000
DTEND;TZID=Europe/Berlin:20231115T210000
DTSTAMP:20260425T180654
CREATED:20231109T163442Z
LAST-MODIFIED:20231109T165130Z
UID:101490-1700074800-1700082000@drv1880.de
SUMMARY:Crew Class Nina
DESCRIPTION:
URL:https://drv1880.de/event/crew-class/
CATEGORIES:Training
END:VEVENT
BEGIN:VEVENT
DTSTART;TZID=Europe/Berlin:20231117T180000
DTEND;TZID=Europe/Berlin:20231117T200000
DTSTAMP:20260425T180654
CREATED:20231109T164403Z
LAST-MODIFIED:20231109T165220Z
UID:101509-1700244000-1700251200@drv1880.de
SUMMARY:Crew-Class Boris
DESCRIPTION:
URL:https://drv1880.de/event/crew-class-boris/
CATEGORIES:Training
END:VEVENT
END:VCALENDAR