BEGIN:VCALENDAR
VERSION:2.0
PRODID:-//DRV1880 - ECPv6.15.20//NONSGML v1.0//EN
CALSCALE:GREGORIAN
METHOD:PUBLISH
X-WR-CALNAME:DRV1880
X-ORIGINAL-URL:https://drv1880.de
X-WR-CALDESC:Veranstaltungen für DRV1880
REFRESH-INTERVAL;VALUE=DURATION:PT1H
X-Robots-Tag:noindex
X-PUBLISHED-TTL:PT1H
BEGIN:VTIMEZONE
TZID:Europe/Berlin
BEGIN:DAYLIGHT
TZOFFSETFROM:+0100
TZOFFSETTO:+0200
TZNAME:CEST
DTSTART:20230326T010000
END:DAYLIGHT
BEGIN:STANDARD
TZOFFSETFROM:+0200
TZOFFSETTO:+0100
TZNAME:CET
DTSTART:20231029T010000
END:STANDARD
BEGIN:DAYLIGHT
TZOFFSETFROM:+0100
TZOFFSETTO:+0200
TZNAME:CEST
DTSTART:20240331T010000
END:DAYLIGHT
BEGIN:STANDARD
TZOFFSETFROM:+0200
TZOFFSETTO:+0100
TZNAME:CET
DTSTART:20241027T010000
END:STANDARD
BEGIN:DAYLIGHT
TZOFFSETFROM:+0100
TZOFFSETTO:+0200
TZNAME:CEST
DTSTART:20250330T010000
END:DAYLIGHT
BEGIN:STANDARD
TZOFFSETFROM:+0200
TZOFFSETTO:+0100
TZNAME:CET
DTSTART:20251026T010000
END:STANDARD
END:VTIMEZONE
BEGIN:VEVENT
DTSTART;VALUE=DATE:20240527
DTEND;VALUE=DATE:20240602
DTSTAMP:20260425T044734
CREATED:20240527T075457Z
LAST-MODIFIED:20250113T082346Z
UID:107460-1716768000-1717286399@drv1880.de
SUMMARY:Friesland\, Weissmann
DESCRIPTION:
URL:https://drv1880.de/event/friesland-weissmann-6/
CATEGORIES:Fuhrpark,kleiner Anhänger
END:VEVENT
BEGIN:VEVENT
DTSTART;VALUE=DATE:20240528
DTEND;VALUE=DATE:20240603
DTSTAMP:20260425T044734
CREATED:20240305T170915Z
LAST-MODIFIED:20240305T170915Z
UID:105819-1716854400-1717372799@drv1880.de
SUMMARY:JMO
DESCRIPTION:
URL:https://drv1880.de/event/jmo/
CATEGORIES:DINO
END:VEVENT
BEGIN:VEVENT
DTSTART;VALUE=DATE:20240528
DTEND;VALUE=DATE:20240603
DTSTAMP:20260425T044734
CREATED:20240305T170940Z
LAST-MODIFIED:20240305T170940Z
UID:105821-1716854400-1717372799@drv1880.de
SUMMARY:JMO
DESCRIPTION:
URL:https://drv1880.de/event/jmo-2/
CATEGORIES:großer Anhänger
END:VEVENT
BEGIN:VEVENT
DTSTART;VALUE=DATE:20240530
DTEND;VALUE=DATE:20240603
DTSTAMP:20260425T044734
CREATED:20240305T155832Z
LAST-MODIFIED:20240305T160422Z
UID:105754-1717027200-1717372799@drv1880.de
SUMMARY:Wanderfahrt auf Lahn und Rhein
DESCRIPTION:Informationen siehe Aushang.
URL:https://drv1880.de/event/wanderfahrt-auf-lahn-und-rhein/
CATEGORIES:Anfänger,Wanderfahrt
END:VEVENT
BEGIN:VEVENT
DTSTART;VALUE=DATE:20240603
DTEND;VALUE=DATE:20240607
DTSTAMP:20260425T044734
CREATED:20240305T171020Z
LAST-MODIFIED:20240305T171020Z
UID:105823-1717372800-1717718399@drv1880.de
SUMMARY:Mosel\, Schildhauer
DESCRIPTION:
URL:https://drv1880.de/event/mosel-schildhauer/
CATEGORIES:kleiner Anhänger
END:VEVENT
BEGIN:VEVENT
DTSTART;VALUE=DATE:20240603
DTEND;VALUE=DATE:20240607
DTSTAMP:20260425T044734
CREATED:20240305T171100Z
LAST-MODIFIED:20240305T171100Z
UID:105825-1717372800-1717718399@drv1880.de
SUMMARY:Mosel\, Schildhauer
DESCRIPTION:
URL:https://drv1880.de/event/mosel-schildhauer-2/
CATEGORIES:DINO
END:VEVENT
BEGIN:VEVENT
DTSTART;TZID=Europe/Berlin:20240604T180000
DTEND;TZID=Europe/Berlin:20240604T210000
DTSTAMP:20260425T044734
CREATED:20240308T114530Z
LAST-MODIFIED:20240308T114530Z
UID:106347-1717524000-1717534800@drv1880.de
SUMMARY:Vereinsabend
DESCRIPTION:Gemütliches Beisammensein mit wöchentlich wechselndem Speisenangebot.
URL:https://drv1880.de/event/vereinsabend-56/
CATEGORIES:Vereinsabend
END:VEVENT
BEGIN:VEVENT
DTSTART;VALUE=DATE:20240607
DTEND;VALUE=DATE:20240610
DTSTAMP:20260425T044734
CREATED:20240217T174602Z
LAST-MODIFIED:20240515T155351Z
UID:102759-1717718400-1717977599@drv1880.de
SUMMARY:Ruderkurs 2/2024
DESCRIPTION:Mi\n05.06.2024\n18:00 Uhr\nKennen­lern­abend im Vereinsheim des DRV 1880 e.V.\n\n\nFr\n07.06.2024\n18:00 Uhr\n1. Aus­bildungs­termin im Neusser In­dustrie­hafen\n\n\nSa\n08.06.2024\n16:00 Uhr\n2. Aus­bildungs­termin im Neusser In­dustrie­hafen\n\n\nSo\n09.06.2024\n13:00 Uhr\n3. Aus­bildungs­termin im Neusser In­dustrie­hafen\n\n\nDo\n13.06.2024\n18:00 Uhr\nAus­bildung im DRV 1880 e.V.\n\n\nDo\n20.06.2024\n18:00 Uhr\nAus­bildung im DRV 1880 e.V.\n\n\nDo\n27.06.2024\n18:00 Uhr\nAus­bildung im DRV 1880 e.V.\n\n\nDo\n04.07.2024\n18:00 Uhr\nAus­bildung im DRV 1880 e.V.
URL:https://drv1880.de/event/ruderkurs-2-2024/
LOCATION:Neusser Hafen
CATEGORIES:Ruderkurs
END:VEVENT
BEGIN:VEVENT
DTSTART;TZID=Europe/Berlin:20240611T180000
DTEND;TZID=Europe/Berlin:20240611T210000
DTSTAMP:20260425T044734
CREATED:20240308T114531Z
LAST-MODIFIED:20240308T114531Z
UID:106348-1718128800-1718139600@drv1880.de
SUMMARY:Vereinsabend
DESCRIPTION:Gemütliches Beisammensein mit wöchentlich wechselndem Speisenangebot.
URL:https://drv1880.de/event/vereinsabend-57/
CATEGORIES:Vereinsabend
END:VEVENT
BEGIN:VEVENT
DTSTART;VALUE=DATE:20240615
DTEND;VALUE=DATE:20240616
DTSTAMP:20260425T044734
CREATED:20240527T074517Z
LAST-MODIFIED:20240527T074517Z
UID:107450-1718409600-1718495999@drv1880.de
SUMMARY:A. Boehle
DESCRIPTION:
URL:https://drv1880.de/event/a-boehle/
CATEGORIES:DINO,Fuhrpark
END:VEVENT
BEGIN:VEVENT
DTSTART;VALUE=DATE:20240615
DTEND;VALUE=DATE:20240616
DTSTAMP:20260425T044734
CREATED:20240527T074637Z
LAST-MODIFIED:20240527T074637Z
UID:107452-1718409600-1718495999@drv1880.de
SUMMARY:A. Boehle
DESCRIPTION:
URL:https://drv1880.de/event/a-boehle-2/
CATEGORIES:Fuhrpark,großer Anhänger
END:VEVENT
BEGIN:VEVENT
DTSTART;TZID=Europe/Berlin:20240619T180000
DTEND;TZID=Europe/Berlin:20240619T180000
DTSTAMP:20260425T044734
CREATED:20240616T184411Z
LAST-MODIFIED:20240616T191145Z
UID:107472-1718820000-1718820000@drv1880.de
SUMMARY:Rudelgucken Deutschland-EM Spiele
DESCRIPTION:Speisekarte Juni \nDeutschland vs. Ungarn 19 Juni um 18 Uhr \nWir möchten zusammen mit Euch die Deutschland EM Spiele in der Ökonomie schauen. Dank unserer neuen Technik\, ist das Bild nun auch größer und gestochen scharf 😉. Vorher wird gerudert und passend zum Fußball\, wirft Christiane den Grill an. \nAm 19. Juni wird der Grill ab 17:00 Uhr gezündet – wer vorher Zeit zum Rudern hat\, kann rudern\, aber ohne Einteilung. Das Spiel beginnt um 18:00 Uhr. \nBitte meldet Euch im Vorfeld bei Christiane an. \n 
URL:https://drv1880.de/event/rudelgucken-deutschland-em-spiele/
LOCATION:Ökonomie DRV
CATEGORIES:Event,Rudern
END:VEVENT
BEGIN:VEVENT
DTSTART;TZID=Europe/Berlin:20240618T180000
DTEND;TZID=Europe/Berlin:20240618T210000
DTSTAMP:20260425T044734
CREATED:20240308T114531Z
LAST-MODIFIED:20240616T183605Z
UID:106349-1718733600-1718744400@drv1880.de
SUMMARY:Vereinsabend
DESCRIPTION:Speisekarte Juni \nGemütliches Beisammensein mit wöchentlich wechselndem Speisenangebot.
URL:https://drv1880.de/event/vereinsabend-58/
CATEGORIES:Vereinsabend
END:VEVENT
BEGIN:VEVENT
DTSTART;VALUE=DATE:20240620
DTEND;VALUE=DATE:20240624
DTSTAMP:20260425T044734
CREATED:20240305T160247Z
LAST-MODIFIED:20240305T160247Z
UID:105757-1718841600-1719187199@drv1880.de
SUMMARY:Wanderfahrt rund um Emden
DESCRIPTION:Informationen siehe Aushang.
URL:https://drv1880.de/event/wanderfahrt-rund-um-emden/
CATEGORIES:Wanderfahrt
END:VEVENT
BEGIN:VEVENT
DTSTART;VALUE=DATE:20240620
DTEND;VALUE=DATE:20240624
DTSTAMP:20260425T044734
CREATED:20240305T171141Z
LAST-MODIFIED:20240426T080840Z
UID:105827-1718841600-1719187199@drv1880.de
SUMMARY:Rund um Emden\, A. Böhle
DESCRIPTION:
URL:https://drv1880.de/event/rund-um-emden-a-boehle/
CATEGORIES:DINO
END:VEVENT
BEGIN:VEVENT
DTSTART;TZID=Europe/Berlin:20240620T200000
DTEND;TZID=Europe/Berlin:20240620T220000
DTSTAMP:20260425T044734
CREATED:20240616T203253Z
LAST-MODIFIED:20240616T203253Z
UID:107482-1718913600-1718920800@drv1880.de
SUMMARY:Sundownerstag
DESCRIPTION:  \nNach dem Rudern treffen wir uns zu einem geselligen Beisammensein auf der schönster Terrasse am Rhein. \n 
URL:https://drv1880.de/event/sundownerstag-5/
LOCATION:Ökonomie DRV
CATEGORIES:Vereinsabend
END:VEVENT
BEGIN:VEVENT
DTSTART;TZID=Europe/Berlin:20240623T170000
DTEND;TZID=Europe/Berlin:20240623T230000
DTSTAMP:20260425T044734
CREATED:20240616T190401Z
LAST-MODIFIED:20240616T190842Z
UID:107476-1719162000-1719183600@drv1880.de
SUMMARY:Rudelgucken Deutschland-EM Spiele
DESCRIPTION:Speisekarte Juni \nSchweiz vs. Deutschland 23. Juni um 21 Uhr \nWir möchten zusammen mit Euch die Deutschland EM Spiele in der Ökonomie schauen. Dank unserer neuen Technik\, ist das Bild nun auch größer und gestochen scharf 😉. Vorher wird gerudert und passend zum Fußball\, wirft Christiane den Grill an. Am 23. Juni kann wieder ab 17 Uhr gerudert werden. Ab 20 Uhr raucht der Grill und der Beamer läuft sich warm. Bitte meldet euch im Vorfeld bei Christiane an. \n 
URL:https://drv1880.de/event/rudelgucken-deutschland-em-spiele-2/
LOCATION:Ökonomie DRV
CATEGORIES:Event,Rudern
END:VEVENT
BEGIN:VEVENT
DTSTART;TZID=Europe/Berlin:20240625T180000
DTEND;TZID=Europe/Berlin:20240625T210000
DTSTAMP:20260425T044734
CREATED:20240308T114544Z
LAST-MODIFIED:20240616T183113Z
UID:106350-1719338400-1719349200@drv1880.de
SUMMARY:Vereinsabend
DESCRIPTION:Speisekarte Juni \nGemütliches Beisammensein mit wöchentlich wechselndem Speisenangebot.
URL:https://drv1880.de/event/vereinsabend-59/
CATEGORIES:Vereinsabend
END:VEVENT
BEGIN:VEVENT
DTSTART;VALUE=DATE:20240629
DTEND;VALUE=DATE:20240701
DTSTAMP:20260425T044734
CREATED:20240305T163712Z
LAST-MODIFIED:20240305T163712Z
UID:105782-1719619200-1719791999@drv1880.de
SUMMARY:Wanderfahrt von Düsseldorf nach Dorsten
DESCRIPTION:Informationen siehe Aushang.
URL:https://drv1880.de/event/wanderfahrt-von-duesseldorf-nach-dorsten/
CATEGORIES:Wanderfahrt
END:VEVENT
BEGIN:VEVENT
DTSTART;VALUE=DATE:20240629
DTEND;VALUE=DATE:20240701
DTSTAMP:20260425T044734
CREATED:20240513T094558Z
LAST-MODIFIED:20240513T094558Z
UID:107307-1719619200-1719791999@drv1880.de
SUMMARY:Düsseldorf - Dorsten
DESCRIPTION:
URL:https://drv1880.de/event/duesseldorf-dorsten/
CATEGORIES:DINO,Fuhrpark
END:VEVENT
END:VCALENDAR