BEGIN:VCALENDAR
VERSION:2.0
PRODID:-//DRV1880 - ECPv6.15.20//NONSGML v1.0//EN
CALSCALE:GREGORIAN
METHOD:PUBLISH
X-ORIGINAL-URL:https://drv1880.de
X-WR-CALDESC:Veranstaltungen für DRV1880
REFRESH-INTERVAL;VALUE=DURATION:PT1H
X-Robots-Tag:noindex
X-PUBLISHED-TTL:PT1H
BEGIN:VTIMEZONE
TZID:Europe/Berlin
BEGIN:DAYLIGHT
TZOFFSETFROM:+0100
TZOFFSETTO:+0200
TZNAME:CEST
DTSTART:20230326T010000
END:DAYLIGHT
BEGIN:STANDARD
TZOFFSETFROM:+0200
TZOFFSETTO:+0100
TZNAME:CET
DTSTART:20231029T010000
END:STANDARD
BEGIN:DAYLIGHT
TZOFFSETFROM:+0100
TZOFFSETTO:+0200
TZNAME:CEST
DTSTART:20240331T010000
END:DAYLIGHT
BEGIN:STANDARD
TZOFFSETFROM:+0200
TZOFFSETTO:+0100
TZNAME:CET
DTSTART:20241027T010000
END:STANDARD
BEGIN:DAYLIGHT
TZOFFSETFROM:+0100
TZOFFSETTO:+0200
TZNAME:CEST
DTSTART:20250330T010000
END:DAYLIGHT
BEGIN:STANDARD
TZOFFSETFROM:+0200
TZOFFSETTO:+0100
TZNAME:CET
DTSTART:20251026T010000
END:STANDARD
END:VTIMEZONE
BEGIN:VEVENT
DTSTART;TZID=Europe/Berlin:20240702T180000
DTEND;TZID=Europe/Berlin:20240702T210000
DTSTAMP:20260425T031211
CREATED:20240308T114545Z
LAST-MODIFIED:20240308T114545Z
UID:106351-1719943200-1719954000@drv1880.de
SUMMARY:Vereinsabend
DESCRIPTION:Gemütliches Beisammensein mit wöchentlich wechselndem Speisenangebot.
URL:https://drv1880.de/event/vereinsabend-60/
CATEGORIES:Vereinsabend
END:VEVENT
BEGIN:VEVENT
DTSTART;TZID=Europe/Berlin:20240706T200000
DTEND;TZID=Europe/Berlin:20240706T200000
DTSTAMP:20260425T031211
CREATED:20240320T185103Z
LAST-MODIFIED:20240320T185340Z
UID:107057-1720296000-1720296000@drv1880.de
SUMMARY:Sommerfest im DRV
DESCRIPTION:weitere Infos folgen
URL:https://drv1880.de/event/sommerfest-im-drv/
LOCATION:Ökonomie DRV
CATEGORIES:Event
END:VEVENT
BEGIN:VEVENT
DTSTART;TZID=Europe/Berlin:20240709T180000
DTEND;TZID=Europe/Berlin:20240709T210000
DTSTAMP:20260425T031211
CREATED:20240308T114546Z
LAST-MODIFIED:20240308T114546Z
UID:106352-1720548000-1720558800@drv1880.de
SUMMARY:Vereinsabend
DESCRIPTION:Gemütliches Beisammensein mit wöchentlich wechselndem Speisenangebot.
URL:https://drv1880.de/event/vereinsabend-61/
CATEGORIES:Vereinsabend
END:VEVENT
BEGIN:VEVENT
DTSTART;VALUE=DATE:20240712
DTEND;VALUE=DATE:20240715
DTSTAMP:20260425T031211
CREATED:20240217T174703Z
LAST-MODIFIED:20240515T172043Z
UID:102760-1720742400-1721001599@drv1880.de
SUMMARY:Ruderkurs 3/2024
DESCRIPTION:Mi\n10.07.2024\n18:00 Uhr\nKennen­lern­abend im Vereinsheim des DRV 1880 e.V.\n\n\nFr\n12.07.2024\n18:00 Uhr\n1. Aus­bildungs­termin im Neusser In­dustrie­hafen\n\n\nSa\n13.07.2024\n16:00 Uhr\n2. Aus­bildungs­termin im Neusser In­dustrie­hafen\n\n\nSo\n14.07.2024\n13:00 Uhr\n3. Aus­bildungs­termin im Neusser In­dustrie­hafen\n\n\nDo\n18.07.2024\n18:00 Uhr\nAus­bildung im DRV 1880 e.V.\n\n\nDo\n25.07.2024\n18:00 Uhr\nAus­bildung im DRV 1880 e.V.\n\n\nDo\n01.08.2024\n18:00 Uhr\nAus­bildung im DRV 1880 e.V.\n\n\nDo\n08.08.2024\n18:00 Uhr\nAus­bildung im DRV 1880 e.V.
URL:https://drv1880.de/event/ruderkurs-3-2024/
LOCATION:Neusser Hafen
CATEGORIES:Ruderkurs
END:VEVENT
BEGIN:VEVENT
DTSTART;TZID=Europe/Berlin:20240716T180000
DTEND;TZID=Europe/Berlin:20240716T210000
DTSTAMP:20260425T031211
CREATED:20240308T114546Z
LAST-MODIFIED:20240308T114546Z
UID:106353-1721152800-1721163600@drv1880.de
SUMMARY:Vereinsabend
DESCRIPTION:Gemütliches Beisammensein mit wöchentlich wechselndem Speisenangebot.
URL:https://drv1880.de/event/vereinsabend-62/
CATEGORIES:Vereinsabend
END:VEVENT
BEGIN:VEVENT
DTSTART;TZID=Europe/Berlin:20240723T180000
DTEND;TZID=Europe/Berlin:20240723T210000
DTSTAMP:20260425T031211
CREATED:20240308T114547Z
LAST-MODIFIED:20240308T114547Z
UID:106354-1721757600-1721768400@drv1880.de
SUMMARY:Vereinsabend
DESCRIPTION:Gemütliches Beisammensein mit wöchentlich wechselndem Speisenangebot.
URL:https://drv1880.de/event/vereinsabend-63/
CATEGORIES:Vereinsabend
END:VEVENT
BEGIN:VEVENT
DTSTART;VALUE=DATE:20240727
DTEND;VALUE=DATE:20240728
DTSTAMP:20260425T031211
CREATED:20240513T094715Z
LAST-MODIFIED:20240513T094715Z
UID:107310-1722038400-1722124799@drv1880.de
SUMMARY:Düsseldorf - Homberg\, Boehle
DESCRIPTION:
URL:https://drv1880.de/event/duesseldorf-homberg-boehle/
CATEGORIES:DINO,Fuhrpark
END:VEVENT
BEGIN:VEVENT
DTSTART;VALUE=DATE:20240727
DTEND;VALUE=DATE:20240728
DTSTAMP:20260425T031211
CREATED:20240513T094815Z
LAST-MODIFIED:20240513T094815Z
UID:107313-1722038400-1722124799@drv1880.de
SUMMARY:Düsseldorf - Homberg\, Boehle
DESCRIPTION:
URL:https://drv1880.de/event/duesseldorf-homberg-boehle-2/
CATEGORIES:Fuhrpark,großer Anhänger
END:VEVENT
BEGIN:VEVENT
DTSTART;TZID=Europe/Berlin:20240730T180000
DTEND;TZID=Europe/Berlin:20240730T210000
DTSTAMP:20260425T031211
CREATED:20240308T114600Z
LAST-MODIFIED:20240308T114600Z
UID:106355-1722362400-1722373200@drv1880.de
SUMMARY:Vereinsabend
DESCRIPTION:Gemütliches Beisammensein mit wöchentlich wechselndem Speisenangebot.
URL:https://drv1880.de/event/vereinsabend-64/
CATEGORIES:Vereinsabend
END:VEVENT
END:VCALENDAR