BEGIN:VCALENDAR
VERSION:2.0
PRODID:-//DRV1880 - ECPv6.15.20//NONSGML v1.0//EN
CALSCALE:GREGORIAN
METHOD:PUBLISH
X-WR-CALNAME:DRV1880
X-ORIGINAL-URL:https://drv1880.de
X-WR-CALDESC:Veranstaltungen für DRV1880
REFRESH-INTERVAL;VALUE=DURATION:PT1H
X-Robots-Tag:noindex
X-PUBLISHED-TTL:PT1H
BEGIN:VTIMEZONE
TZID:Europe/Berlin
BEGIN:DAYLIGHT
TZOFFSETFROM:+0100
TZOFFSETTO:+0200
TZNAME:CEST
DTSTART:20230326T010000
END:DAYLIGHT
BEGIN:STANDARD
TZOFFSETFROM:+0200
TZOFFSETTO:+0100
TZNAME:CET
DTSTART:20231029T010000
END:STANDARD
BEGIN:DAYLIGHT
TZOFFSETFROM:+0100
TZOFFSETTO:+0200
TZNAME:CEST
DTSTART:20240331T010000
END:DAYLIGHT
BEGIN:STANDARD
TZOFFSETFROM:+0200
TZOFFSETTO:+0100
TZNAME:CET
DTSTART:20241027T010000
END:STANDARD
BEGIN:DAYLIGHT
TZOFFSETFROM:+0100
TZOFFSETTO:+0200
TZNAME:CEST
DTSTART:20250330T010000
END:DAYLIGHT
BEGIN:STANDARD
TZOFFSETFROM:+0200
TZOFFSETTO:+0100
TZNAME:CET
DTSTART:20251026T010000
END:STANDARD
END:VTIMEZONE
BEGIN:VEVENT
DTSTART;VALUE=DATE:20240803
DTEND;VALUE=DATE:20240805
DTSTAMP:20260425T000440
CREATED:20240617T173529Z
LAST-MODIFIED:20240701T093359Z
UID:107487-1722643200-1722815999@drv1880.de
SUMMARY:Wesel\, Bernd K.
DESCRIPTION:
URL:https://drv1880.de/event/bernd-k/
CATEGORIES:DINO,Fuhrpark
END:VEVENT
BEGIN:VEVENT
DTSTART;VALUE=DATE:20240803
DTEND;VALUE=DATE:20240805
DTSTAMP:20260425T000440
CREATED:20240617T173703Z
LAST-MODIFIED:20240701T093234Z
UID:107489-1722643200-1722815999@drv1880.de
SUMMARY:Wesel Bernd K.
DESCRIPTION:
URL:https://drv1880.de/event/bernd-k-2/
CATEGORIES:Fuhrpark,kleiner Anhänger
END:VEVENT
BEGIN:VEVENT
DTSTART;TZID=Europe/Berlin:20240806T180000
DTEND;TZID=Europe/Berlin:20240806T210000
DTSTAMP:20260425T000440
CREATED:20240308T114600Z
LAST-MODIFIED:20240308T114600Z
UID:106356-1722967200-1722978000@drv1880.de
SUMMARY:Vereinsabend
DESCRIPTION:Gemütliches Beisammensein mit wöchentlich wechselndem Speisenangebot.
URL:https://drv1880.de/event/vereinsabend-65/
CATEGORIES:Vereinsabend
END:VEVENT
BEGIN:VEVENT
DTSTART;VALUE=DATE:20240807
DTEND;VALUE=DATE:20240812
DTSTAMP:20260425T000440
CREATED:20240305T171337Z
LAST-MODIFIED:20240305T171337Z
UID:105831-1722988800-1723420799@drv1880.de
SUMMARY:Weser\, Kutter
DESCRIPTION:
URL:https://drv1880.de/event/weser-kutter/
CATEGORIES:DINO
END:VEVENT
BEGIN:VEVENT
DTSTART;VALUE=DATE:20240807
DTEND;VALUE=DATE:20240812
DTSTAMP:20260425T000440
CREATED:20240305T171416Z
LAST-MODIFIED:20240305T171416Z
UID:105833-1722988800-1723420799@drv1880.de
SUMMARY:Weser\, Kutter
DESCRIPTION:
URL:https://drv1880.de/event/weser-kutter-2/
CATEGORIES:kleiner Anhänger
END:VEVENT
BEGIN:VEVENT
DTSTART;TZID=Europe/Berlin:20240813T180000
DTEND;TZID=Europe/Berlin:20240813T210000
DTSTAMP:20260425T000440
CREATED:20240308T114601Z
LAST-MODIFIED:20240308T114601Z
UID:106357-1723572000-1723582800@drv1880.de
SUMMARY:Vereinsabend
DESCRIPTION:Gemütliches Beisammensein mit wöchentlich wechselndem Speisenangebot.
URL:https://drv1880.de/event/vereinsabend-66/
CATEGORIES:Vereinsabend
END:VEVENT
BEGIN:VEVENT
DTSTART;VALUE=DATE:20240816
DTEND;VALUE=DATE:20240821
DTSTAMP:20260425T000440
CREATED:20240626T062702Z
LAST-MODIFIED:20240626T063303Z
UID:107515-1723766400-1724198399@drv1880.de
SUMMARY:Sorpesee 2024 - Jugendtour
DESCRIPTION:
URL:https://drv1880.de/event/sorpesee-2024-jugendtour/
CATEGORIES:Event,Jugend,Rudern
END:VEVENT
BEGIN:VEVENT
DTSTART;VALUE=DATE:20240816
DTEND;VALUE=DATE:20240826
DTSTAMP:20260425T000440
CREATED:20240325T124357Z
LAST-MODIFIED:20240325T125228Z
UID:107096-1723766400-1724630399@drv1880.de
SUMMARY:Sorpesee Richard
DESCRIPTION:Skifflager am Sorpesee
URL:https://drv1880.de/event/sorpesee-richard/
CATEGORIES:DINO,Fuhrpark
END:VEVENT
BEGIN:VEVENT
DTSTART;VALUE=DATE:20240816
DTEND;VALUE=DATE:20240826
DTSTAMP:20260425T000441
CREATED:20240325T125545Z
LAST-MODIFIED:20240325T125545Z
UID:107106-1723766400-1724630399@drv1880.de
SUMMARY:Sorpesee\, Richard
DESCRIPTION:Skifflager am Sorpesee
URL:https://drv1880.de/event/sorpesee-richard-2/
CATEGORIES:Fuhrpark,großer Anhänger
END:VEVENT
BEGIN:VEVENT
DTSTART;VALUE=DATE:20240816
DTEND;VALUE=DATE:20240826
DTSTAMP:20260425T000441
CREATED:20240707T183107Z
LAST-MODIFIED:20240707T183107Z
UID:107532-1723766400-1724630399@drv1880.de
SUMMARY:Skifflager am Sorpesee
DESCRIPTION:Sorpesee 2024 \nAnbei findet ihr die Infos zur Ausschreibung Skifflager am Sorpesee
URL:https://drv1880.de/event/skifflager-am-sorpesee/
CATEGORIES:Rudern
END:VEVENT
BEGIN:VEVENT
DTSTART;VALUE=DATE:20240820
DTEND;VALUE=DATE:20240823
DTSTAMP:20260425T000441
CREATED:20240626T062837Z
LAST-MODIFIED:20240626T063320Z
UID:107519-1724112000-1724371199@drv1880.de
SUMMARY:Sorpesee 2024 - Anfängertour
DESCRIPTION:
URL:https://drv1880.de/event/sorpesee-2024-anfaengertour/
CATEGORIES:Anfänger,Event,Rudern
END:VEVENT
BEGIN:VEVENT
DTSTART;TZID=Europe/Berlin:20240820T180000
DTEND;TZID=Europe/Berlin:20240820T210000
DTSTAMP:20260425T000441
CREATED:20240308T114602Z
LAST-MODIFIED:20240308T114602Z
UID:106358-1724176800-1724187600@drv1880.de
SUMMARY:Vereinsabend
DESCRIPTION:Gemütliches Beisammensein mit wöchentlich wechselndem Speisenangebot.
URL:https://drv1880.de/event/vereinsabend-67/
CATEGORIES:Vereinsabend
END:VEVENT
BEGIN:VEVENT
DTSTART;VALUE=DATE:20240822
DTEND;VALUE=DATE:20240826
DTSTAMP:20260425T000441
CREATED:20240701T093613Z
LAST-MODIFIED:20240701T093613Z
UID:107529-1724284800-1724630399@drv1880.de
SUMMARY:Anfängerfahrt Mosel\, Weissmann
DESCRIPTION:
URL:https://drv1880.de/event/anfaengerfahrt-mosel-weissmann/
CATEGORIES:Fuhrpark,kleiner Anhänger
END:VEVENT
BEGIN:VEVENT
DTSTART;VALUE=DATE:20240823
DTEND;VALUE=DATE:20240826
DTSTAMP:20260425T000441
CREATED:20240320T185503Z
LAST-MODIFIED:20240320T190058Z
UID:107059-1724371200-1724630399@drv1880.de
SUMMARY:Anfänger Wanderfahrt an die Mosel
DESCRIPTION:weitere Infos folgen
URL:https://drv1880.de/event/mosel-wanderfahrt/
CATEGORIES:Wanderfahrt
END:VEVENT
BEGIN:VEVENT
DTSTART;VALUE=DATE:20240823
DTEND;VALUE=DATE:20240826
DTSTAMP:20260425T000441
CREATED:20240626T063003Z
LAST-MODIFIED:20240626T063130Z
UID:107521-1724371200-1724630399@drv1880.de
SUMMARY:Sorpesee 2024 - Skiff & Chill & Grill
DESCRIPTION:
URL:https://drv1880.de/event/sorpesee-2024-skiff-chill-grill/
CATEGORIES:Event,Rudern
END:VEVENT
BEGIN:VEVENT
DTSTART;TZID=Europe/Berlin:20240827T180000
DTEND;TZID=Europe/Berlin:20240827T210000
DTSTAMP:20260425T000441
CREATED:20240308T114603Z
LAST-MODIFIED:20240308T114603Z
UID:106359-1724781600-1724792400@drv1880.de
SUMMARY:Vereinsabend
DESCRIPTION:Gemütliches Beisammensein mit wöchentlich wechselndem Speisenangebot.
URL:https://drv1880.de/event/vereinsabend-68/
CATEGORIES:Vereinsabend
END:VEVENT
BEGIN:VEVENT
DTSTART;VALUE=DATE:20240830
DTEND;VALUE=DATE:20240902
DTSTAMP:20260425T000441
CREATED:20240320T192729Z
LAST-MODIFIED:20240320T192729Z
UID:107063-1724976000-1725235199@drv1880.de
SUMMARY:Schützenfest Hamm
DESCRIPTION:
URL:https://drv1880.de/event/schuetzenfest-hamm/
CATEGORIES:Event extern
END:VEVENT
END:VCALENDAR