BEGIN:VCALENDAR
VERSION:2.0
PRODID:-//DRV1880 - ECPv6.15.20//NONSGML v1.0//EN
CALSCALE:GREGORIAN
METHOD:PUBLISH
X-WR-CALNAME:DRV1880
X-ORIGINAL-URL:https://drv1880.de
X-WR-CALDESC:Veranstaltungen für DRV1880
REFRESH-INTERVAL;VALUE=DURATION:PT1H
X-Robots-Tag:noindex
X-PUBLISHED-TTL:PT1H
BEGIN:VTIMEZONE
TZID:Europe/Berlin
BEGIN:DAYLIGHT
TZOFFSETFROM:+0100
TZOFFSETTO:+0200
TZNAME:CEST
DTSTART:20230326T010000
END:DAYLIGHT
BEGIN:STANDARD
TZOFFSETFROM:+0200
TZOFFSETTO:+0100
TZNAME:CET
DTSTART:20231029T010000
END:STANDARD
BEGIN:DAYLIGHT
TZOFFSETFROM:+0100
TZOFFSETTO:+0200
TZNAME:CEST
DTSTART:20240331T010000
END:DAYLIGHT
BEGIN:STANDARD
TZOFFSETFROM:+0200
TZOFFSETTO:+0100
TZNAME:CET
DTSTART:20241027T010000
END:STANDARD
BEGIN:DAYLIGHT
TZOFFSETFROM:+0100
TZOFFSETTO:+0200
TZNAME:CEST
DTSTART:20250330T010000
END:DAYLIGHT
BEGIN:STANDARD
TZOFFSETFROM:+0200
TZOFFSETTO:+0100
TZNAME:CET
DTSTART:20251026T010000
END:STANDARD
END:VTIMEZONE
BEGIN:VEVENT
DTSTART;VALUE=DATE:20240830
DTEND;VALUE=DATE:20240902
DTSTAMP:20260424T204201
CREATED:20240320T192729Z
LAST-MODIFIED:20240320T192729Z
UID:107063-1724976000-1725235199@drv1880.de
SUMMARY:Schützenfest Hamm
DESCRIPTION:
URL:https://drv1880.de/event/schuetzenfest-hamm/
CATEGORIES:Event extern
END:VEVENT
BEGIN:VEVENT
DTSTART;TZID=Europe/Berlin:20240903T180000
DTEND;TZID=Europe/Berlin:20240903T210000
DTSTAMP:20260424T204201
CREATED:20240308T114614Z
LAST-MODIFIED:20240308T114614Z
UID:106360-1725386400-1725397200@drv1880.de
SUMMARY:Vereinsabend
DESCRIPTION:Gemütliches Beisammensein mit wöchentlich wechselndem Speisenangebot.
URL:https://drv1880.de/event/vereinsabend-69/
CATEGORIES:Vereinsabend
END:VEVENT
BEGIN:VEVENT
DTSTART;VALUE=DATE:20240908
DTEND;VALUE=DATE:20240909
DTSTAMP:20260424T204201
CREATED:20240902T110256Z
LAST-MODIFIED:20240902T110256Z
UID:107600-1725753600-1725839999@drv1880.de
SUMMARY:Lev - Dus\, Althof
DESCRIPTION:
URL:https://drv1880.de/event/lev-dus-althof/
CATEGORIES:DINO,Fuhrpark
END:VEVENT
BEGIN:VEVENT
DTSTART;VALUE=DATE:20240908
DTEND;VALUE=DATE:20240909
DTSTAMP:20260424T204201
CREATED:20240902T110339Z
LAST-MODIFIED:20240902T110339Z
UID:107602-1725753600-1725839999@drv1880.de
SUMMARY:Lev - Dus\, Althof
DESCRIPTION:
URL:https://drv1880.de/event/lev-dus-althof-2/
CATEGORIES:Fuhrpark,kleiner Anhänger
END:VEVENT
BEGIN:VEVENT
DTSTART;TZID=Europe/Berlin:20240910T180000
DTEND;TZID=Europe/Berlin:20240910T210000
DTSTAMP:20260424T204201
CREATED:20240308T114616Z
LAST-MODIFIED:20240308T114616Z
UID:106361-1725991200-1726002000@drv1880.de
SUMMARY:Vereinsabend
DESCRIPTION:Gemütliches Beisammensein mit wöchentlich wechselndem Speisenangebot.
URL:https://drv1880.de/event/vereinsabend-70/
CATEGORIES:Vereinsabend
END:VEVENT
BEGIN:VEVENT
DTSTART;VALUE=DATE:20240915
DTEND;VALUE=DATE:20240916
DTSTAMP:20260424T204201
CREATED:20240910T085916Z
LAST-MODIFIED:20240910T085916Z
UID:107607-1726358400-1726444799@drv1880.de
SUMMARY:Lev. - Dus. Althof
DESCRIPTION:
URL:https://drv1880.de/event/lev-dus-althof-3/
CATEGORIES:DINO,Fuhrpark
END:VEVENT
BEGIN:VEVENT
DTSTART;VALUE=DATE:20240915
DTEND;VALUE=DATE:20240916
DTSTAMP:20260424T204201
CREATED:20240910T085952Z
LAST-MODIFIED:20240910T085952Z
UID:107609-1726358400-1726444799@drv1880.de
SUMMARY:Lev. - Dus. Althof
DESCRIPTION:
URL:https://drv1880.de/event/lev-dus-althof-4/
CATEGORIES:Fuhrpark,kleiner Anhänger
END:VEVENT
BEGIN:VEVENT
DTSTART;TZID=Europe/Berlin:20240917T180000
DTEND;TZID=Europe/Berlin:20240917T210000
DTSTAMP:20260424T204201
CREATED:20240308T114616Z
LAST-MODIFIED:20240308T114616Z
UID:106362-1726596000-1726606800@drv1880.de
SUMMARY:Vereinsabend
DESCRIPTION:Gemütliches Beisammensein mit wöchentlich wechselndem Speisenangebot.
URL:https://drv1880.de/event/vereinsabend-71/
CATEGORIES:Vereinsabend
END:VEVENT
BEGIN:VEVENT
DTSTART;VALUE=DATE:20240921
DTEND;VALUE=DATE:20240922
DTSTAMP:20260424T204201
CREATED:20240320T201925Z
LAST-MODIFIED:20240320T201925Z
UID:107069-1726876800-1726963199@drv1880.de
SUMMARY:Wanderrudertreffen in Regensburg
DESCRIPTION:
URL:https://drv1880.de/event/wanderrudertreffen-in-regensburg/
CATEGORIES:Event extern
END:VEVENT
BEGIN:VEVENT
DTSTART;VALUE=DATE:20240921
DTEND;VALUE=DATE:20240923
DTSTAMP:20260424T204201
CREATED:20240818T104027Z
LAST-MODIFIED:20240818T104027Z
UID:107574-1726876800-1727049599@drv1880.de
SUMMARY:Osterloh
DESCRIPTION:
URL:https://drv1880.de/event/osterloh/
CATEGORIES:kleiner Anhänger
END:VEVENT
BEGIN:VEVENT
DTSTART;TZID=Europe/Berlin:20240921T100000
DTEND;TZID=Europe/Berlin:20240921T150000
DTSTAMP:20260424T204201
CREATED:20240320T201810Z
LAST-MODIFIED:20240320T201810Z
UID:107066-1726912800-1726930800@drv1880.de
SUMMARY:Hausputz
DESCRIPTION:
URL:https://drv1880.de/event/hausputz-3/
LOCATION:Bootshaus\, Düsseldorf\, 40239
CATEGORIES:Sonstiges
END:VEVENT
BEGIN:VEVENT
DTSTART;TZID=Europe/Berlin:20240924T180000
DTEND;TZID=Europe/Berlin:20240924T210000
DTSTAMP:20260424T204201
CREATED:20240308T114617Z
LAST-MODIFIED:20240308T114617Z
UID:106363-1727200800-1727211600@drv1880.de
SUMMARY:Vereinsabend
DESCRIPTION:Gemütliches Beisammensein mit wöchentlich wechselndem Speisenangebot.
URL:https://drv1880.de/event/vereinsabend-72/
CATEGORIES:Vereinsabend
END:VEVENT
BEGIN:VEVENT
DTSTART;VALUE=DATE:20240925
DTEND;VALUE=DATE:20241001
DTSTAMP:20260424T204201
CREATED:20240305T171459Z
LAST-MODIFIED:20240305T171459Z
UID:105835-1727222400-1727740799@drv1880.de
SUMMARY:Lahn\, Kemmelmeier
DESCRIPTION:
URL:https://drv1880.de/event/lahn-kemmelmeier/
CATEGORIES:DINO
END:VEVENT
BEGIN:VEVENT
DTSTART;VALUE=DATE:20240925
DTEND;VALUE=DATE:20241001
DTSTAMP:20260424T204201
CREATED:20240305T171553Z
LAST-MODIFIED:20240305T171553Z
UID:105837-1727222400-1727740799@drv1880.de
SUMMARY:Lahn\, Kemmelmeier
DESCRIPTION:
URL:https://drv1880.de/event/lahn-kemmelmeier-2/
CATEGORIES:großer Anhänger
END:VEVENT
END:VCALENDAR