BEGIN:VCALENDAR
VERSION:2.0
PRODID:-//DRV1880 - ECPv6.15.20//NONSGML v1.0//EN
CALSCALE:GREGORIAN
METHOD:PUBLISH
X-WR-CALNAME:DRV1880
X-ORIGINAL-URL:https://drv1880.de
X-WR-CALDESC:Veranstaltungen für DRV1880
REFRESH-INTERVAL;VALUE=DURATION:PT1H
X-Robots-Tag:noindex
X-PUBLISHED-TTL:PT1H
BEGIN:VTIMEZONE
TZID:Europe/Berlin
BEGIN:DAYLIGHT
TZOFFSETFROM:+0100
TZOFFSETTO:+0200
TZNAME:CEST
DTSTART:20230326T010000
END:DAYLIGHT
BEGIN:STANDARD
TZOFFSETFROM:+0200
TZOFFSETTO:+0100
TZNAME:CET
DTSTART:20231029T010000
END:STANDARD
BEGIN:DAYLIGHT
TZOFFSETFROM:+0100
TZOFFSETTO:+0200
TZNAME:CEST
DTSTART:20240331T010000
END:DAYLIGHT
BEGIN:STANDARD
TZOFFSETFROM:+0200
TZOFFSETTO:+0100
TZNAME:CET
DTSTART:20241027T010000
END:STANDARD
BEGIN:DAYLIGHT
TZOFFSETFROM:+0100
TZOFFSETTO:+0200
TZNAME:CEST
DTSTART:20250330T010000
END:DAYLIGHT
BEGIN:STANDARD
TZOFFSETFROM:+0200
TZOFFSETTO:+0100
TZNAME:CET
DTSTART:20251026T010000
END:STANDARD
END:VTIMEZONE
BEGIN:VEVENT
DTSTART;TZID=Europe/Berlin:20241001T180000
DTEND;TZID=Europe/Berlin:20241001T210000
DTSTAMP:20260424T191946
CREATED:20240308T114617Z
LAST-MODIFIED:20240308T114617Z
UID:106364-1727805600-1727816400@drv1880.de
SUMMARY:Vereinsabend
DESCRIPTION:Gemütliches Beisammensein mit wöchentlich wechselndem Speisenangebot.
URL:https://drv1880.de/event/vereinsabend-73/
CATEGORIES:Vereinsabend
END:VEVENT
BEGIN:VEVENT
DTSTART;VALUE=DATE:20241003
DTEND;VALUE=DATE:20241007
DTSTAMP:20260424T191946
CREATED:20240819T075458Z
LAST-MODIFIED:20240819T075458Z
UID:107577-1727913600-1728259199@drv1880.de
SUMMARY:Marathon
DESCRIPTION:
URL:https://drv1880.de/event/marathon/
CATEGORIES:DINO,Fuhrpark
END:VEVENT
BEGIN:VEVENT
DTSTART;VALUE=DATE:20241003
DTEND;VALUE=DATE:20241007
DTSTAMP:20260424T191946
CREATED:20240819T075622Z
LAST-MODIFIED:20240819T075622Z
UID:107579-1727913600-1728259199@drv1880.de
SUMMARY:Marathon
DESCRIPTION:
URL:https://drv1880.de/event/marathon-2/
CATEGORIES:Fuhrpark,großer Anhänger
END:VEVENT
BEGIN:VEVENT
DTSTART;VALUE=DATE:20241003
DTEND;VALUE=DATE:20241007
DTSTAMP:20260424T191946
CREATED:20240819T075722Z
LAST-MODIFIED:20240819T075722Z
UID:107581-1727913600-1728259199@drv1880.de
SUMMARY:Marathon
DESCRIPTION:
URL:https://drv1880.de/event/marathon-3/
CATEGORIES:Fuhrpark,kleiner Anhänger
END:VEVENT
BEGIN:VEVENT
DTSTART;VALUE=DATE:20241005
DTEND;VALUE=DATE:20241006
DTSTAMP:20260424T191946
CREATED:20240221T075137Z
LAST-MODIFIED:20240221T075214Z
UID:103374-1728086400-1728172799@drv1880.de
SUMMARY:Rheinmarathon
DESCRIPTION:43km von Leverkusen nach Düsseldorf
URL:https://drv1880.de/event/rheinmarathon/
CATEGORIES:Regatta
END:VEVENT
BEGIN:VEVENT
DTSTART;TZID=Europe/Berlin:20241008T180000
DTEND;TZID=Europe/Berlin:20241008T210000
DTSTAMP:20260424T191946
CREATED:20240308T114629Z
LAST-MODIFIED:20240308T114629Z
UID:106365-1728410400-1728421200@drv1880.de
SUMMARY:Vereinsabend
DESCRIPTION:Gemütliches Beisammensein mit wöchentlich wechselndem Speisenangebot.
URL:https://drv1880.de/event/vereinsabend-74/
CATEGORIES:Vereinsabend
END:VEVENT
BEGIN:VEVENT
DTSTART;TZID=Europe/Berlin:20241015T180000
DTEND;TZID=Europe/Berlin:20241015T210000
DTSTAMP:20260424T191946
CREATED:20240308T114629Z
LAST-MODIFIED:20240308T114629Z
UID:106366-1729015200-1729026000@drv1880.de
SUMMARY:Vereinsabend
DESCRIPTION:Gemütliches Beisammensein mit wöchentlich wechselndem Speisenangebot.
URL:https://drv1880.de/event/vereinsabend-75/
CATEGORIES:Vereinsabend
END:VEVENT
BEGIN:VEVENT
DTSTART;VALUE=DATE:20241020
DTEND;VALUE=DATE:20241021
DTSTAMP:20260424T191946
CREATED:20240819T080031Z
LAST-MODIFIED:20240819T080031Z
UID:107583-1729382400-1729468799@drv1880.de
SUMMARY:Duisburg Homberg\, M I-M
DESCRIPTION:
URL:https://drv1880.de/event/duisburg-homberg-m-i-m/
CATEGORIES:DINO,Fuhrpark
END:VEVENT
BEGIN:VEVENT
DTSTART;VALUE=DATE:20241020
DTEND;VALUE=DATE:20241021
DTSTAMP:20260424T191946
CREATED:20240819T080129Z
LAST-MODIFIED:20240819T080129Z
UID:107585-1729382400-1729468799@drv1880.de
SUMMARY:Duisburg Homberg\, M I-M
DESCRIPTION:
URL:https://drv1880.de/event/duisburg-homberg-m-i-m-2/
CATEGORIES:Fuhrpark,großer Anhänger
END:VEVENT
BEGIN:VEVENT
DTSTART;TZID=Europe/Berlin:20241022T180000
DTEND;TZID=Europe/Berlin:20241022T210000
DTSTAMP:20260424T191946
CREATED:20240308T114630Z
LAST-MODIFIED:20240308T114630Z
UID:106367-1729620000-1729630800@drv1880.de
SUMMARY:Vereinsabend
DESCRIPTION:Gemütliches Beisammensein mit wöchentlich wechselndem Speisenangebot.
URL:https://drv1880.de/event/vereinsabend-76/
CATEGORIES:Vereinsabend
END:VEVENT
BEGIN:VEVENT
DTSTART;TZID=Europe/Berlin:20241027T100000
DTEND;TZID=Europe/Berlin:20241027T150000
DTSTAMP:20260424T191946
CREATED:20240320T202159Z
LAST-MODIFIED:20240320T202159Z
UID:107073-1730023200-1730041200@drv1880.de
SUMMARY:Abrudern
DESCRIPTION:
URL:https://drv1880.de/event/abrudern/
LOCATION:Bootshaus\, Düsseldorf\, 40239
CATEGORIES:Rudern,Wanderfahrt
END:VEVENT
BEGIN:VEVENT
DTSTART;TZID=Europe/Berlin:20241029T180000
DTEND;TZID=Europe/Berlin:20241029T210000
DTSTAMP:20260424T191946
CREATED:20240308T114631Z
LAST-MODIFIED:20240308T114631Z
UID:106368-1730224800-1730235600@drv1880.de
SUMMARY:Vereinsabend
DESCRIPTION:Gemütliches Beisammensein mit wöchentlich wechselndem Speisenangebot.
URL:https://drv1880.de/event/vereinsabend-77/
CATEGORIES:Vereinsabend
END:VEVENT
BEGIN:VEVENT
DTSTART;TZID=Europe/Berlin:20241030T180000
DTEND;TZID=Europe/Berlin:20241030T190000
DTSTAMP:20260424T191946
CREATED:20240320T202454Z
LAST-MODIFIED:20240320T202454Z
UID:107076-1730311200-1730314800@drv1880.de
SUMMARY:Hallentraining
DESCRIPTION:weitere Infos folgen
URL:https://drv1880.de/event/hallentraining/
LOCATION:Hulda-Pankok-Gesamtschule\, Brinckmannstraße 16\, 40225 Düsseldorf
CATEGORIES:Training
END:VEVENT
END:VCALENDAR