BEGIN:VCALENDAR
VERSION:2.0
PRODID:-//DRV1880 - ECPv6.15.20//NONSGML v1.0//EN
CALSCALE:GREGORIAN
METHOD:PUBLISH
X-ORIGINAL-URL:https://drv1880.de
X-WR-CALDESC:Veranstaltungen für DRV1880
REFRESH-INTERVAL;VALUE=DURATION:PT1H
X-Robots-Tag:noindex
X-PUBLISHED-TTL:PT1H
BEGIN:VTIMEZONE
TZID:Europe/Berlin
BEGIN:DAYLIGHT
TZOFFSETFROM:+0100
TZOFFSETTO:+0200
TZNAME:CEST
DTSTART:20240331T010000
END:DAYLIGHT
BEGIN:STANDARD
TZOFFSETFROM:+0200
TZOFFSETTO:+0100
TZNAME:CET
DTSTART:20241027T010000
END:STANDARD
BEGIN:DAYLIGHT
TZOFFSETFROM:+0100
TZOFFSETTO:+0200
TZNAME:CEST
DTSTART:20250330T010000
END:DAYLIGHT
BEGIN:STANDARD
TZOFFSETFROM:+0200
TZOFFSETTO:+0100
TZNAME:CET
DTSTART:20251026T010000
END:STANDARD
BEGIN:DAYLIGHT
TZOFFSETFROM:+0100
TZOFFSETTO:+0200
TZNAME:CEST
DTSTART:20260329T010000
END:DAYLIGHT
BEGIN:STANDARD
TZOFFSETFROM:+0200
TZOFFSETTO:+0100
TZNAME:CET
DTSTART:20261025T010000
END:STANDARD
END:VTIMEZONE
BEGIN:VEVENT
DTSTART;TZID=Europe/Berlin:20250204T180000
DTEND;TZID=Europe/Berlin:20250204T210000
DTSTAMP:20260424T124819
CREATED:20250112T112932Z
LAST-MODIFIED:20250112T112932Z
UID:107840-1738692000-1738702800@drv1880.de
SUMMARY:Vereinsabend
DESCRIPTION:Gemütliches Beisammensein mit wöchentlich wechselndem Speisenangebot.
URL:https://drv1880.de/event/vereinsabend-86/
LOCATION:Ökonomie DRV
CATEGORIES:Vereinsabend
END:VEVENT
BEGIN:VEVENT
DTSTART;TZID=Europe/Berlin:20250209T120000
DTEND;TZID=Europe/Berlin:20250209T160000
DTSTAMP:20260424T124819
CREATED:20250112T113705Z
LAST-MODIFIED:20250112T113705Z
UID:107855-1739102400-1739116800@drv1880.de
SUMMARY:Neujahrsempfang
DESCRIPTION:Neujahrsempfang ab 12:00 Uhr
URL:https://drv1880.de/event/neujahrsempfang-2/
LOCATION:Ökonomie DRV
CATEGORIES:Sonstiges
END:VEVENT
BEGIN:VEVENT
DTSTART;TZID=Europe/Berlin:20250211T180000
DTEND;TZID=Europe/Berlin:20250211T210000
DTSTAMP:20260424T124819
CREATED:20250112T112840Z
LAST-MODIFIED:20250112T112840Z
UID:107842-1739296800-1739307600@drv1880.de
SUMMARY:Vereinsabend
DESCRIPTION:Gemütliches Beisammensein mit wöchentlich wechselndem Speisenangebot.
URL:https://drv1880.de/event/vereinsabend-85/
LOCATION:Ökonomie DRV
CATEGORIES:Vereinsabend
END:VEVENT
BEGIN:VEVENT
DTSTART;TZID=Europe/Berlin:20250218T180000
DTEND;TZID=Europe/Berlin:20250218T210000
DTSTAMP:20260424T124819
CREATED:20250112T113025Z
LAST-MODIFIED:20250112T113025Z
UID:107846-1739901600-1739912400@drv1880.de
SUMMARY:Vereinsabend
DESCRIPTION:Gemütliches Beisammensein mit wöchentlich wechselndem Speisenangebot.
URL:https://drv1880.de/event/vereinsabend-87/
LOCATION:Ökonomie DRV
CATEGORIES:Vereinsabend
END:VEVENT
BEGIN:VEVENT
DTSTART;TZID=Europe/Berlin:20250222T120000
DTEND;TZID=Europe/Berlin:20250222T170000
DTSTAMP:20260424T124819
CREATED:20250112T113822Z
LAST-MODIFIED:20250119T121835Z
UID:107858-1740225600-1740243600@drv1880.de
SUMMARY:Grünkohlrudern
DESCRIPTION:Weitere Infos folgen
URL:https://drv1880.de/event/gruenkohlrudern/
LOCATION:Bootshaus\, Düsseldorf\, 40239
CATEGORIES:Rudern
END:VEVENT
BEGIN:VEVENT
DTSTART;TZID=Europe/Berlin:20250225T180000
DTEND;TZID=Europe/Berlin:20250225T210000
DTSTAMP:20260424T124819
CREATED:20250112T113240Z
LAST-MODIFIED:20250112T113240Z
UID:107848-1740506400-1740517200@drv1880.de
SUMMARY:Vereinsabend
DESCRIPTION:Gemütliches Beisammensein mit wöchentlich wechselndem Speisenangebot.
URL:https://drv1880.de/event/vereinsabend-88/
LOCATION:Ökonomie DRV
CATEGORIES:Vereinsabend
END:VEVENT
END:VCALENDAR