BEGIN:VCALENDAR
VERSION:2.0
PRODID:-//DRV1880 - ECPv6.15.20//NONSGML v1.0//EN
CALSCALE:GREGORIAN
METHOD:PUBLISH
X-WR-CALNAME:DRV1880
X-ORIGINAL-URL:https://drv1880.de
X-WR-CALDESC:Veranstaltungen für DRV1880
REFRESH-INTERVAL;VALUE=DURATION:PT1H
X-Robots-Tag:noindex
X-PUBLISHED-TTL:PT1H
BEGIN:VTIMEZONE
TZID:Europe/Berlin
BEGIN:DAYLIGHT
TZOFFSETFROM:+0100
TZOFFSETTO:+0200
TZNAME:CEST
DTSTART:20240331T010000
END:DAYLIGHT
BEGIN:STANDARD
TZOFFSETFROM:+0200
TZOFFSETTO:+0100
TZNAME:CET
DTSTART:20241027T010000
END:STANDARD
BEGIN:DAYLIGHT
TZOFFSETFROM:+0100
TZOFFSETTO:+0200
TZNAME:CEST
DTSTART:20250330T010000
END:DAYLIGHT
BEGIN:STANDARD
TZOFFSETFROM:+0200
TZOFFSETTO:+0100
TZNAME:CET
DTSTART:20251026T010000
END:STANDARD
BEGIN:DAYLIGHT
TZOFFSETFROM:+0100
TZOFFSETTO:+0200
TZNAME:CEST
DTSTART:20260329T010000
END:DAYLIGHT
BEGIN:STANDARD
TZOFFSETFROM:+0200
TZOFFSETTO:+0100
TZNAME:CET
DTSTART:20261025T010000
END:STANDARD
END:VTIMEZONE
BEGIN:VEVENT
DTSTART;TZID=Europe/Berlin:20250701T180000
DTEND;TZID=Europe/Berlin:20250701T210000
DTSTAMP:20260421T233114
CREATED:20250112T123624Z
LAST-MODIFIED:20250112T123624Z
UID:107910-1751392800-1751403600@drv1880.de
SUMMARY:Vereinsabend
DESCRIPTION:Gemütliches Beisammensein mit wöchentlich wechselndem Speisenangebot.
URL:https://drv1880.de/event/vereinsabend-104/
CATEGORIES:Vereinsabend
END:VEVENT
BEGIN:VEVENT
DTSTART;TZID=Europe/Berlin:20250705T170000
DTEND;TZID=Europe/Berlin:20250705T233000
DTSTAMP:20260421T233114
CREATED:20250112T131209Z
LAST-MODIFIED:20250618T171444Z
UID:107981-1751734800-1751758200@drv1880.de
SUMMARY:Sommerfest
DESCRIPTION:LASST UNS GEMEINSAM DEN SOMMER UND CHRISTIANES GEBURTSTAG FEIERN! \nUm 17:00 Uhr geht es los! \nFeiert mit den DJ`s “De Huusmeester” und tanzt mit Franks Sambatruppe “Sambadeira” durch die Nacht!\nFür`s leibliche Wohl sorgt selbstverständlich die “Rheinperle im DRV”!\nKommt vorbei\, bringt eure Freunde und Familie mit und genießt einen geselligen Tag auf der schönsten Terrasse am Rhein! \nVorab kann um 14:00 Uhr gerudert werden. \nUm Anmeldung für das Fest wird gebeten über gastro@drv1880.de \nFür das Rudern ist keine Anmeldung notwendig.
URL:https://drv1880.de/event/sommerfest/
LOCATION:Ökonomie DRV
CATEGORIES:Event
END:VEVENT
BEGIN:VEVENT
DTSTART;TZID=Europe/Berlin:20250708T180000
DTEND;TZID=Europe/Berlin:20250708T210000
DTSTAMP:20260421T233114
CREATED:20250112T123710Z
LAST-MODIFIED:20250112T123710Z
UID:107912-1751997600-1752008400@drv1880.de
SUMMARY:Vereinsabend
DESCRIPTION:Gemütliches Beisammensein mit wöchentlich wechselndem Speisenangebot.
URL:https://drv1880.de/event/vereinsabend-105/
CATEGORIES:Vereinsabend
END:VEVENT
BEGIN:VEVENT
DTSTART;TZID=Europe/Berlin:20250715T180000
DTEND;TZID=Europe/Berlin:20250715T210000
DTSTAMP:20260421T233114
CREATED:20250112T123757Z
LAST-MODIFIED:20250112T123757Z
UID:107914-1752602400-1752613200@drv1880.de
SUMMARY:Vereinsabend
DESCRIPTION:Gemütliches Beisammensein mit wöchentlich wechselndem Speisenangebot.
URL:https://drv1880.de/event/vereinsabend-106/
CATEGORIES:Vereinsabend
END:VEVENT
BEGIN:VEVENT
DTSTART;TZID=Europe/Berlin:20250722T180000
DTEND;TZID=Europe/Berlin:20250722T210000
DTSTAMP:20260421T233114
CREATED:20250112T123853Z
LAST-MODIFIED:20250112T123853Z
UID:107916-1753207200-1753218000@drv1880.de
SUMMARY:Vereinsabend
DESCRIPTION:Gemütliches Beisammensein mit wöchentlich wechselndem Speisenangebot.
URL:https://drv1880.de/event/vereinsabend-107/
CATEGORIES:Vereinsabend
END:VEVENT
BEGIN:VEVENT
DTSTART;VALUE=DATE:20250726
DTEND;VALUE=DATE:20250727
DTSTAMP:20260421T233114
CREATED:20241011T075711Z
LAST-MODIFIED:20241011T075711Z
UID:107680-1753488000-1753574399@drv1880.de
SUMMARY:DRV-Homberg\, Boehle
DESCRIPTION:
URL:https://drv1880.de/event/drv-homberg-boehle/
CATEGORIES:DINO,Fuhrpark
END:VEVENT
BEGIN:VEVENT
DTSTART;VALUE=DATE:20250726
DTEND;VALUE=DATE:20250727
DTSTAMP:20260421T233114
CREATED:20241011T075851Z
LAST-MODIFIED:20241011T075851Z
UID:107682-1753488000-1753574399@drv1880.de
SUMMARY:DRV-Homberg\, Boehle
DESCRIPTION:
URL:https://drv1880.de/event/drv-homberg-boehle-2/
CATEGORIES:Fuhrpark,großer Anhänger
END:VEVENT
BEGIN:VEVENT
DTSTART;VALUE=DATE:20250726
DTEND;VALUE=DATE:20250727
DTSTAMP:20260421T233114
CREATED:20241011T075940Z
LAST-MODIFIED:20241011T075940Z
UID:107684-1753488000-1753574399@drv1880.de
SUMMARY:DRV-Homberg\, Boehle
DESCRIPTION:
URL:https://drv1880.de/event/drv-homberg-boehle-3/
CATEGORIES:Fuhrpark,kleiner Anhänger
END:VEVENT
BEGIN:VEVENT
DTSTART;VALUE=DATE:20250726
DTEND;VALUE=DATE:20250727
DTSTAMP:20260421T233114
CREATED:20250112T131338Z
LAST-MODIFIED:20250604T200548Z
UID:107983-1753488000-1753574399@drv1880.de
SUMMARY:Wanderfahrt nach Duisburg-Homberg
DESCRIPTION:Infos folgen
URL:https://drv1880.de/event/wanderfahrt-nach-duisburg-homberg/
CATEGORIES:Wanderfahrt
END:VEVENT
BEGIN:VEVENT
DTSTART;TZID=Europe/Berlin:20250729T180000
DTEND;TZID=Europe/Berlin:20250729T210000
DTSTAMP:20260421T233114
CREATED:20250112T123944Z
LAST-MODIFIED:20250112T123944Z
UID:107918-1753812000-1753822800@drv1880.de
SUMMARY:Vereinsabend
DESCRIPTION:Gemütliches Beisammensein mit wöchentlich wechselndem Speisenangebot.
URL:https://drv1880.de/event/vereinsabend-108/
CATEGORIES:Vereinsabend
END:VEVENT
END:VCALENDAR