BEGIN:VCALENDAR
VERSION:2.0
PRODID:-//DRV1880 - ECPv6.15.20//NONSGML v1.0//EN
CALSCALE:GREGORIAN
METHOD:PUBLISH
X-WR-CALNAME:DRV1880
X-ORIGINAL-URL:https://drv1880.de
X-WR-CALDESC:Veranstaltungen für DRV1880
REFRESH-INTERVAL;VALUE=DURATION:PT1H
X-Robots-Tag:noindex
X-PUBLISHED-TTL:PT1H
BEGIN:VTIMEZONE
TZID:Europe/Berlin
BEGIN:DAYLIGHT
TZOFFSETFROM:+0100
TZOFFSETTO:+0200
TZNAME:CEST
DTSTART:20240331T010000
END:DAYLIGHT
BEGIN:STANDARD
TZOFFSETFROM:+0200
TZOFFSETTO:+0100
TZNAME:CET
DTSTART:20241027T010000
END:STANDARD
BEGIN:DAYLIGHT
TZOFFSETFROM:+0100
TZOFFSETTO:+0200
TZNAME:CEST
DTSTART:20250330T010000
END:DAYLIGHT
BEGIN:STANDARD
TZOFFSETFROM:+0200
TZOFFSETTO:+0100
TZNAME:CET
DTSTART:20251026T010000
END:STANDARD
BEGIN:DAYLIGHT
TZOFFSETFROM:+0100
TZOFFSETTO:+0200
TZNAME:CEST
DTSTART:20260329T010000
END:DAYLIGHT
BEGIN:STANDARD
TZOFFSETFROM:+0200
TZOFFSETTO:+0100
TZNAME:CET
DTSTART:20261025T010000
END:STANDARD
END:VTIMEZONE
BEGIN:VEVENT
DTSTART;TZID=Europe/Berlin:20250805T180000
DTEND;TZID=Europe/Berlin:20250805T210000
DTSTAMP:20260421T215046
CREATED:20250112T124028Z
LAST-MODIFIED:20250112T124028Z
UID:107920-1754416800-1754427600@drv1880.de
SUMMARY:Vereinsabend
DESCRIPTION:Gemütliches Beisammensein mit wöchentlich wechselndem Speisenangebot.
URL:https://drv1880.de/event/vereinsabend-109/
CATEGORIES:Vereinsabend
END:VEVENT
BEGIN:VEVENT
DTSTART;TZID=Europe/Berlin:20250812T180000
DTEND;TZID=Europe/Berlin:20250812T210000
DTSTAMP:20260421T215046
CREATED:20250112T124159Z
LAST-MODIFIED:20250112T124159Z
UID:107922-1755021600-1755032400@drv1880.de
SUMMARY:Vereinsabend
DESCRIPTION:Gemütliches Beisammensein mit wöchentlich wechselndem Speisenangebot.
URL:https://drv1880.de/event/vereinsabend-110/
CATEGORIES:Vereinsabend
END:VEVENT
BEGIN:VEVENT
DTSTART;VALUE=DATE:20250814
DTEND;VALUE=DATE:20250818
DTSTAMP:20260421T215046
CREATED:20250112T131530Z
LAST-MODIFIED:20250112T131530Z
UID:107985-1755129600-1755475199@drv1880.de
SUMMARY:Wanderfahrt auf der Weser
DESCRIPTION:
URL:https://drv1880.de/event/wanderfahrt-auf-der-weser/
CATEGORIES:Wanderfahrt
END:VEVENT
BEGIN:VEVENT
DTSTART;VALUE=DATE:20250814
DTEND;VALUE=DATE:20250818
DTSTAMP:20260421T215046
CREATED:20250203T143623Z
LAST-MODIFIED:20250210T114652Z
UID:108046-1755129600-1755475199@drv1880.de
SUMMARY:Weser\, Boehle
DESCRIPTION:
URL:https://drv1880.de/event/sorpesee/
CATEGORIES:DINO,Fuhrpark
END:VEVENT
BEGIN:VEVENT
DTSTART;VALUE=DATE:20250814
DTEND;VALUE=DATE:20250818
DTSTAMP:20260421T215046
CREATED:20250210T115032Z
LAST-MODIFIED:20250210T115032Z
UID:108064-1755129600-1755475199@drv1880.de
SUMMARY:Weser\, Boehle
DESCRIPTION:
URL:https://drv1880.de/event/weser-boehle/
CATEGORIES:Fuhrpark,kleiner Anhänger
END:VEVENT
BEGIN:VEVENT
DTSTART;VALUE=DATE:20250815
DTEND;VALUE=DATE:20250822
DTSTAMP:20260421T215046
CREATED:20250414T185610Z
LAST-MODIFIED:20250414T185610Z
UID:108161-1755216000-1755820799@drv1880.de
SUMMARY:Skiff fahren auf dem Sorpesee
DESCRIPTION:Save the Date – Sorpesee 2025 \nDu und dein Skiff – eine Liebesgeschichte in sieben Tagen? \nVom 15. bis 21. August 2025 heißt es wieder: Wasser unterm Kiel\, Sonne im Gesicht und Muskelkater in Aussicht! \nUnser Skifflager am traumhaften Sorpesee wartet auf dich – ob du schon elegant übers Wasser schwebst oder das Wackeln erst lernen willst. \nOrt des Geschehens: Ruderclub Sorpesee in Sundern. \nUnd aufgepasst: Das Amt des Kenterkönigs (oder der Kenterkönigin) ist vakant – mutige Bewerber*innen sind herzlich willkommen! \nAnmeldung? Bald! \nMehr Infos folgen – aber den Termin solltest du dir schon mal mit wasserfestem Marker eintragen. \n 
URL:https://drv1880.de/event/skiff-fahren-auf-dem-sorpesee/
CATEGORIES:Ausbildung,Rudern
END:VEVENT
BEGIN:VEVENT
DTSTART;VALUE=DATE:20250815
DTEND;VALUE=DATE:20250827
DTSTAMP:20260421T215046
CREATED:20250210T114941Z
LAST-MODIFIED:20250414T185400Z
UID:108062-1755216000-1756252799@drv1880.de
SUMMARY:Sorpesee
DESCRIPTION:
URL:https://drv1880.de/event/sorpesee-3/
CATEGORIES:Fuhrpark,großer Anhänger
END:VEVENT
BEGIN:VEVENT
DTSTART;TZID=Europe/Berlin:20250819T180000
DTEND;TZID=Europe/Berlin:20250819T210000
DTSTAMP:20260421T215046
CREATED:20250112T124245Z
LAST-MODIFIED:20250112T124245Z
UID:107924-1755626400-1755637200@drv1880.de
SUMMARY:Vereinsabend
DESCRIPTION:Gemütliches Beisammensein mit wöchentlich wechselndem Speisenangebot.
URL:https://drv1880.de/event/vereinsabend-111/
CATEGORIES:Vereinsabend
END:VEVENT
BEGIN:VEVENT
DTSTART;VALUE=DATE:20250820
DTEND;VALUE=DATE:20250825
DTSTAMP:20260421T215046
CREATED:20251112T102520Z
LAST-MODIFIED:20251112T102520Z
UID:108454-1755648000-1756079999@drv1880.de
SUMMARY:Mosel Anfängerwanderfahrt\, Weissmann
DESCRIPTION:
URL:https://drv1880.de/event/mosel-anfaengerwanderfahrt-weissmann-2/
CATEGORIES:Fuhrpark,großer Anhänger
END:VEVENT
BEGIN:VEVENT
DTSTART;VALUE=DATE:20250821
DTEND;VALUE=DATE:20250826
DTSTAMP:20260421T215046
CREATED:20250112T091432Z
LAST-MODIFIED:20250112T091432Z
UID:107837-1755734400-1756166399@drv1880.de
SUMMARY:Anfänger Mosel
DESCRIPTION:
URL:https://drv1880.de/event/anfaenger-mosel-2/
CATEGORIES:Fuhrpark,großer Anhänger
END:VEVENT
BEGIN:VEVENT
DTSTART;VALUE=DATE:20250822
DTEND;VALUE=DATE:20250827
DTSTAMP:20260421T215046
CREATED:20250112T131655Z
LAST-MODIFIED:20250112T131655Z
UID:107987-1755820800-1756252799@drv1880.de
SUMMARY:Jugendwochenende am Sorpesee
DESCRIPTION:
URL:https://drv1880.de/event/jugendwochenende-am-sorpesee/
CATEGORIES:Rudern
END:VEVENT
BEGIN:VEVENT
DTSTART;VALUE=DATE:20250822
DTEND;VALUE=DATE:20250827
DTSTAMP:20260421T215046
CREATED:20250203T143711Z
LAST-MODIFIED:20250203T143711Z
UID:108048-1755820800-1756252799@drv1880.de
SUMMARY:Sorpesee
DESCRIPTION:
URL:https://drv1880.de/event/sorpesee-2/
CATEGORIES:DINO,Fuhrpark
END:VEVENT
BEGIN:VEVENT
DTSTART;VALUE=DATE:20250823
DTEND;VALUE=DATE:20250825
DTSTAMP:20260421T215046
CREATED:20250112T131930Z
LAST-MODIFIED:20250618T171724Z
UID:107991-1755907200-1756079999@drv1880.de
SUMMARY:Anfänger-Wanderfahrt an der Mosel
DESCRIPTION:
URL:https://drv1880.de/event/anfaenger-wanderfahrt-an-der-mosel/
CATEGORIES:Wanderfahrt
END:VEVENT
BEGIN:VEVENT
DTSTART;TZID=Europe/Berlin:20250826T180000
DTEND;TZID=Europe/Berlin:20250826T210000
DTSTAMP:20260421T215046
CREATED:20250112T124314Z
LAST-MODIFIED:20250112T124315Z
UID:107926-1756231200-1756242000@drv1880.de
SUMMARY:Vereinsabend
DESCRIPTION:Gemütliches Beisammensein mit wöchentlich wechselndem Speisenangebot.
URL:https://drv1880.de/event/vereinsabend-112/
CATEGORIES:Vereinsabend
END:VEVENT
BEGIN:VEVENT
DTSTART;VALUE=DATE:20250829
DTEND;VALUE=DATE:20250901
DTSTAMP:20260421T215046
CREATED:20250112T131821Z
LAST-MODIFIED:20250112T131821Z
UID:107989-1756425600-1756684799@drv1880.de
SUMMARY:Rudern am Sorpesee
DESCRIPTION:
URL:https://drv1880.de/event/rudern-am-sorpesee/
CATEGORIES:Rudern
END:VEVENT
BEGIN:VEVENT
DTSTART;VALUE=DATE:20250829
DTEND;VALUE=DATE:20250901
DTSTAMP:20260421T215046
CREATED:20250429T130809Z
LAST-MODIFIED:20250429T130809Z
UID:108173-1756425600-1756684799@drv1880.de
SUMMARY:Neuwied Düsseldorf\, Boehle
DESCRIPTION:
URL:https://drv1880.de/event/neuwied-duesseldorf-boehle/
CATEGORIES:DINO,Fuhrpark
END:VEVENT
BEGIN:VEVENT
DTSTART;VALUE=DATE:20250829
DTEND;VALUE=DATE:20250901
DTSTAMP:20260421T215046
CREATED:20250429T130846Z
LAST-MODIFIED:20250429T130846Z
UID:108175-1756425600-1756684799@drv1880.de
SUMMARY:Neuwied Düsseldorf\, Boehle
DESCRIPTION:
URL:https://drv1880.de/event/neuwied-duesseldorf-boehle-2/
CATEGORIES:Fuhrpark,großer Anhänger
END:VEVENT
END:VCALENDAR