BEGIN:VCALENDAR
VERSION:2.0
PRODID:-//DRV1880 - ECPv6.15.20//NONSGML v1.0//EN
CALSCALE:GREGORIAN
METHOD:PUBLISH
X-WR-CALNAME:DRV1880
X-ORIGINAL-URL:https://drv1880.de
X-WR-CALDESC:Veranstaltungen für DRV1880
REFRESH-INTERVAL;VALUE=DURATION:PT1H
X-Robots-Tag:noindex
X-PUBLISHED-TTL:PT1H
BEGIN:VTIMEZONE
TZID:Europe/Berlin
BEGIN:DAYLIGHT
TZOFFSETFROM:+0100
TZOFFSETTO:+0200
TZNAME:CEST
DTSTART:20240331T010000
END:DAYLIGHT
BEGIN:STANDARD
TZOFFSETFROM:+0200
TZOFFSETTO:+0100
TZNAME:CET
DTSTART:20241027T010000
END:STANDARD
BEGIN:DAYLIGHT
TZOFFSETFROM:+0100
TZOFFSETTO:+0200
TZNAME:CEST
DTSTART:20250330T010000
END:DAYLIGHT
BEGIN:STANDARD
TZOFFSETFROM:+0200
TZOFFSETTO:+0100
TZNAME:CET
DTSTART:20251026T010000
END:STANDARD
BEGIN:DAYLIGHT
TZOFFSETFROM:+0100
TZOFFSETTO:+0200
TZNAME:CEST
DTSTART:20260329T010000
END:DAYLIGHT
BEGIN:STANDARD
TZOFFSETFROM:+0200
TZOFFSETTO:+0100
TZNAME:CET
DTSTART:20261025T010000
END:STANDARD
END:VTIMEZONE
BEGIN:VEVENT
DTSTART;TZID=Europe/Berlin:20250902T180000
DTEND;TZID=Europe/Berlin:20250902T210000
DTSTAMP:20260421T201058
CREATED:20250112T124343Z
LAST-MODIFIED:20250112T124343Z
UID:107928-1756836000-1756846800@drv1880.de
SUMMARY:Vereinsabend
DESCRIPTION:Gemütliches Beisammensein mit wöchentlich wechselndem Speisenangebot.
URL:https://drv1880.de/event/vereinsabend-113/
CATEGORIES:Vereinsabend
END:VEVENT
BEGIN:VEVENT
DTSTART;VALUE=DATE:20250906
DTEND;VALUE=DATE:20250908
DTSTAMP:20260421T201058
CREATED:20250112T132019Z
LAST-MODIFIED:20250112T132041Z
UID:107995-1757116800-1757289599@drv1880.de
SUMMARY:Schützenfest in Hamm
DESCRIPTION:Parken auf dem Parkplatz eingeschränkt möglich
URL:https://drv1880.de/event/schuetzenfest-in-hamm/
CATEGORIES:Event
END:VEVENT
BEGIN:VEVENT
DTSTART;TZID=Europe/Berlin:20250909T180000
DTEND;TZID=Europe/Berlin:20250909T210000
DTSTAMP:20260421T201058
CREATED:20250112T124416Z
LAST-MODIFIED:20250112T124417Z
UID:107930-1757440800-1757451600@drv1880.de
SUMMARY:Vereinsabend
DESCRIPTION:Gemütliches Beisammensein mit wöchentlich wechselndem Speisenangebot.
URL:https://drv1880.de/event/vereinsabend-114/
CATEGORIES:Vereinsabend
END:VEVENT
BEGIN:VEVENT
DTSTART;VALUE=DATE:20250912
DTEND;VALUE=DATE:20250915
DTSTAMP:20260421T201058
CREATED:20250112T132144Z
LAST-MODIFIED:20250112T132144Z
UID:107998-1757635200-1757894399@drv1880.de
SUMMARY:Wanderrudertreffen in Berlin-Treptow
DESCRIPTION:
URL:https://drv1880.de/event/wanderrudertreffen-in-berlin-treptow/
CATEGORIES:Sonstiges
END:VEVENT
BEGIN:VEVENT
DTSTART;TZID=Europe/Berlin:20250916T180000
DTEND;TZID=Europe/Berlin:20250916T210000
DTSTAMP:20260421T201058
CREATED:20250112T124446Z
LAST-MODIFIED:20250112T124446Z
UID:107932-1758045600-1758056400@drv1880.de
SUMMARY:Vereinsabend
DESCRIPTION:Gemütliches Beisammensein mit wöchentlich wechselndem Speisenangebot.
URL:https://drv1880.de/event/vereinsabend-115/
CATEGORIES:Vereinsabend
END:VEVENT
BEGIN:VEVENT
DTSTART;TZID=Europe/Berlin:20250920T100000
DTEND;TZID=Europe/Berlin:20250920T140000
DTSTAMP:20260421T201058
CREATED:20250112T132319Z
LAST-MODIFIED:20250112T132319Z
UID:108001-1758362400-1758376800@drv1880.de
SUMMARY:Hausputz
DESCRIPTION:ab 10 Uhr mit Mittagessen
URL:https://drv1880.de/event/hausputz-5/
LOCATION:Bootshaus\, Düsseldorf\, 40239
CATEGORIES:Sonstiges
END:VEVENT
BEGIN:VEVENT
DTSTART;VALUE=DATE:20250921
DTEND;VALUE=DATE:20250922
DTSTAMP:20260421T201058
CREATED:20250915T092146Z
LAST-MODIFIED:20250915T092146Z
UID:108237-1758412800-1758499199@drv1880.de
SUMMARY:Althof
DESCRIPTION:
URL:https://drv1880.de/event/althof-5/
CATEGORIES:Fuhrpark,kleiner Anhänger
END:VEVENT
BEGIN:VEVENT
DTSTART;VALUE=DATE:20250923
DTEND;VALUE=DATE:20250930
DTSTAMP:20260421T201058
CREATED:20250429T131120Z
LAST-MODIFIED:20250429T131120Z
UID:108177-1758585600-1759190399@drv1880.de
SUMMARY:Lahn\, Kemmelmeier
DESCRIPTION:
URL:https://drv1880.de/event/lahn-kemmelmeier-3/
CATEGORIES:DINO,Fuhrpark
END:VEVENT
BEGIN:VEVENT
DTSTART;VALUE=DATE:20250923
DTEND;VALUE=DATE:20250930
DTSTAMP:20260421T201058
CREATED:20250429T131253Z
LAST-MODIFIED:20250429T131253Z
UID:108180-1758585600-1759190399@drv1880.de
SUMMARY:Lahn\, Kemmelmeier
DESCRIPTION:
URL:https://drv1880.de/event/lahn-kemmelmeier-4/
CATEGORIES:Fuhrpark,großer Anhänger
END:VEVENT
BEGIN:VEVENT
DTSTART;TZID=Europe/Berlin:20250923T180000
DTEND;TZID=Europe/Berlin:20250923T210000
DTSTAMP:20260421T201058
CREATED:20250112T124510Z
LAST-MODIFIED:20250112T124511Z
UID:107934-1758650400-1758661200@drv1880.de
SUMMARY:Vereinsabend
DESCRIPTION:Gemütliches Beisammensein mit wöchentlich wechselndem Speisenangebot.
URL:https://drv1880.de/event/vereinsabend-116/
CATEGORIES:Vereinsabend
END:VEVENT
BEGIN:VEVENT
DTSTART;VALUE=DATE:20250925
DTEND;VALUE=DATE:20250929
DTSTAMP:20260421T201058
CREATED:20250112T132523Z
LAST-MODIFIED:20250112T132523Z
UID:108004-1758758400-1759103999@drv1880.de
SUMMARY:Lahnwanderfahrt
DESCRIPTION:mit Bernd Kemmelmeier
URL:https://drv1880.de/event/lahnwanderfahrt/
CATEGORIES:Wanderfahrt
END:VEVENT
BEGIN:VEVENT
DTSTART;VALUE=DATE:20250927
DTEND;VALUE=DATE:20250928
DTSTAMP:20260421T201058
CREATED:20250922T161445Z
LAST-MODIFIED:20250922T161445Z
UID:108294-1758931200-1759017599@drv1880.de
SUMMARY:Althof
DESCRIPTION:
URL:https://drv1880.de/event/althof-6/
CATEGORIES:Fuhrpark,kleiner Anhänger
END:VEVENT
BEGIN:VEVENT
DTSTART;TZID=Europe/Berlin:20250930T180000
DTEND;TZID=Europe/Berlin:20250930T210000
DTSTAMP:20260421T201058
CREATED:20250112T124546Z
LAST-MODIFIED:20250112T124546Z
UID:107936-1759255200-1759266000@drv1880.de
SUMMARY:Vereinsabend
DESCRIPTION:Gemütliches Beisammensein mit wöchentlich wechselndem Speisenangebot.
URL:https://drv1880.de/event/vereinsabend-117/
CATEGORIES:Vereinsabend
END:VEVENT
END:VCALENDAR