BEGIN:VCALENDAR
VERSION:2.0
PRODID:-//DRV1880 - ECPv6.15.20//NONSGML v1.0//EN
CALSCALE:GREGORIAN
METHOD:PUBLISH
X-ORIGINAL-URL:https://drv1880.de
X-WR-CALDESC:Veranstaltungen für DRV1880
REFRESH-INTERVAL;VALUE=DURATION:PT1H
X-Robots-Tag:noindex
X-PUBLISHED-TTL:PT1H
BEGIN:VTIMEZONE
TZID:Europe/Berlin
BEGIN:DAYLIGHT
TZOFFSETFROM:+0100
TZOFFSETTO:+0200
TZNAME:CEST
DTSTART:20250330T010000
END:DAYLIGHT
BEGIN:STANDARD
TZOFFSETFROM:+0200
TZOFFSETTO:+0100
TZNAME:CET
DTSTART:20251026T010000
END:STANDARD
BEGIN:DAYLIGHT
TZOFFSETFROM:+0100
TZOFFSETTO:+0200
TZNAME:CEST
DTSTART:20260329T010000
END:DAYLIGHT
BEGIN:STANDARD
TZOFFSETFROM:+0200
TZOFFSETTO:+0100
TZNAME:CET
DTSTART:20261025T010000
END:STANDARD
BEGIN:DAYLIGHT
TZOFFSETFROM:+0100
TZOFFSETTO:+0200
TZNAME:CEST
DTSTART:20270328T010000
END:DAYLIGHT
BEGIN:STANDARD
TZOFFSETFROM:+0200
TZOFFSETTO:+0100
TZNAME:CET
DTSTART:20271031T010000
END:STANDARD
END:VTIMEZONE
BEGIN:VEVENT
DTSTART;TZID=Europe/Berlin:20260602T180000
DTEND;TZID=Europe/Berlin:20260602T210000
DTSTAMP:20260423T130311
CREATED:20260113T195913Z
LAST-MODIFIED:20260113T195913Z
UID:108665-1780423200-1780434000@drv1880.de
SUMMARY:Vereinsabend
DESCRIPTION:Gemütliches Beisammensein mit wöchentlich wechselndem Speisenangebot.
URL:https://drv1880.de/event/vereinsabend-148/
CATEGORIES:Vereinsabend
END:VEVENT
BEGIN:VEVENT
DTSTART;VALUE=DATE:20260603
DTEND;VALUE=DATE:20260608
DTSTAMP:20260423T130311
CREATED:20251127T094330Z
LAST-MODIFIED:20251127T094330Z
UID:108470-1780444800-1780876799@drv1880.de
SUMMARY:Boehle
DESCRIPTION:
URL:https://drv1880.de/event/boehle-8/
CATEGORIES:DINO,Fuhrpark
END:VEVENT
BEGIN:VEVENT
DTSTART;VALUE=DATE:20260603
DTEND;VALUE=DATE:20260608
DTSTAMP:20260423T130311
CREATED:20251127T094414Z
LAST-MODIFIED:20251127T094414Z
UID:108472-1780444800-1780876799@drv1880.de
SUMMARY:Boehle
DESCRIPTION:
URL:https://drv1880.de/event/boehle-9/
CATEGORIES:Fuhrpark,kleiner Anhänger
END:VEVENT
BEGIN:VEVENT
DTSTART;VALUE=DATE:20260604
DTEND;VALUE=DATE:20260608
DTSTAMP:20260423T130311
CREATED:20260110T130431Z
LAST-MODIFIED:20260113T184314Z
UID:108594-1780531200-1780876799@drv1880.de
SUMMARY:Wanderfahrt Lahn-Rhein
DESCRIPTION:
URL:https://drv1880.de/event/wanderfahrt-lahn-rhein/
CATEGORIES:Wanderfahrt
END:VEVENT
BEGIN:VEVENT
DTSTART;TZID=Europe/Berlin:20260609T180000
DTEND;TZID=Europe/Berlin:20260609T210000
DTSTAMP:20260423T130311
CREATED:20260113T195915Z
LAST-MODIFIED:20260113T195915Z
UID:108666-1781028000-1781038800@drv1880.de
SUMMARY:Vereinsabend
DESCRIPTION:Gemütliches Beisammensein mit wöchentlich wechselndem Speisenangebot.
URL:https://drv1880.de/event/vereinsabend-149/
CATEGORIES:Vereinsabend
END:VEVENT
BEGIN:VEVENT
DTSTART;TZID=Europe/Berlin:20260616T180000
DTEND;TZID=Europe/Berlin:20260616T210000
DTSTAMP:20260423T130311
CREATED:20260113T195916Z
LAST-MODIFIED:20260113T195917Z
UID:108667-1781632800-1781643600@drv1880.de
SUMMARY:Vereinsabend
DESCRIPTION:Gemütliches Beisammensein mit wöchentlich wechselndem Speisenangebot.
URL:https://drv1880.de/event/vereinsabend-150/
CATEGORIES:Vereinsabend
END:VEVENT
BEGIN:VEVENT
DTSTART;VALUE=DATE:20260622
DTEND;VALUE=DATE:20260627
DTSTAMP:20260423T130311
CREATED:20260207T114413Z
LAST-MODIFIED:20260207T114413Z
UID:108702-1782086400-1782518399@drv1880.de
SUMMARY:Senioren Mosel
DESCRIPTION:
URL:https://drv1880.de/event/senioren-mosel-3/
CATEGORIES:DINO,Fuhrpark
END:VEVENT
BEGIN:VEVENT
DTSTART;VALUE=DATE:20260622
DTEND;VALUE=DATE:20260627
DTSTAMP:20260423T130311
CREATED:20260207T114455Z
LAST-MODIFIED:20260207T114455Z
UID:108704-1782086400-1782518399@drv1880.de
SUMMARY:Senioren Mosel
DESCRIPTION:
URL:https://drv1880.de/event/senioren-mosel-4/
CATEGORIES:Fuhrpark,kleiner Anhänger
END:VEVENT
BEGIN:VEVENT
DTSTART;TZID=Europe/Berlin:20260623T180000
DTEND;TZID=Europe/Berlin:20260623T210000
DTSTAMP:20260423T130311
CREATED:20260113T200031Z
LAST-MODIFIED:20260113T200031Z
UID:108668-1782237600-1782248400@drv1880.de
SUMMARY:Vereinsabend
DESCRIPTION:Gemütliches Beisammensein mit wöchentlich wechselndem Speisenangebot.
URL:https://drv1880.de/event/vereinsabend-151/
CATEGORIES:Vereinsabend
END:VEVENT
BEGIN:VEVENT
DTSTART;VALUE=DATE:20260627
DTEND;VALUE=DATE:20260629
DTSTAMP:20260423T130311
CREATED:20260110T130527Z
LAST-MODIFIED:20260113T184251Z
UID:108596-1782518400-1782691199@drv1880.de
SUMMARY:Wanderfahrt Düsseldorf-Dorsten
DESCRIPTION:
URL:https://drv1880.de/event/wanderfahrt-duesseldorf-dorsten/
CATEGORIES:Wanderfahrt
END:VEVENT
BEGIN:VEVENT
DTSTART;VALUE=DATE:20260627
DTEND;VALUE=DATE:20260629
DTSTAMP:20260423T130311
CREATED:20260308T204749Z
LAST-MODIFIED:20260308T204749Z
UID:108755-1782518400-1782691199@drv1880.de
SUMMARY:Düsseldorf-Dorsten\, Schneppe
DESCRIPTION:
URL:https://drv1880.de/event/duesseldorf-dorsten-schneppe/
CATEGORIES:DINO,Fuhrpark
END:VEVENT
BEGIN:VEVENT
DTSTART;TZID=Europe/Berlin:20260630T180000
DTEND;TZID=Europe/Berlin:20260630T210000
DTSTAMP:20260423T130311
CREATED:20260113T200033Z
LAST-MODIFIED:20260113T200033Z
UID:108669-1782842400-1782853200@drv1880.de
SUMMARY:Vereinsabend
DESCRIPTION:Gemütliches Beisammensein mit wöchentlich wechselndem Speisenangebot.
URL:https://drv1880.de/event/vereinsabend-152/
CATEGORIES:Vereinsabend
END:VEVENT
END:VCALENDAR