BEGIN:VCALENDAR
VERSION:2.0
PRODID:-//DRV1880 - ECPv6.15.20//NONSGML v1.0//EN
CALSCALE:GREGORIAN
METHOD:PUBLISH
X-WR-CALNAME:DRV1880
X-ORIGINAL-URL:https://drv1880.de
X-WR-CALDESC:Veranstaltungen für DRV1880
REFRESH-INTERVAL;VALUE=DURATION:PT1H
X-Robots-Tag:noindex
X-PUBLISHED-TTL:PT1H
BEGIN:VTIMEZONE
TZID:Europe/Berlin
BEGIN:DAYLIGHT
TZOFFSETFROM:+0100
TZOFFSETTO:+0200
TZNAME:CEST
DTSTART:20250330T010000
END:DAYLIGHT
BEGIN:STANDARD
TZOFFSETFROM:+0200
TZOFFSETTO:+0100
TZNAME:CET
DTSTART:20251026T010000
END:STANDARD
BEGIN:DAYLIGHT
TZOFFSETFROM:+0100
TZOFFSETTO:+0200
TZNAME:CEST
DTSTART:20260329T010000
END:DAYLIGHT
BEGIN:STANDARD
TZOFFSETFROM:+0200
TZOFFSETTO:+0100
TZNAME:CET
DTSTART:20261025T010000
END:STANDARD
BEGIN:DAYLIGHT
TZOFFSETFROM:+0100
TZOFFSETTO:+0200
TZNAME:CEST
DTSTART:20270328T010000
END:DAYLIGHT
BEGIN:STANDARD
TZOFFSETFROM:+0200
TZOFFSETTO:+0100
TZNAME:CET
DTSTART:20271031T010000
END:STANDARD
END:VTIMEZONE
BEGIN:VEVENT
DTSTART;VALUE=DATE:20260801
DTEND;VALUE=DATE:20260802
DTSTAMP:20260423T162851
CREATED:20251127T094749Z
LAST-MODIFIED:20251127T094809Z
UID:108481-1785542400-1785628799@drv1880.de
SUMMARY:Boehle
DESCRIPTION:
URL:https://drv1880.de/event/boehle-13/
CATEGORIES:Fuhrpark,kleiner Anhänger
END:VEVENT
BEGIN:VEVENT
DTSTART;VALUE=DATE:20260801
DTEND;VALUE=DATE:20260802
DTSTAMP:20260423T162851
CREATED:20251127T094547Z
LAST-MODIFIED:20251127T094547Z
UID:108477-1785542400-1785628799@drv1880.de
SUMMARY:Boehle
DESCRIPTION:
URL:https://drv1880.de/event/boehle-11/
CATEGORIES:DINO,Fuhrpark
END:VEVENT
BEGIN:VEVENT
DTSTART;VALUE=DATE:20260801
DTEND;VALUE=DATE:20260802
DTSTAMP:20260423T162851
CREATED:20251127T094724Z
LAST-MODIFIED:20251127T094724Z
UID:108479-1785542400-1785628799@drv1880.de
SUMMARY:Boehle
DESCRIPTION:
URL:https://drv1880.de/event/boehle-12/
CATEGORIES:Fuhrpark,großer Anhänger
END:VEVENT
BEGIN:VEVENT
DTSTART;VALUE=DATE:20260801
DTEND;VALUE=DATE:20260802
DTSTAMP:20260423T162851
CREATED:20260110T131005Z
LAST-MODIFIED:20260113T184008Z
UID:108610-1785542400-1785628799@drv1880.de
SUMMARY:Duisburg-Homberg Anfängertour
DESCRIPTION:
URL:https://drv1880.de/event/duisburg-homberg-anfaengertour/
CATEGORIES:Anfänger,Wanderfahrt
END:VEVENT
BEGIN:VEVENT
DTSTART;TZID=Europe/Berlin:20260804T180000
DTEND;TZID=Europe/Berlin:20260804T210000
DTSTAMP:20260423T162851
CREATED:20260113T200110Z
LAST-MODIFIED:20260113T200110Z
UID:108674-1785866400-1785877200@drv1880.de
SUMMARY:Vereinsabend
DESCRIPTION:Gemütliches Beisammensein mit wöchentlich wechselndem Speisenangebot.
URL:https://drv1880.de/event/vereinsabend-157/
CATEGORIES:Vereinsabend
END:VEVENT
BEGIN:VEVENT
DTSTART;VALUE=DATE:20260805
DTEND;VALUE=DATE:20260810
DTSTAMP:20260423T162851
CREATED:20251127T094851Z
LAST-MODIFIED:20251127T094851Z
UID:108483-1785888000-1786319999@drv1880.de
SUMMARY:Boehle
DESCRIPTION:
URL:https://drv1880.de/event/boehle-14/
CATEGORIES:Fuhrpark,kleiner Anhänger
END:VEVENT
BEGIN:VEVENT
DTSTART;VALUE=DATE:20260805
DTEND;VALUE=DATE:20260810
DTSTAMP:20260423T162851
CREATED:20251127T095313Z
LAST-MODIFIED:20251127T095313Z
UID:108486-1785888000-1786319999@drv1880.de
SUMMARY:Boehle
DESCRIPTION:
URL:https://drv1880.de/event/boehle-15/
CATEGORIES:DINO,Fuhrpark
END:VEVENT
BEGIN:VEVENT
DTSTART;VALUE=DATE:20260806
DTEND;VALUE=DATE:20260810
DTSTAMP:20260423T162851
CREATED:20260110T131111Z
LAST-MODIFIED:20260113T183855Z
UID:108613-1785974400-1786319999@drv1880.de
SUMMARY:Wanderfahrt Weser
DESCRIPTION:
URL:https://drv1880.de/event/wanderfahrt-weser/
CATEGORIES:Wanderfahrt
END:VEVENT
BEGIN:VEVENT
DTSTART;TZID=Europe/Berlin:20260811T180000
DTEND;TZID=Europe/Berlin:20260811T210000
DTSTAMP:20260423T162851
CREATED:20260113T200112Z
LAST-MODIFIED:20260113T200112Z
UID:108675-1786471200-1786482000@drv1880.de
SUMMARY:Vereinsabend
DESCRIPTION:Gemütliches Beisammensein mit wöchentlich wechselndem Speisenangebot.
URL:https://drv1880.de/event/vereinsabend-158/
CATEGORIES:Vereinsabend
END:VEVENT
BEGIN:VEVENT
DTSTART;VALUE=DATE:20260812
DTEND;VALUE=DATE:20260817
DTSTAMP:20260423T162851
CREATED:20250905T130713Z
LAST-MODIFIED:20250905T130713Z
UID:108232-1786492800-1786924799@drv1880.de
SUMMARY:Kutter
DESCRIPTION:
URL:https://drv1880.de/event/kutter/
CATEGORIES:DINO,Fuhrpark
END:VEVENT
BEGIN:VEVENT
DTSTART;VALUE=DATE:20260812
DTEND;VALUE=DATE:20260817
DTSTAMP:20260423T162851
CREATED:20250905T130823Z
LAST-MODIFIED:20250905T130823Z
UID:108234-1786492800-1786924799@drv1880.de
SUMMARY:Kutter
DESCRIPTION:
URL:https://drv1880.de/event/kutter-2/
CATEGORIES:Fuhrpark,kleiner Anhänger
END:VEVENT
BEGIN:VEVENT
DTSTART;TZID=Europe/Berlin:20260818T180000
DTEND;TZID=Europe/Berlin:20260818T210000
DTSTAMP:20260423T162851
CREATED:20260113T200113Z
LAST-MODIFIED:20260113T200113Z
UID:108676-1787076000-1787086800@drv1880.de
SUMMARY:Vereinsabend
DESCRIPTION:Gemütliches Beisammensein mit wöchentlich wechselndem Speisenangebot.
URL:https://drv1880.de/event/vereinsabend-159/
CATEGORIES:Vereinsabend
END:VEVENT
BEGIN:VEVENT
DTSTART;VALUE=DATE:20260820
DTEND;VALUE=DATE:20260825
DTSTAMP:20260423T162851
CREATED:20251112T102442Z
LAST-MODIFIED:20251112T121104Z
UID:108452-1787184000-1787615999@drv1880.de
SUMMARY:Mosel Anfängerwanderfahrt\, Weissmann
DESCRIPTION:
URL:https://drv1880.de/event/mosel-anfaengerwanderfahrt-weissmann/
CATEGORIES:Fuhrpark,großer Anhänger
END:VEVENT
BEGIN:VEVENT
DTSTART;VALUE=DATE:20260820
DTEND;VALUE=DATE:20260825
DTSTAMP:20260423T162851
CREATED:20251112T121213Z
LAST-MODIFIED:20251112T121213Z
UID:108456-1787184000-1787615999@drv1880.de
SUMMARY:Mosel Anfängerwanderfahrt\, Weissmann
DESCRIPTION:
URL:https://drv1880.de/event/mosel-anfaengerwanderfahrt-weissmann-3/
CATEGORIES:DINO,Fuhrpark
END:VEVENT
BEGIN:VEVENT
DTSTART;VALUE=DATE:20260821
DTEND;VALUE=DATE:20260824
DTSTAMP:20260423T162851
CREATED:20260110T131216Z
LAST-MODIFIED:20260113T183716Z
UID:108615-1787270400-1787529599@drv1880.de
SUMMARY:Anfänger-Wanderfahrt Mosel
DESCRIPTION:
URL:https://drv1880.de/event/anfaenger-wanderfahrt-mosel/
CATEGORIES:Anfänger,Wanderfahrt
END:VEVENT
BEGIN:VEVENT
DTSTART;TZID=Europe/Berlin:20260825T180000
DTEND;TZID=Europe/Berlin:20260825T210000
DTSTAMP:20260423T162851
CREATED:20260113T200115Z
LAST-MODIFIED:20260113T200115Z
UID:108677-1787680800-1787691600@drv1880.de
SUMMARY:Vereinsabend
DESCRIPTION:Gemütliches Beisammensein mit wöchentlich wechselndem Speisenangebot.
URL:https://drv1880.de/event/vereinsabend-160/
CATEGORIES:Vereinsabend
END:VEVENT
END:VCALENDAR