BEGIN:VCALENDAR
VERSION:2.0
PRODID:-//DRV1880 - ECPv6.15.20//NONSGML v1.0//EN
CALSCALE:GREGORIAN
METHOD:PUBLISH
X-ORIGINAL-URL:https://drv1880.de
X-WR-CALDESC:Veranstaltungen für DRV1880
REFRESH-INTERVAL;VALUE=DURATION:PT1H
X-Robots-Tag:noindex
X-PUBLISHED-TTL:PT1H
BEGIN:VTIMEZONE
TZID:Europe/Berlin
BEGIN:DAYLIGHT
TZOFFSETFROM:+0100
TZOFFSETTO:+0200
TZNAME:CEST
DTSTART:20250330T010000
END:DAYLIGHT
BEGIN:STANDARD
TZOFFSETFROM:+0200
TZOFFSETTO:+0100
TZNAME:CET
DTSTART:20251026T010000
END:STANDARD
BEGIN:DAYLIGHT
TZOFFSETFROM:+0100
TZOFFSETTO:+0200
TZNAME:CEST
DTSTART:20260329T010000
END:DAYLIGHT
BEGIN:STANDARD
TZOFFSETFROM:+0200
TZOFFSETTO:+0100
TZNAME:CET
DTSTART:20261025T010000
END:STANDARD
BEGIN:DAYLIGHT
TZOFFSETFROM:+0100
TZOFFSETTO:+0200
TZNAME:CEST
DTSTART:20270328T010000
END:DAYLIGHT
BEGIN:STANDARD
TZOFFSETFROM:+0200
TZOFFSETTO:+0100
TZNAME:CET
DTSTART:20271031T010000
END:STANDARD
END:VTIMEZONE
BEGIN:VEVENT
DTSTART;TZID=Europe/Berlin:20260825T180000
DTEND;TZID=Europe/Berlin:20260825T210000
DTSTAMP:20260421T213630
CREATED:20260113T200115Z
LAST-MODIFIED:20260113T200115Z
UID:108677-1787680800-1787691600@drv1880.de
SUMMARY:Vereinsabend
DESCRIPTION:Gemütliches Beisammensein mit wöchentlich wechselndem Speisenangebot.
URL:https://drv1880.de/event/vereinsabend-160/
CATEGORIES:Vereinsabend
END:VEVENT
BEGIN:VEVENT
DTSTART;TZID=Europe/Berlin:20260901T180000
DTEND;TZID=Europe/Berlin:20260901T210000
DTSTAMP:20260421T213630
CREATED:20260113T200121Z
LAST-MODIFIED:20260113T200121Z
UID:108678-1788285600-1788296400@drv1880.de
SUMMARY:Vereinsabend
DESCRIPTION:Gemütliches Beisammensein mit wöchentlich wechselndem Speisenangebot.
URL:https://drv1880.de/event/vereinsabend-161/
CATEGORIES:Vereinsabend
END:VEVENT
BEGIN:VEVENT
DTSTART;TZID=Europe/Berlin:20260908T180000
DTEND;TZID=Europe/Berlin:20260908T210000
DTSTAMP:20260421T213630
CREATED:20260113T200122Z
LAST-MODIFIED:20260113T200122Z
UID:108679-1788890400-1788901200@drv1880.de
SUMMARY:Vereinsabend
DESCRIPTION:Gemütliches Beisammensein mit wöchentlich wechselndem Speisenangebot.
URL:https://drv1880.de/event/vereinsabend-162/
CATEGORIES:Vereinsabend
END:VEVENT
BEGIN:VEVENT
DTSTART;TZID=Europe/Berlin:20260915T180000
DTEND;TZID=Europe/Berlin:20260915T210000
DTSTAMP:20260421T213630
CREATED:20260113T200124Z
LAST-MODIFIED:20260113T200124Z
UID:108680-1789495200-1789506000@drv1880.de
SUMMARY:Vereinsabend
DESCRIPTION:Gemütliches Beisammensein mit wöchentlich wechselndem Speisenangebot.
URL:https://drv1880.de/event/vereinsabend-163/
CATEGORIES:Vereinsabend
END:VEVENT
BEGIN:VEVENT
DTSTART;VALUE=DATE:20260918
DTEND;VALUE=DATE:20260921
DTSTAMP:20260421T213630
CREATED:20260303T081814Z
LAST-MODIFIED:20260303T081814Z
UID:108724-1789689600-1789948799@drv1880.de
SUMMARY:Boehle
DESCRIPTION:
URL:https://drv1880.de/event/boehle-20/
CATEGORIES:Fuhrpark,großer Anhänger
END:VEVENT
BEGIN:VEVENT
DTSTART;VALUE=DATE:20260918
DTEND;VALUE=DATE:20260921
DTSTAMP:20260421T213630
CREATED:20260303T082041Z
LAST-MODIFIED:20260303T082041Z
UID:108726-1789689600-1789948799@drv1880.de
SUMMARY:Boehle
DESCRIPTION:
URL:https://drv1880.de/event/boehle-21/
CATEGORIES:DINO,Fuhrpark
END:VEVENT
BEGIN:VEVENT
DTSTART;VALUE=DATE:20260919
DTEND;VALUE=DATE:20260920
DTSTAMP:20260421T213630
CREATED:20260110T131309Z
LAST-MODIFIED:20260113T183659Z
UID:108617-1789776000-1789862399@drv1880.de
SUMMARY:Hausputz
DESCRIPTION:
URL:https://drv1880.de/event/hausputz-7/
LOCATION:Bootshaus\, Düsseldorf\, 40239
CATEGORIES:Event
END:VEVENT
BEGIN:VEVENT
DTSTART;TZID=Europe/Berlin:20260922T180000
DTEND;TZID=Europe/Berlin:20260922T210000
DTSTAMP:20260421T213630
CREATED:20260113T200125Z
LAST-MODIFIED:20260113T200125Z
UID:108681-1790100000-1790110800@drv1880.de
SUMMARY:Vereinsabend
DESCRIPTION:Gemütliches Beisammensein mit wöchentlich wechselndem Speisenangebot.
URL:https://drv1880.de/event/vereinsabend-164/
CATEGORIES:Vereinsabend
END:VEVENT
BEGIN:VEVENT
DTSTART;VALUE=DATE:20260923
DTEND;VALUE=DATE:20260930
DTSTAMP:20260421T213630
CREATED:20260215T182521Z
LAST-MODIFIED:20260215T182521Z
UID:108707-1790121600-1790726399@drv1880.de
SUMMARY:Lahn
DESCRIPTION:
URL:https://drv1880.de/event/lahn/
CATEGORIES:DINO,Fuhrpark
END:VEVENT
BEGIN:VEVENT
DTSTART;VALUE=DATE:20260923
DTEND;VALUE=DATE:20260930
DTSTAMP:20260421T213630
CREATED:20260215T182558Z
LAST-MODIFIED:20260215T182558Z
UID:108709-1790121600-1790726399@drv1880.de
SUMMARY:Lahn
DESCRIPTION:
URL:https://drv1880.de/event/lahn-2/
CATEGORIES:Fuhrpark,großer Anhänger
END:VEVENT
BEGIN:VEVENT
DTSTART;VALUE=DATE:20260924
DTEND;VALUE=DATE:20260928
DTSTAMP:20260421T213630
CREATED:20260110T131439Z
LAST-MODIFIED:20260113T183634Z
UID:108619-1790208000-1790553599@drv1880.de
SUMMARY:Wanderfahrt Lahn
DESCRIPTION:
URL:https://drv1880.de/event/wanderfahrt-lahn/
CATEGORIES:Wanderfahrt
END:VEVENT
BEGIN:VEVENT
DTSTART;TZID=Europe/Berlin:20260929T180000
DTEND;TZID=Europe/Berlin:20260929T210000
DTSTAMP:20260421T213630
CREATED:20260113T200127Z
LAST-MODIFIED:20260113T200127Z
UID:108682-1790704800-1790715600@drv1880.de
SUMMARY:Vereinsabend
DESCRIPTION:Gemütliches Beisammensein mit wöchentlich wechselndem Speisenangebot.
URL:https://drv1880.de/event/vereinsabend-165/
CATEGORIES:Vereinsabend
END:VEVENT
BEGIN:VEVENT
DTSTART;VALUE=DATE:20261003
DTEND;VALUE=DATE:20261004
DTSTAMP:20260421T213630
CREATED:20260110T131540Z
LAST-MODIFIED:20260113T183609Z
UID:108623-1790985600-1791071999@drv1880.de
SUMMARY:55. Düsseldorfer Marathonrudern
DESCRIPTION:
URL:https://drv1880.de/event/55-duesseldorfer-marathonrudern/
CATEGORIES:Event
END:VEVENT
BEGIN:VEVENT
DTSTART;TZID=Europe/Berlin:20261006T180000
DTEND;TZID=Europe/Berlin:20261006T210000
DTSTAMP:20260421T213630
CREATED:20260113T200248Z
LAST-MODIFIED:20260113T200248Z
UID:108683-1791309600-1791320400@drv1880.de
SUMMARY:Vereinsabend
DESCRIPTION:Gemütliches Beisammensein mit wöchentlich wechselndem Speisenangebot.
URL:https://drv1880.de/event/vereinsabend-166/
CATEGORIES:Vereinsabend
END:VEVENT
BEGIN:VEVENT
DTSTART;TZID=Europe/Berlin:20261013T180000
DTEND;TZID=Europe/Berlin:20261013T210000
DTSTAMP:20260421T213630
CREATED:20260113T200250Z
LAST-MODIFIED:20260113T200250Z
UID:108684-1791914400-1791925200@drv1880.de
SUMMARY:Vereinsabend
DESCRIPTION:Gemütliches Beisammensein mit wöchentlich wechselndem Speisenangebot.
URL:https://drv1880.de/event/vereinsabend-167/
CATEGORIES:Vereinsabend
END:VEVENT
BEGIN:VEVENT
DTSTART;TZID=Europe/Berlin:20261020T180000
DTEND;TZID=Europe/Berlin:20261020T210000
DTSTAMP:20260421T213630
CREATED:20260113T200251Z
LAST-MODIFIED:20260113T200251Z
UID:108685-1792519200-1792530000@drv1880.de
SUMMARY:Vereinsabend
DESCRIPTION:Gemütliches Beisammensein mit wöchentlich wechselndem Speisenangebot.
URL:https://drv1880.de/event/vereinsabend-168/
CATEGORIES:Vereinsabend
END:VEVENT
BEGIN:VEVENT
DTSTART;TZID=Europe/Berlin:20261027T180000
DTEND;TZID=Europe/Berlin:20261027T210000
DTSTAMP:20260421T213630
CREATED:20260113T200253Z
LAST-MODIFIED:20260113T200253Z
UID:108686-1793124000-1793134800@drv1880.de
SUMMARY:Vereinsabend
DESCRIPTION:Gemütliches Beisammensein mit wöchentlich wechselndem Speisenangebot.
URL:https://drv1880.de/event/vereinsabend-169/
CATEGORIES:Vereinsabend
END:VEVENT
BEGIN:VEVENT
DTSTART;VALUE=DATE:20261101
DTEND;VALUE=DATE:20261102
DTSTAMP:20260421T213630
CREATED:20260110T131641Z
LAST-MODIFIED:20260110T131641Z
UID:108626-1793491200-1793577599@drv1880.de
SUMMARY:Abrudern
DESCRIPTION:
URL:https://drv1880.de/event/abrudern-2/
LOCATION:Bootshaus\, Düsseldorf\, 40239
END:VEVENT
BEGIN:VEVENT
DTSTART;TZID=Europe/Berlin:20261103T180000
DTEND;TZID=Europe/Berlin:20261103T210000
DTSTAMP:20260421T213630
CREATED:20260113T200255Z
LAST-MODIFIED:20260113T200255Z
UID:108687-1793728800-1793739600@drv1880.de
SUMMARY:Vereinsabend
DESCRIPTION:Gemütliches Beisammensein mit wöchentlich wechselndem Speisenangebot.
URL:https://drv1880.de/event/vereinsabend-170/
CATEGORIES:Vereinsabend
END:VEVENT
BEGIN:VEVENT
DTSTART;TZID=Europe/Berlin:20261105T180000
DTEND;TZID=Europe/Berlin:20261105T220000
DTSTAMP:20260421T213630
CREATED:20260110T131739Z
LAST-MODIFIED:20260110T131739Z
UID:108628-1793901600-1793916000@drv1880.de
SUMMARY:Erweiterte Vorstandssitzung
DESCRIPTION:
URL:https://drv1880.de/event/erweiterte-vorstandssitzung-4/
LOCATION:Bootshaus\, Düsseldorf\, 40239
END:VEVENT
BEGIN:VEVENT
DTSTART;TZID=Europe/Berlin:20261110T180000
DTEND;TZID=Europe/Berlin:20261110T210000
DTSTAMP:20260421T213630
CREATED:20260113T200310Z
LAST-MODIFIED:20260113T200310Z
UID:108688-1794333600-1794344400@drv1880.de
SUMMARY:Vereinsabend
DESCRIPTION:Gemütliches Beisammensein mit wöchentlich wechselndem Speisenangebot.
URL:https://drv1880.de/event/vereinsabend-171/
CATEGORIES:Vereinsabend
END:VEVENT
BEGIN:VEVENT
DTSTART;TZID=Europe/Berlin:20261113T180000
DTEND;TZID=Europe/Berlin:20261113T220000
DTSTAMP:20260421T213630
CREATED:20260110T131835Z
LAST-MODIFIED:20260110T131835Z
UID:108631-1794592800-1794607200@drv1880.de
SUMMARY:Damenabend
DESCRIPTION:
URL:https://drv1880.de/event/damenabend-2/
LOCATION:Ökonomie DRV
END:VEVENT
BEGIN:VEVENT
DTSTART;TZID=Europe/Berlin:20261120T180000
DTEND;TZID=Europe/Berlin:20261120T220000
DTSTAMP:20260421T213630
CREATED:20260110T131920Z
LAST-MODIFIED:20260110T133545Z
UID:108633-1795197600-1795212000@drv1880.de
SUMMARY:Herrenabend
DESCRIPTION:
URL:https://drv1880.de/event/herrenabend-2/
LOCATION:Ökonomie DRV
CATEGORIES:Event
END:VEVENT
BEGIN:VEVENT
DTSTART;TZID=Europe/Berlin:20261127T180000
DTEND;TZID=Europe/Berlin:20261127T220000
DTSTAMP:20260421T213630
CREATED:20260110T132023Z
LAST-MODIFIED:20260110T133532Z
UID:108635-1795802400-1795816800@drv1880.de
SUMMARY:Jahresrückblick
DESCRIPTION:
URL:https://drv1880.de/event/jahresrueckblick-2/
LOCATION:Ökonomie DRV
CATEGORIES:Event
END:VEVENT
BEGIN:VEVENT
DTSTART;VALUE=DATE:20261205
DTEND;VALUE=DATE:20261206
DTSTAMP:20260421T213630
CREATED:20260110T132134Z
LAST-MODIFIED:20260110T133517Z
UID:108638-1796428800-1796515199@drv1880.de
SUMMARY:Nikolausbasar mit Glühwein-Rudern
DESCRIPTION:
URL:https://drv1880.de/event/nikolausbasar-mit-gluehwein-rudern/
LOCATION:Bootshaus\, Düsseldorf\, 40239
CATEGORIES:Event
END:VEVENT
BEGIN:VEVENT
DTSTART;VALUE=DATE:20261206
DTEND;VALUE=DATE:20261207
DTSTAMP:20260421T213630
CREATED:20260110T132207Z
LAST-MODIFIED:20260113T183413Z
UID:108641-1796515200-1796601599@drv1880.de
SUMMARY:Nikolaus-Regatta Kettwig
DESCRIPTION:
URL:https://drv1880.de/event/nikolaus-regatta-kettwig/
CATEGORIES:Event extern,Fuhrpark
END:VEVENT
BEGIN:VEVENT
DTSTART;VALUE=DATE:20261208
DTEND;VALUE=DATE:20261209
DTSTAMP:20260421T213630
CREATED:20260110T132239Z
LAST-MODIFIED:20260110T133428Z
UID:108643-1796688000-1796774399@drv1880.de
SUMMARY:Schrottwichteln
DESCRIPTION:
URL:https://drv1880.de/event/schrottwichteln/
LOCATION:Ökonomie DRV
CATEGORIES:Event
END:VEVENT
END:VCALENDAR